BEGIN:VCALENDAR
VERSION:2.0
PRODID:-//Richmond Symphony - ECPv6.15.1//NONSGML v1.0//EN
CALSCALE:GREGORIAN
METHOD:PUBLISH
X-WR-CALNAME:Richmond Symphony
X-ORIGINAL-URL:https://www.richmondsymphony.com
X-WR-CALDESC:Events for Richmond Symphony
REFRESH-INTERVAL;VALUE=DURATION:PT1H
X-Robots-Tag:noindex
X-PUBLISHED-TTL:PT1H
BEGIN:VTIMEZONE
TZID:America/New_York
BEGIN:DAYLIGHT
TZOFFSETFROM:-0500
TZOFFSETTO:-0400
TZNAME:EDT
DTSTART:20150308T070000
END:DAYLIGHT
BEGIN:STANDARD
TZOFFSETFROM:-0400
TZOFFSETTO:-0500
TZNAME:EST
DTSTART:20151101T060000
END:STANDARD
END:VTIMEZONE
BEGIN:VEVENT
DTSTART;TZID=America/New_York:20150503T150000
DTEND;TZID=America/New_York:20150503T170000
DTSTAMP:20260419T213124
CREATED:20150202T192249Z
LAST-MODIFIED:20150430T182447Z
UID:944-1430665200-1430672400@www.richmondsymphony.com
SUMMARY:Ginastera: Harp Concerto
DESCRIPTION:Join us at Randolph-Macon College for intimate\, chamber orchestra concerts that allow you to get up close and personal with the musicians of the Richmond Symphony. The Amtrak Metro Collection includes four Sunday afternoon concerts at Blackwell Auditorium at Randolph-Macon College in Ashland. This series features free pre-concert talks at the Dollar Tree Room in Brock Commons one hour before the concert. \nLearn more about Lynette Wardle \nProgram Notes:\nOverture to L’italiana in Algeri\nConcerto for Harp and Orchestra\nSuite No 1 from El sombrero de tres picos “The Three Cornered Hat”\nSymphony in D \n 
URL:https://www.richmondsymphony.com/event/ginastera-harp-concerto/
LOCATION:Blackwell Auditorium at Randolph-Macon College\, 	204 Henry Street\, Ashland\, VA\, 23005\, United States
CATEGORIES:Metro Series
END:VEVENT
BEGIN:VEVENT
DTSTART;TZID=America/New_York:20150509T200000
DTEND;TZID=America/New_York:20150509T220000
DTSTAMP:20260419T213124
CREATED:20150202T193029Z
LAST-MODIFIED:20150430T185724Z
UID:946-1431201600-1431208800@www.richmondsymphony.com
SUMMARY:Bernstein: Chichester Psalms
DESCRIPTION:Discover the power of live music with our Altria Masterworks series. Featuring orchestral classics and contemporary composers\, this series will inspire you. All concerts are held at the Carpenter Theatre at Richmond CenterStage. \nJoin us an hour before each concert for a free pre-concert talk with the RSO Music Director\, Steven Smith. These talks often feature guest artists and conductors and provide you with insights for the concert you are about to hear. \nLearn more about Jack Rigdon\, boy soprano \nLearn more about the Richmond Symphony Chorus \nProgram Notes:\n“Polovtsian Dances” from Prince Igor\nChichester Psalms\nSymphony No. 5 in B-flat Major\, Opus 100
URL:https://www.richmondsymphony.com/event/bernstein-chichester-psalms/
LOCATION:Carpenter Theatre\, 612 East Grace Street\, Richmond \, VA\, 23219\, United States
CATEGORIES:Masterworks Series
ATTACH;FMTTYPE=image/jpeg:https://www.richmondsymphony.com/wp-content/uploads/2015/02/BernsteinChichester.jpg
GEO:37.5415432;-77.43695
X-APPLE-STRUCTURED-LOCATION;VALUE=URI;X-ADDRESS=Carpenter Theatre 612 East Grace Street Richmond  VA 23219 United States;X-APPLE-RADIUS=500;X-TITLE=612 East Grace Street:geo:-77.43695,37.5415432
END:VEVENT
BEGIN:VEVENT
DTSTART;TZID=America/New_York:20150510T150000
DTEND;TZID=America/New_York:20150510T170000
DTSTAMP:20260419T213124
CREATED:20150202T193415Z
LAST-MODIFIED:20150430T185938Z
UID:948-1431270000-1431277200@www.richmondsymphony.com
SUMMARY:Bernstein: Chichester Psalms
DESCRIPTION:Discover the power of live music with our Altria Masterworks series. Featuring orchestral classics and contemporary composers\, this series will inspire you. All concerts are held at the Carpenter Theatre at Richmond CenterStage. \nJoin us an hour before each concert for a free pre-concert talk with the RSO Music Director\, Steven Smith. These talks often feature guest artists and conductors and provide you with insights for the concert you are about to hear. \nLearn more about Jack Rigdon\, boy soprano \nLearn more about the Richmond Symphony Chorus \nProgram Notes:\n“Polovtsian Dances” from Prince Igor\nChichester Psalms\nSymphony No. 5 in B-flat Major\, Opus 100
URL:https://www.richmondsymphony.com/event/bernstein-chichester-psalms-2/
LOCATION:Carpenter Theatre\, 612 East Grace Street\, Richmond \, VA\, 23219\, United States
CATEGORIES:Masterworks Series
ATTACH;FMTTYPE=image/jpeg:https://www.richmondsymphony.com/wp-content/uploads/2015/02/BernsteinChichester.jpg
GEO:37.5415432;-77.43695
X-APPLE-STRUCTURED-LOCATION;VALUE=URI;X-ADDRESS=Carpenter Theatre 612 East Grace Street Richmond  VA 23219 United States;X-APPLE-RADIUS=500;X-TITLE=612 East Grace Street:geo:-77.43695,37.5415432
END:VEVENT
END:VCALENDAR