BEGIN:VCALENDAR
VERSION:2.0
PRODID:-//Richmond Symphony - ECPv6.15.1//NONSGML v1.0//EN
CALSCALE:GREGORIAN
METHOD:PUBLISH
X-WR-CALNAME:Richmond Symphony
X-ORIGINAL-URL:https://www.richmondsymphony.com
X-WR-CALDESC:Events for Richmond Symphony
REFRESH-INTERVAL;VALUE=DURATION:PT1H
X-Robots-Tag:noindex
X-PUBLISHED-TTL:PT1H
BEGIN:VTIMEZONE
TZID:America/New_York
BEGIN:DAYLIGHT
TZOFFSETFROM:-0500
TZOFFSETTO:-0400
TZNAME:EDT
DTSTART:20180311T070000
END:DAYLIGHT
BEGIN:STANDARD
TZOFFSETFROM:-0400
TZOFFSETTO:-0500
TZNAME:EST
DTSTART:20181104T060000
END:STANDARD
END:VTIMEZONE
BEGIN:VEVENT
DTSTART;TZID=America/New_York:20180121T150000
DTEND;TZID=America/New_York:20180121T170000
DTSTAMP:20260424T212931
CREATED:20170207T172117Z
LAST-MODIFIED:20171005T141329Z
UID:7789-1516546800-1516554000@www.richmondsymphony.com
SUMMARY:Metro Collection 2
DESCRIPTION:Join us at Randolph-Macon College for intimate\, chamber orchestra concerts that allow you to get up close and personal with the musicians of the Richmond Symphony. The series takes place at Blackwell Auditorium at Randolph-Macon College in Ashland and features free pre-concert talks at the Dollar Tree Room in Brock Commons one hour before the concert. \nLearn more about Steven Smith\, conductor\nLearn more about Zachary Guiles\, trombone \nProgram Notes \n 
URL:https://www.richmondsymphony.com/event/metro-collection-2/2018-01-21/
LOCATION:Blackwell Auditorium at Randolph-Macon College\, 	204 Henry Street\, Ashland\, VA\, 23005\, United States
CATEGORIES:Metro Series
ATTACH;FMTTYPE=image/jpeg:https://www.richmondsymphony.com/wp-content/uploads/2017/02/Guiles-Zachary-photo-e1486133260210.jpg
END:VEVENT
END:VCALENDAR