BEGIN:VCALENDAR
VERSION:2.0
PRODID:-//Richmond Symphony - ECPv6.15.1//NONSGML v1.0//EN
CALSCALE:GREGORIAN
METHOD:PUBLISH
X-WR-CALNAME:Richmond Symphony
X-ORIGINAL-URL:https://www.richmondsymphony.com
X-WR-CALDESC:Events for Richmond Symphony
REFRESH-INTERVAL;VALUE=DURATION:PT1H
X-Robots-Tag:noindex
X-PUBLISHED-TTL:PT1H
BEGIN:VTIMEZONE
TZID:America/New_York
BEGIN:DAYLIGHT
TZOFFSETFROM:-0500
TZOFFSETTO:-0400
TZNAME:EDT
DTSTART:20190310T070000
END:DAYLIGHT
BEGIN:STANDARD
TZOFFSETFROM:-0400
TZOFFSETTO:-0500
TZNAME:EST
DTSTART:20191103T060000
END:STANDARD
END:VTIMEZONE
BEGIN:VEVENT
DTSTART;TZID=America/New_York:20190428T150000
DTEND;TZID=America/New_York:20190428T170000
DTSTAMP:20260423T172847
CREATED:20180126T174553Z
LAST-MODIFIED:20190103T182657Z
UID:11105-1556463600-1556470800@www.richmondsymphony.com
SUMMARY:Metro Collection 4
DESCRIPTION:The Metro Collection offers audiences fantastic classical music in an intimate setting. Concerts feature smaller scale works from the classical repertoire and newer pieces by contemporary composers. This performance will feature David Lemelin\, clarinet. \nWith works like Music for the Theatre\, Aaron Copland paved the way for a truly American “classical” music. In the piece\, you can hear the budding nationalism that comes to fruition in Copland’s later works. For the national element Copland turned to jazz\, “I was preoccupied with the idea of adding to the great history of serious music something with an American accent\, and jazz seemed to be a comparatively simple way of introducing the American note in an authentic way . . . It was an easy way to be an American.” \nSchubert began work on his Symphony in C Major when he was only nineteen. The music of Gioacchino Rossini was currently the rage in Vienna and it seems that Schubert modeled much of this symphony on the light-hearted and almost facile style of that Italian composer. The slow introduction to the first movement begins dramatically enough\, but soon melts into pure melody. The flutes introduce the main body of the movement with a jaunty little melody and from then on\, it is all good-hearted mirth. The slower second movement is as melodic as an operatic aria\, and the third movement is a lilting romp. The last movement is a succession of light-hearted tunes in contrasting tempos that eventually give way to a dramatic conclusion. \nWhen Louis Spohr wrote his first concerto for clarinet\, the instrument had only five keys\, compared to the seventeen of a modern clarinet. He confessed that he really didn’t know what he was doing. Aside from the obvious virtuosic aspects of Spohr’s Clarinet Concerto No. 1\, the piece contains some unusual elements. It is in a minor key\, and the orchestra plays a slow introduction before fingerwork begins. The slow movement confines the accompaniment to just violins and cellos. In spite of the minor key\, the third movement has a jaunty quality to it. Instead of ending with a technical flourish\, there is a surprising and sudden fade to nothing. \nLearn more about David Lemelin\, Clarinet. \nLearn more about Chia-Hsuan Lin\, Conductor. \nProgram Notes \n  \n  \nMedia Sponsor \nConcert Sponsor: \nMr. Ralph R. Crosby\, Jr. \n  \n 
URL:https://www.richmondsymphony.com/event/metro-collection-4-2/2019-04-28/
LOCATION:Blackwell Auditorium at Randolph-Macon College\, 	204 Henry Street\, Ashland\, VA\, 23005\, United States
CATEGORIES:Metro Series
ATTACH;FMTTYPE=image/jpeg:https://www.richmondsymphony.com/wp-content/uploads/2018/01/David-Lemelin-Metro-4-1819.jpg
END:VEVENT
END:VCALENDAR