BEGIN:VCALENDAR
VERSION:2.0
PRODID:-//Richmond Symphony - ECPv6.15.1//NONSGML v1.0//EN
CALSCALE:GREGORIAN
METHOD:PUBLISH
X-WR-CALNAME:Richmond Symphony
X-ORIGINAL-URL:https://www.richmondsymphony.com
X-WR-CALDESC:Events for Richmond Symphony
REFRESH-INTERVAL;VALUE=DURATION:PT1H
X-Robots-Tag:noindex
X-PUBLISHED-TTL:PT1H
BEGIN:VTIMEZONE
TZID:America/New_York
BEGIN:DAYLIGHT
TZOFFSETFROM:-0500
TZOFFSETTO:-0400
TZNAME:EDT
DTSTART:20190310T070000
END:DAYLIGHT
BEGIN:STANDARD
TZOFFSETFROM:-0400
TZOFFSETTO:-0500
TZNAME:EST
DTSTART:20191103T060000
END:STANDARD
END:VTIMEZONE
BEGIN:VEVENT
DTSTART;TZID=America/New_York:20191020T150000
DTEND;TZID=America/New_York:20191020T170000
DTSTAMP:20260423T072758
CREATED:20190207T211022Z
LAST-MODIFIED:20200424T165709Z
UID:15514-1571583600-1571590800@www.richmondsymphony.com
SUMMARY:Metro 1
DESCRIPTION:Welcome our first Music Director Candidate\, Roderick Cox\, as he leads small-ensemble favorites in an intimate setting at Randolph-Macon College in Ashland. The program includes Copland’s Clarinet Concerto\, featuring the Richmond Symphony’s own David Lemelin; Dvořák’s Serenade in D Minor\, Opus 44\, for winds\, cello and double-bass; and Mozart’s beloved Symphony No. 39 in E-flat Major\, K. 543. \nExperience the majesty of the orchestral experience through symphonic masterpieces\, contemporary works\, and chamber concerts in traditional concert settings.  Whether enjoying the mainstays of the orchestra repertoire\, modern works for the full orchestra or chamber settings\, Richmond Symphony Classics offer everything you expect from a symphony orchestra. \n  \nLearn more about Roderick Cox\, Conductor.\nLearn more about David Lemelin\, Clarinet. \nProgram Notes \nSpecial thanks to our media sponsor:
URL:https://www.richmondsymphony.com/event/metro-1/
LOCATION:Blackwell Auditorium at Randolph-Macon College\, 	204 Henry Street\, Ashland\, VA\, 23005\, United States
CATEGORIES:Concerts & Events,Metro Series
ATTACH;FMTTYPE=image/jpeg:https://www.richmondsymphony.com/wp-content/uploads/2019/08/roderick_-20-Credit-Josh-Kohanek.jpg
END:VEVENT
END:VCALENDAR