BEGIN:VCALENDAR
VERSION:2.0
PRODID:-//Richmond Symphony - ECPv6.15.1//NONSGML v1.0//EN
CALSCALE:GREGORIAN
METHOD:PUBLISH
X-ORIGINAL-URL:https://www.richmondsymphony.com
X-WR-CALDESC:Events for Richmond Symphony
REFRESH-INTERVAL;VALUE=DURATION:PT1H
X-Robots-Tag:noindex
X-PUBLISHED-TTL:PT1H
BEGIN:VTIMEZONE
TZID:America/New_York
BEGIN:DAYLIGHT
TZOFFSETFROM:-0500
TZOFFSETTO:-0400
TZNAME:EDT
DTSTART:20190310T070000
END:DAYLIGHT
BEGIN:STANDARD
TZOFFSETFROM:-0400
TZOFFSETTO:-0500
TZNAME:EST
DTSTART:20191103T060000
END:STANDARD
END:VTIMEZONE
BEGIN:VEVENT
DTSTART;TZID=America/New_York:20191110T150000
DTEND;TZID=America/New_York:20191110T170000
DTSTAMP:20260423T060203
CREATED:20190207T210805Z
LAST-MODIFIED:20200424T165609Z
UID:15519-1573398000-1573405200@www.richmondsymphony.com
SUMMARY:Metro 2
DESCRIPTION:Experience the intimate musical setting at Randolph-Macon College\, as Associate Conductor Chia-Hsuan Lin leads the Richmond Symphony in small-ensemble favorites. The program will feature the Symphony’s own Neal Cary on Schumann’s Cello Concerto in A minor\, Op. 129\, in addition to beloved works by Mozart\, Elgar\, and Beethoven. \nJoin us at 2pm for a free pre-concert talk at Brock Commons! \nLearn more about Chia-Hsuan Lin\, Conductor.\nLearn more about Neal Cary\, Cello. \nProgram Notes \nSpecial thanks to our media sponsor:
URL:https://www.richmondsymphony.com/event/metro-2/
LOCATION:Blackwell Auditorium at Randolph-Macon College\, 	204 Henry Street\, Ashland\, VA\, 23005\, United States
CATEGORIES:Concerts & Events,Metro Series
ATTACH;FMTTYPE=image/png:https://www.richmondsymphony.com/wp-content/uploads/2019/02/Chia-Hsuan-Lin-Feature-Image.png
END:VEVENT
END:VCALENDAR