BEGIN:VCALENDAR
VERSION:2.0
PRODID:-//Richmond Symphony - ECPv6.15.1//NONSGML v1.0//EN
CALSCALE:GREGORIAN
METHOD:PUBLISH
X-ORIGINAL-URL:https://www.richmondsymphony.com
X-WR-CALDESC:Events for Richmond Symphony
REFRESH-INTERVAL;VALUE=DURATION:PT1H
X-Robots-Tag:noindex
X-PUBLISHED-TTL:PT1H
BEGIN:VTIMEZONE
TZID:America/New_York
BEGIN:DAYLIGHT
TZOFFSETFROM:-0500
TZOFFSETTO:-0400
TZNAME:EDT
DTSTART:20220313T070000
END:DAYLIGHT
BEGIN:STANDARD
TZOFFSETFROM:-0400
TZOFFSETTO:-0500
TZNAME:EST
DTSTART:20221106T060000
END:STANDARD
END:VTIMEZONE
BEGIN:VEVENT
DTSTART;TZID=America/New_York:20220121T193000
DTEND;TZID=America/New_York:20220121T213000
DTSTAMP:20260421T133355
CREATED:20210726T135523Z
LAST-MODIFIED:20220106T161007Z
UID:26344-1642793400-1642800600@www.richmondsymphony.com
SUMMARY:Bach & Schumann
DESCRIPTION:This intimate concert showcases Richmond Symphony’s own Mary Boodell in C. P. E. Bach’s Flute Concerto. Guest Conductor\, Emanuele Andrizzi\, also leads the Orchestra in Stacy Garrop’s celebratory Spectacle of Light and Schumann’s euphoric “Rhenish” Symphony. \nConcert held at the Perkinson Center for the Arts in Chester (https://www.perkinsoncenter.org/)
URL:https://www.richmondsymphony.com/event/bach-schumann/
LOCATION:Perkinson Center for the Arts & Education
CATEGORIES:Metro Series
ATTACH;FMTTYPE=image/jpeg:https://www.richmondsymphony.com/wp-content/uploads/2021/07/Boodell-Mary-photo-e1435241678748.jpeg
END:VEVENT
BEGIN:VEVENT
DTSTART;TZID=America/New_York:20220123T150000
DTEND;TZID=America/New_York:20220123T170000
DTSTAMP:20260421T133355
CREATED:20210726T140339Z
LAST-MODIFIED:20220118T164247Z
UID:26348-1642950000-1642957200@www.richmondsymphony.com
SUMMARY:Bach & Schumann
DESCRIPTION:This intimate concert showcases Richmond Symphony’s own Mary Boodell in C. P. E. Bach’s Flute Concerto. Guest Conductor\, Emanuele Andrizzi\, also leads the Orchestra in Stacy Garrop’s celebratory Spectacle of Light and Schumann’s euphoric “Rhenish” Symphony.
URL:https://www.richmondsymphony.com/event/bach-schumann-2/
LOCATION:Blackwell Auditorium at Randolph-Macon College\, 	204 Henry Street\, Ashland\, VA\, 23005\, United States
CATEGORIES:Metro Series
ATTACH;FMTTYPE=image/jpeg:https://www.richmondsymphony.com/wp-content/uploads/2021/07/Boodell-Mary-photo-e1435241678748.jpeg
END:VEVENT
END:VCALENDAR