BEGIN:VCALENDAR
VERSION:2.0
PRODID:-//Richmond Symphony - ECPv6.15.1//NONSGML v1.0//EN
CALSCALE:GREGORIAN
METHOD:PUBLISH
X-ORIGINAL-URL:https://www.richmondsymphony.com
X-WR-CALDESC:Events for Richmond Symphony
REFRESH-INTERVAL;VALUE=DURATION:PT1H
X-Robots-Tag:noindex
X-PUBLISHED-TTL:PT1H
BEGIN:VTIMEZONE
TZID:America/New_York
BEGIN:DAYLIGHT
TZOFFSETFROM:-0500
TZOFFSETTO:-0400
TZNAME:EDT
DTSTART:20220313T070000
END:DAYLIGHT
BEGIN:STANDARD
TZOFFSETFROM:-0400
TZOFFSETTO:-0500
TZNAME:EST
DTSTART:20221106T060000
END:STANDARD
END:VTIMEZONE
BEGIN:VEVENT
DTSTART;TZID=America/New_York:20220326T193000
DTEND;TZID=America/New_York:20220326T213000
DTSTAMP:20260421T104646
CREATED:20220106T163413Z
LAST-MODIFIED:20220308T155141Z
UID:27238-1648323000-1648330200@www.richmondsymphony.com
SUMMARY:Metro: Mahler's Fourth (Ryan Recital Hall)
DESCRIPTION:Explore Mahler’s tender Fourth Symphony. Music Director Valentina Peleggi conducts this exquisite arrangement for chamber orchestra. in the beautiful new Louis F. Ryan Recital Hall of St. Christopher’s school.
URL:https://www.richmondsymphony.com/event/metro-mahlers-fourth-ryan-recital-hall/
LOCATION:St. Christopher’s School\, 6010 Fergusson Rd\, Richmond\, VA\, 23226\, United States
CATEGORIES:Concerts & Events,Metro Series
ATTACH;FMTTYPE=image/jpeg:https://www.richmondsymphony.com/wp-content/uploads/2021/07/Mahler.jpeg
END:VEVENT
BEGIN:VEVENT
DTSTART;TZID=America/New_York:20220327T150000
DTEND;TZID=America/New_York:20220327T170000
DTSTAMP:20260421T104646
CREATED:20210726T141531Z
LAST-MODIFIED:20220308T155701Z
UID:26350-1648393200-1648400400@www.richmondsymphony.com
SUMMARY:Mahler's Fourth
DESCRIPTION:Explore Mahler’s tender Fourth Symphony. Music Director Valentina Peleggi conducts this exquisite arrangement for chamber orchestra.
URL:https://www.richmondsymphony.com/event/mahlers-fourth/
LOCATION:Randolph-Macon College
CATEGORIES:Metro Series
ATTACH;FMTTYPE=image/jpeg:https://www.richmondsymphony.com/wp-content/uploads/2021/07/Mahler.jpeg
END:VEVENT
END:VCALENDAR