BEGIN:VCALENDAR
VERSION:2.0
PRODID:-//Richmond Symphony - ECPv6.15.1//NONSGML v1.0//EN
CALSCALE:GREGORIAN
METHOD:PUBLISH
X-WR-CALNAME:Richmond Symphony
X-ORIGINAL-URL:https://www.richmondsymphony.com
X-WR-CALDESC:Events for Richmond Symphony
REFRESH-INTERVAL;VALUE=DURATION:PT1H
X-Robots-Tag:noindex
X-PUBLISHED-TTL:PT1H
BEGIN:VTIMEZONE
TZID:America/New_York
BEGIN:DAYLIGHT
TZOFFSETFROM:-0500
TZOFFSETTO:-0400
TZNAME:EDT
DTSTART:20220313T070000
END:DAYLIGHT
BEGIN:STANDARD
TZOFFSETFROM:-0400
TZOFFSETTO:-0500
TZNAME:EST
DTSTART:20221106T060000
END:STANDARD
END:VTIMEZONE
BEGIN:VEVENT
DTSTART;TZID=America/New_York:20220428T193000
DTEND;TZID=America/New_York:20220428T213000
DTSTAMP:20260421T090600
CREATED:20220324T201449Z
LAST-MODIFIED:20220404T204051Z
UID:27606-1651174200-1651181400@www.richmondsymphony.com
SUMMARY:Richmond Symphony Chamber Chorus
DESCRIPTION:The Richmond Symphony Chamber Chorus presents an inspiring concert of silence\, rest\, and resilience. This one hour concert features music of Duke Ellington\, Samuel Barber\, and Caroline Shaw\, and includes the stunning A Silence Haunts Me\, a tribute to Beethoven by Jake Runestad.  Come find peace and solace with the award-winning Richmond Symphony Chamber Chorus in one of Erin Freeman’s final performances.
URL:https://www.richmondsymphony.com/event/richmond-symphony-chamber-chorus-2/
LOCATION:Epiphany Lutheran Church\, 1400 Horsepen Rd.\, Richmond\, VA\, 23226\, United States
CATEGORIES:Concerts & Events,Metro Series
ATTACH;FMTTYPE=image/jpeg:https://www.richmondsymphony.com/wp-content/uploads/2022/03/6N2A4607300dpi-scaled.jpg
END:VEVENT
BEGIN:VEVENT
DTSTART;TZID=America/New_York:20220429T193000
DTEND;TZID=America/New_York:20220429T210000
DTSTAMP:20260421T090600
CREATED:20210726T142059Z
LAST-MODIFIED:20211228T150341Z
UID:26353-1651260600-1651266000@www.richmondsymphony.com
SUMMARY:Mozart & More
DESCRIPTION:The Bassoon Concerto of the 19-year-old Mozart\, featuring Richmond Symphony’s own Thomas Schneider. Nicholas Hersh conducts Anna Clyne’s Sound and Fury and the music that inspired it\, Haydn’s bold and bracing Symphony No. 60 (Il Distratto). Alberto Ginastera’ popular\, Variaciones Concertantes\, rounds out the concert.
URL:https://www.richmondsymphony.com/event/mozart-more-2/
LOCATION:Perkinson Center for the Arts & Education
CATEGORIES:Metro Series
ATTACH;FMTTYPE=image/jpeg:https://www.richmondsymphony.com/wp-content/uploads/2021/07/Portrait_of_Wolfgang_Amadeus_Mozart_at_the_age_of_13_in_Verona_1770-scaled.jpeg
END:VEVENT
END:VCALENDAR