BEGIN:VCALENDAR
VERSION:2.0
PRODID:-//Richmond Symphony - ECPv6.15.1//NONSGML v1.0//EN
CALSCALE:GREGORIAN
METHOD:PUBLISH
X-WR-CALNAME:Richmond Symphony
X-ORIGINAL-URL:https://www.richmondsymphony.com
X-WR-CALDESC:Events for Richmond Symphony
REFRESH-INTERVAL;VALUE=DURATION:PT1H
X-Robots-Tag:noindex
X-PUBLISHED-TTL:PT1H
BEGIN:VTIMEZONE
TZID:America/New_York
BEGIN:DAYLIGHT
TZOFFSETFROM:-0500
TZOFFSETTO:-0400
TZNAME:EDT
DTSTART:20230312T070000
END:DAYLIGHT
BEGIN:STANDARD
TZOFFSETFROM:-0400
TZOFFSETTO:-0500
TZNAME:EST
DTSTART:20231105T060000
END:STANDARD
END:VTIMEZONE
BEGIN:VEVENT
DTSTART;TZID=America/New_York:20231201T193000
DTEND;TZID=America/New_York:20231201T193000
DTSTAMP:20260420T004342
CREATED:20230616T154203Z
LAST-MODIFIED:20251027T162258Z
UID:30023-1701459000-1701459000@www.richmondsymphony.com
SUMMARY:Holiday Brass 2023
DESCRIPTION:Deck the halls – with Holiday Brass! A shimmering celebration of holiday hits for the whole family\, and right in your neighborhood! \nNote: The Perkinson Center offers free parking
URL:https://www.richmondsymphony.com/event/holiday-brass/
LOCATION:Perkinson Center for the Arts & Education
CATEGORIES:Concerts & Events,Currents,Metro Series
ATTACH;FMTTYPE=image/jpeg:https://www.richmondsymphony.com/wp-content/uploads/2023/06/RS_HolidayBrass-scaled.jpg
END:VEVENT
BEGIN:VEVENT
DTSTART;TZID=America/New_York:20231202T193000
DTEND;TZID=America/New_York:20231202T193000
DTSTAMP:20260420T004342
CREATED:20230616T154707Z
LAST-MODIFIED:20251027T162348Z
UID:30026-1701545400-1701545400@www.richmondsymphony.com
SUMMARY:Holiday Brass 2023
DESCRIPTION:Deck the halls – with Holiday Brass! Chia-Hsuan Lin conducts a shimmering celebration of holiday hits for the whole family. \n  \nVENUE:\nLouis F. Ryan Recital Hall\nSt. Christopher’s School\n6010 Fergusson Rd.\nRichmond\, VA 23226\nhttps://www.stchristophers.com/arts/arts-facilities 
URL:https://www.richmondsymphony.com/event/holiday-brass-2/
LOCATION:St. Christopher’s School\, 6010 Fergusson Rd\, Richmond\, VA\, 23226\, United States
CATEGORIES:Concerts & Events,Currents,Metro Series
ATTACH;FMTTYPE=image/jpeg:https://www.richmondsymphony.com/wp-content/uploads/2023/06/RS_HolidayBrass-scaled.jpg
END:VEVENT
BEGIN:VEVENT
DTSTART;TZID=America/New_York:20231203T150000
DTEND;TZID=America/New_York:20231203T150000
DTSTAMP:20260420T004342
CREATED:20230616T155102Z
LAST-MODIFIED:20251027T162847Z
UID:30031-1701615600-1701615600@www.richmondsymphony.com
SUMMARY:Holiday Brass 2023
DESCRIPTION:Deck the halls – with Holiday Brass! Chia-Hsuan Lin conducts a shimmering celebration of holiday hits for the whole family. \n  \nVENUE:\nBlackwell Auditorium\nRandolph-Macon College\n205 Henry Street\nAshland\, VA 23005
URL:https://www.richmondsymphony.com/event/holiday-brass-3/
LOCATION:Blackwell Auditorium at Randolph-Macon College\, 	204 Henry Street\, Ashland\, VA\, 23005\, United States
CATEGORIES:Concerts & Events,Currents,Metro Series
ATTACH;FMTTYPE=image/jpeg:https://www.richmondsymphony.com/wp-content/uploads/2023/06/RS_HolidayBrass-scaled.jpg
END:VEVENT
END:VCALENDAR