BEGIN:VCALENDAR
VERSION:2.0
PRODID:-//Richmond Symphony - ECPv6.15.1//NONSGML v1.0//EN
CALSCALE:GREGORIAN
METHOD:PUBLISH
X-ORIGINAL-URL:https://www.richmondsymphony.com
X-WR-CALDESC:Events for Richmond Symphony
REFRESH-INTERVAL;VALUE=DURATION:PT1H
X-Robots-Tag:noindex
X-PUBLISHED-TTL:PT1H
BEGIN:VTIMEZONE
TZID:America/New_York
BEGIN:DAYLIGHT
TZOFFSETFROM:-0500
TZOFFSETTO:-0400
TZNAME:EDT
DTSTART:20240310T070000
END:DAYLIGHT
BEGIN:STANDARD
TZOFFSETFROM:-0400
TZOFFSETTO:-0500
TZNAME:EST
DTSTART:20241103T060000
END:STANDARD
END:VTIMEZONE
BEGIN:VEVENT
DTSTART;TZID=America/New_York:20241115T193000
DTEND;TZID=America/New_York:20241115T193000
DTSTAMP:20260419T082133
CREATED:20240529T175518Z
LAST-MODIFIED:20241111T143629Z
UID:32177-1731699000-1731699000@www.richmondsymphony.com
SUMMARY:Mozart\, Schubert & Gruber
DESCRIPTION:Franz Schubert was just 19 when he composed his First Symphony. Developing swiftly\, his Fifth is a work of charm and grace. From our own time\, H.K. Gruber’s pieces\, written in 1968 for his MOB ensemble\, are joyful and jazzy. This “close to home” concert opens with Mozart’s sparkling overture to his greatest opera: The Marriage of Figaro.
URL:https://www.richmondsymphony.com/event/mozart-schubert-gruber/
LOCATION:Perkinson Center for the Arts & Education
CATEGORIES:Metro Series
ATTACH;FMTTYPE=image/jpeg:https://www.richmondsymphony.com/wp-content/uploads/2024/05/Symphony-Dress-Rehersal-01-20-2024-108-2-scaled.jpg
END:VEVENT
BEGIN:VEVENT
DTSTART;TZID=America/New_York:20241116T193000
DTEND;TZID=America/New_York:20241116T193000
DTSTAMP:20260419T082133
CREATED:20240529T180801Z
LAST-MODIFIED:20241111T143551Z
UID:32184-1731785400-1731785400@www.richmondsymphony.com
SUMMARY:Mozart\, Schubert & Gruber
DESCRIPTION:Franz Schubert was just 19 when he composed his First Symphony. Developing swiftly\, his Fifth is a work of charm and grace. From our own time\, H.K. Gruber’s pieces\, written in 1968 for his MOB ensemble\, are joyful and jazzy. This “close to home” concert opens with Mozart’s sparkling overture to his greatest opera: The Marriage of Figaro.
URL:https://www.richmondsymphony.com/event/mozart-schubert-gruber-2/
LOCATION:St. Christopher’s School\, 6010 Fergusson Rd\, Richmond\, VA\, 23226\, United States
CATEGORIES:Concerts & Events,Metro Series
ATTACH;FMTTYPE=image/jpeg:https://www.richmondsymphony.com/wp-content/uploads/2024/05/Symphony-Dress-Rehersal-01-20-2024-108-2-scaled.jpg
END:VEVENT
BEGIN:VEVENT
DTSTART;TZID=America/New_York:20241117T150000
DTEND;TZID=America/New_York:20241117T150000
DTSTAMP:20260419T082133
CREATED:20240529T181148Z
LAST-MODIFIED:20241111T143519Z
UID:32188-1731855600-1731855600@www.richmondsymphony.com
SUMMARY:Mozart\, Schubert & Gruber
DESCRIPTION:Franz Schubert was just 19 when he composed his First Symphony. Developing swiftly\, his Fifth is a work of charm and grace. From our own time\, H.K. Gruber’s pieces\, written in 1968 for his MOB ensemble\, are joyful and jazzy. This “close to home” concert opens with Mozart’s sparkling overture to his greatest opera: The Marriage of Figaro.
URL:https://www.richmondsymphony.com/event/mozart-schubert-gruber-3/
LOCATION:Blackwell Auditorium at Randolph-Macon College\, 	204 Henry Street\, Ashland\, VA\, 23005\, United States
CATEGORIES:Concerts & Events,Metro Series
ATTACH;FMTTYPE=image/jpeg:https://www.richmondsymphony.com/wp-content/uploads/2024/05/Symphony-Dress-Rehersal-01-20-2024-108-2-scaled.jpg
END:VEVENT
END:VCALENDAR