BEGIN:VCALENDAR
VERSION:2.0
PRODID:-//Richmond Symphony - ECPv6.15.1//NONSGML v1.0//EN
CALSCALE:GREGORIAN
METHOD:PUBLISH
X-WR-CALNAME:Richmond Symphony
X-ORIGINAL-URL:https://www.richmondsymphony.com
X-WR-CALDESC:Events for Richmond Symphony
REFRESH-INTERVAL;VALUE=DURATION:PT1H
X-Robots-Tag:noindex
X-PUBLISHED-TTL:PT1H
BEGIN:VTIMEZONE
TZID:America/New_York
BEGIN:DAYLIGHT
TZOFFSETFROM:-0500
TZOFFSETTO:-0400
TZNAME:EDT
DTSTART:20160313T070000
END:DAYLIGHT
BEGIN:STANDARD
TZOFFSETFROM:-0400
TZOFFSETTO:-0500
TZNAME:EST
DTSTART:20161106T060000
END:STANDARD
END:VTIMEZONE
BEGIN:VEVENT
DTSTART;TZID=America/New_York:20160109T200000
DTEND;TZID=America/New_York:20160109T200000
DTSTAMP:20260423T024417
CREATED:20150219T200330Z
LAST-MODIFIED:20160106T210944Z
UID:1259-1452369600-1452369600@www.richmondsymphony.com
SUMMARY:A New Year in Vienna
DESCRIPTION:Join the Richmond Symphony\, Steven Smith and Members of The Herndon Foundation Emerging Artist Program of the Virginia Opera for a special evening in the style of a Viennese New Year with selected works\, waltzes\, polkas and arias by Johann Strauss Jr. and Richard Strauss. You will feel like you are celebrating New Years in Vienna! \nProgram Notes
URL:https://www.richmondsymphony.com/event/new-year-vienna-2/
LOCATION:Carpenter Theatre\, 612 East Grace Street\, Richmond \, VA\, 23219\, United States
CATEGORIES:Masterworks Series
ATTACH;FMTTYPE=image/jpeg:https://www.richmondsymphony.com/wp-content/uploads/2015/02/16068434807_08f0502f88_o.jpg
GEO:37.5415432;-77.43695
X-APPLE-STRUCTURED-LOCATION;VALUE=URI;X-ADDRESS=Carpenter Theatre 612 East Grace Street Richmond  VA 23219 United States;X-APPLE-RADIUS=500;X-TITLE=612 East Grace Street:geo:-77.43695,37.5415432
END:VEVENT
BEGIN:VEVENT
DTSTART;TZID=America/New_York:20160110T150000
DTEND;TZID=America/New_York:20160110T170000
DTSTAMP:20260423T024417
CREATED:20150219T200314Z
LAST-MODIFIED:20151221T173953Z
UID:1260-1452438000-1452445200@www.richmondsymphony.com
SUMMARY:A New Year in Vienna
DESCRIPTION:Join the Richmond Symphony\, Steven Smith and Members of The Herndon Foundation Emerging Artist Program of the Virginia Opera for a special evening in the style of a Viennese New Year with selected works\, waltzes\, polkas and arias by Johann Strauss Jr. and Richard Strauss. You will feel like you are celebrating New Years in Vienna! \nProgram Notes \n 
URL:https://www.richmondsymphony.com/event/new-year-vienna/
LOCATION:Carpenter Theatre\, 612 East Grace Street\, Richmond \, VA\, 23219\, United States
CATEGORIES:Masterworks Series
ATTACH;FMTTYPE=image/jpeg:https://www.richmondsymphony.com/wp-content/uploads/2015/02/16068434807_08f0502f88_o.jpg
GEO:37.5415432;-77.43695
X-APPLE-STRUCTURED-LOCATION;VALUE=URI;X-ADDRESS=Carpenter Theatre 612 East Grace Street Richmond  VA 23219 United States;X-APPLE-RADIUS=500;X-TITLE=612 East Grace Street:geo:-77.43695,37.5415432
END:VEVENT
BEGIN:VEVENT
DTSTART;TZID=America/New_York:20160114T183000
DTEND;TZID=America/New_York:20160114T193000
DTSTAMP:20260423T024417
CREATED:20150219T200246Z
LAST-MODIFIED:20160111T205526Z
UID:1242-1452796200-1452799800@www.richmondsymphony.com
SUMMARY:Urban Sprawl
DESCRIPTION:Grab a beer\, hit the food trucks and enjoy a great one-hour concert featuring selections from Ives\, Tchaikovsky\, Needham and Haydn and discussion in the Hardywood tasting room. \nCover fee is $15 and seating is limited. \nONLINE TICKETS HAVE SOLD OUT.   \nA VERY LIMITED NUMBER OF TICKETS WILL BE AVAILABLE AT THE DOOR THE NIGHT OF THE CONCERT STARTING AT 5PM.
URL:https://www.richmondsymphony.com/event/urban-sprawl/
LOCATION:Hardywood Park Craft Brewery Richmond\, 2408-2410 Ownby Lane\, Richmond\, VA\, 23220\, United States
CATEGORIES:Hardywood
ATTACH;FMTTYPE=image/jpeg:https://www.richmondsymphony.com/wp-content/uploads/2015/02/Hardywood_21.jpg
END:VEVENT
BEGIN:VEVENT
DTSTART;TZID=America/New_York:20160116T150000
DTEND;TZID=America/New_York:20160116T170000
DTSTAMP:20260423T024417
CREATED:20151118T151357Z
LAST-MODIFIED:20151207T160322Z
UID:4113-1452956400-1452963600@www.richmondsymphony.com
SUMMARY:Tchaikovsky: Variations on a Rococo Theme
DESCRIPTION:Join the Richmond Symphony at Brandermill Church on Saturday\, January 16 at 3pm. Tickets are $20 for Adults\, $15 for church members\, and $10 for children.  Tickets are available for purchase at the church office from 9-3 Monday through Thursday\, or by calling 804-744-3661 ext 101. Free parking is available. \nLearn more about Neal Cary\, cello \nProgram Notes \n 
URL:https://www.richmondsymphony.com/event/tchaikovsky-variations-on-a-rococo-theme/
LOCATION:Brandermill Church\, 4500 Millridge Parkway\, Midlothian\, VA\, 23112\, United States
ATTACH;FMTTYPE=image/jpeg:https://www.richmondsymphony.com/wp-content/uploads/2015/02/Neal-Cary.jpg
END:VEVENT
BEGIN:VEVENT
DTSTART;TZID=America/New_York:20160117T150000
DTEND;TZID=America/New_York:20160117T170000
DTSTAMP:20260423T024417
CREATED:20150219T200234Z
LAST-MODIFIED:20151120T173921Z
UID:1205-1453042800-1453050000@www.richmondsymphony.com
SUMMARY:Tchaikovsky: Variations on a Rococo Theme
DESCRIPTION:Join us at Randolph-Macon College for intimate\, chamber orchestra concerts that allow you to get up close and personal with the musicians of the Richmond Symphony. The series takes place at Blackwell Auditorium at Randolph-Macon College in Ashland and features free pre-concert talks at the Dollar Tree Room in Brock Commons one hour before the concert. \nLearn more about Neal Cary\, cello \nProgram Notes \nCauthorne Paper Company
URL:https://www.richmondsymphony.com/event/tchaikovsky-2/
LOCATION:Blackwell Auditorium at Randolph-Macon College\, 	204 Henry Street\, Ashland\, VA\, 23005\, United States
CATEGORIES:Metro Series
ATTACH;FMTTYPE=image/jpeg:https://www.richmondsymphony.com/wp-content/uploads/2015/02/Neal-Cary.jpg
END:VEVENT
BEGIN:VEVENT
DTSTART;TZID=America/New_York:20160127T190000
DTEND;TZID=America/New_York:20160127T200000
DTSTAMP:20260423T024417
CREATED:20160104T154039Z
LAST-MODIFIED:20160104T154426Z
UID:4349-1453921200-1453924800@www.richmondsymphony.com
SUMMARY:The Richmond Divas and the Richmond Symphony
DESCRIPTION:The Richmond Divas – Debra Wagoner\, Cathy Motley-Fitch and Desiree Roots with pianist Ryan Corbitt reunite and are joined by The Richmond Symphony for an epic evening of live music! Performing fan favorites and classics from Broadway to jazz to standards to pop\, backed by the amazing sounds of the Richmond Symphony\, RVA’s superbly talented Divas will dazzle audiences of all ages during this one-night-only concert event. Claim your tickets today to experience “Richmond’s Finest!” Tickets are only $40 and are available online at www.artsglenallen.com or by calling 804-261-ARTS (2787). \n 
URL:https://www.richmondsymphony.com/event/richmonds-finest/
LOCATION:The Cultural Arts Center at Glen Allen\, 2880 Mountain Road\, Glen Allen\, 23060 
ATTACH;FMTTYPE=image/jpeg:https://www.richmondsymphony.com/wp-content/uploads/2016/01/cathy-new.jpg
END:VEVENT
BEGIN:VEVENT
DTSTART;TZID=America/New_York:20160130T110000
DTEND;TZID=America/New_York:20160130T120000
DTSTAMP:20260423T024417
CREATED:20150219T200216Z
LAST-MODIFIED:20160128T165018Z
UID:1191-1454151600-1454155200@www.richmondsymphony.com
SUMMARY:Green Eggs and Ham
DESCRIPTION:Do you like Green Eggs and Ham? Really Inventive Stuff’s fully-staged orchestral adaptation of Dr. Seuss’s beloved children’s classic is a feast for the ears! The unstoppable Sam-I-Am serves up a banquet of surprises for a Seussical Diva in Robert Kapilow’s culinary cartoon-musical banquet. Features Kimberly Schroder as Theodora Gieselevska\, a Seussical soprano and RVA favorite Michael Boudewyns as Sam-I-Am. \nChia-Hsuan Lin bio \n 
URL:https://www.richmondsymphony.com/event/green-eggs-ham/
LOCATION:Carpenter Theatre\, 612 East Grace Street\, Richmond \, VA\, 23219\, United States
CATEGORIES:Atlantic Union Bank LolliPops
ATTACH;FMTTYPE=image/jpeg:https://www.richmondsymphony.com/wp-content/uploads/2015/02/GEAHfoxbox.jpg
GEO:37.5415432;-77.43695
X-APPLE-STRUCTURED-LOCATION;VALUE=URI;X-ADDRESS=Carpenter Theatre 612 East Grace Street Richmond  VA 23219 United States;X-APPLE-RADIUS=500;X-TITLE=612 East Grace Street:geo:-77.43695,37.5415432
END:VEVENT
END:VCALENDAR