BEGIN:VCALENDAR
VERSION:2.0
PRODID:-//Richmond Symphony - ECPv6.15.1//NONSGML v1.0//EN
CALSCALE:GREGORIAN
METHOD:PUBLISH
X-ORIGINAL-URL:https://www.richmondsymphony.com
X-WR-CALDESC:Events for Richmond Symphony
REFRESH-INTERVAL;VALUE=DURATION:PT1H
X-Robots-Tag:noindex
X-PUBLISHED-TTL:PT1H
BEGIN:VTIMEZONE
TZID:America/New_York
BEGIN:DAYLIGHT
TZOFFSETFROM:-0500
TZOFFSETTO:-0400
TZNAME:EDT
DTSTART:20160313T070000
END:DAYLIGHT
BEGIN:STANDARD
TZOFFSETFROM:-0400
TZOFFSETTO:-0500
TZNAME:EST
DTSTART:20161106T060000
END:STANDARD
END:VTIMEZONE
BEGIN:VEVENT
DTSTART;TZID=America/New_York:20160505T183000
DTEND;TZID=America/New_York:20160505T193000
DTSTAMP:20260422T202915
CREATED:20150219T195642Z
LAST-MODIFIED:20151109T211110Z
UID:1244-1462473000-1462476600@www.richmondsymphony.com
SUMMARY:Mother Goose
DESCRIPTION:Grab a beer\, hit the food trucks and enjoy a great one-hour concert featuring selections from Fauré\, Ravel and Mendelssohn and discussion in the Hardywood tasting room. \nCover fee is $15 and seating is limited.
URL:https://www.richmondsymphony.com/event/mother-goose/
LOCATION:Hardywood Park Craft Brewery Richmond\, 2408-2410 Ownby Lane\, Richmond\, VA\, 23220\, United States
CATEGORIES:Hardywood
ATTACH;FMTTYPE=image/jpeg:https://www.richmondsymphony.com/wp-content/uploads/2015/02/Hardywood_21.jpg
END:VEVENT
BEGIN:VEVENT
DTSTART;TZID=America/New_York:20160506T170000
DTEND;TZID=America/New_York:20160506T210000
DTSTAMP:20260422T202915
CREATED:20160209T162908Z
LAST-MODIFIED:20160427T211729Z
UID:4800-1462554000-1462568400@www.richmondsymphony.com
SUMMARY:RVA East End Festival 2016
DESCRIPTION:Full festival schedule Just Announced!\nClick here to see who’s performing and for more information.
URL:https://www.richmondsymphony.com/event/rva-east-end-festival-2016-3/
LOCATION:Chimborazo Park\, 3200 East Broad Street\, Richmond\, VA\, 23223\, United States
ATTACH;FMTTYPE=image/jpeg:https://www.richmondsymphony.com/wp-content/uploads/2016/02/Winning-Poster-with-Festival-Logo-RGB-FOR-WEB-e1461791513303.jpg
END:VEVENT
BEGIN:VEVENT
DTSTART;TZID=America/New_York:20160507T120000
DTEND;TZID=America/New_York:20160507T190000
DTSTAMP:20260422T202915
CREATED:20160209T162841Z
LAST-MODIFIED:20160427T211454Z
UID:4801-1462622400-1462647600@www.richmondsymphony.com
SUMMARY:RVA East End Festival 2016
DESCRIPTION:Full festival schedule Just Announced!\nClick here to see who’s performing and for more information.
URL:https://www.richmondsymphony.com/event/rva-east-end-festival-2016-2/
LOCATION:Chimborazo Park\, 3200 East Broad Street\, Richmond\, VA\, 23223\, United States
ATTACH;FMTTYPE=image/jpeg:https://www.richmondsymphony.com/wp-content/uploads/2016/02/Winning-Poster-with-Festival-Logo-RGB-FOR-WEB-e1461791513303.jpg
END:VEVENT
BEGIN:VEVENT
DTSTART;TZID=America/New_York:20160508T120000
DTEND;TZID=America/New_York:20160508T180000
DTSTAMP:20260422T202915
CREATED:20160209T162807Z
LAST-MODIFIED:20160427T211610Z
UID:4798-1462708800-1462730400@www.richmondsymphony.com
SUMMARY:RVA East End Festival 2016
DESCRIPTION:Full festival schedule Just Announced!\nClick here to see who’s performing and for more information.
URL:https://www.richmondsymphony.com/event/rva-east-end-festival-2016/
LOCATION:Chimborazo Park\, 3200 East Broad Street\, Richmond\, VA\, 23223\, United States
ATTACH;FMTTYPE=image/jpeg:https://www.richmondsymphony.com/wp-content/uploads/2016/02/Winning-Poster-with-Festival-Logo-RGB-FOR-WEB-e1461791513303.jpg
END:VEVENT
BEGIN:VEVENT
DTSTART;TZID=America/New_York:20160508T150000
DTEND;TZID=America/New_York:20160508T170000
DTSTAMP:20260422T202915
CREATED:20150219T195626Z
LAST-MODIFIED:20160210T183910Z
UID:1208-1462719600-1462726800@www.richmondsymphony.com
SUMMARY:Mendelssohn: Scottish Symphony
DESCRIPTION:Join us at Randolph-Macon College for intimate\, chamber orchestra concerts that allow you to get up close and personal with the musicians of the Richmond Symphony. The series takes place at Blackwell Auditorium at Randolph-Macon College in Ashland and features free pre-concert talks at the Dollar Tree Room in Brock Commons one hour before the concert. \nProgram Notes \n  \nSponsored by Ralph Crosby
URL:https://www.richmondsymphony.com/event/mendelssohn-scottish-symphony/
LOCATION:Blackwell Auditorium at Randolph-Macon College\, 	204 Henry Street\, Ashland\, VA\, 23005\, United States
CATEGORIES:Metro Series
ATTACH;FMTTYPE=image/jpeg:https://www.richmondsymphony.com/wp-content/uploads/2015/02/Scottish-Hills.jpg
END:VEVENT
BEGIN:VEVENT
DTSTART;TZID=America/New_York:20160514T200000
DTEND;TZID=America/New_York:20160514T220000
DTSTAMP:20260422T202915
CREATED:20150219T195613Z
LAST-MODIFIED:20160514T222010Z
UID:1265-1463256000-1463263200@www.richmondsymphony.com
SUMMARY:Daphnis et Chloé
DESCRIPTION:Discover the power of live music with our Altria Masterworks series. Featuring orchestral classics and contemporary composers\, this series will inspire you. Join us an hour before each concert for a free pre-concert talk with the RSO Music Director\, Steven Smith. These talks often feature guest artists and conductors and provide you with insights for the concert you are about to hear. \nBuy tickets for Sunday’s concert. \nLearn more about the Richmond Symphony Chorus \nProgram Notes \nPurchase tickets to Sunday’s performance
URL:https://www.richmondsymphony.com/event/daphnis-et-chloe-2/
LOCATION:Carpenter Theatre\, 612 East Grace Street\, Richmond \, VA\, 23219\, United States
CATEGORIES:Masterworks Series
ATTACH;FMTTYPE=image/jpeg:https://www.richmondsymphony.com/wp-content/uploads/2015/02/Steven_Smith_Love.jpg
GEO:37.5415432;-77.43695
X-APPLE-STRUCTURED-LOCATION;VALUE=URI;X-ADDRESS=Carpenter Theatre 612 East Grace Street Richmond  VA 23219 United States;X-APPLE-RADIUS=500;X-TITLE=612 East Grace Street:geo:-77.43695,37.5415432
END:VEVENT
BEGIN:VEVENT
DTSTART;TZID=America/New_York:20160515T150000
DTEND;TZID=America/New_York:20160515T170000
DTSTAMP:20260422T202915
CREATED:20150219T195600Z
LAST-MODIFIED:20160514T221904Z
UID:1266-1463324400-1463331600@www.richmondsymphony.com
SUMMARY:Daphnis et Chloé
DESCRIPTION:Discover the power of live music with our Altria Masterworks series. Featuring orchestral classics and contemporary composers\, this series will inspire you. Join us an hour before each concert for a free pre-concert talk with the RSO Music Director\, Steven Smith. These talks often feature guest artists and conductors and provide you with insights for the concert you are about to hear. \nBuy tickets to Saturday’s concert. \nLearn more about the Richmond Symphony Chorus \nProgram Notes \n 
URL:https://www.richmondsymphony.com/event/daphnis-et-chloe/
LOCATION:Carpenter Theatre\, 612 East Grace Street\, Richmond \, VA\, 23219\, United States
CATEGORIES:Masterworks Series
ATTACH;FMTTYPE=image/jpeg:https://www.richmondsymphony.com/wp-content/uploads/2015/02/Steven_Smith_Love.jpg
GEO:37.5415432;-77.43695
X-APPLE-STRUCTURED-LOCATION;VALUE=URI;X-ADDRESS=Carpenter Theatre 612 East Grace Street Richmond  VA 23219 United States;X-APPLE-RADIUS=500;X-TITLE=612 East Grace Street:geo:-77.43695,37.5415432
END:VEVENT
BEGIN:VEVENT
DTSTART;TZID=America/New_York:20160515T190000
DTEND;TZID=America/New_York:20160515T190000
DTSTAMP:20260422T202915
CREATED:20151013T162744Z
LAST-MODIFIED:20160418T191939Z
UID:3815-1463338800-1463338800@www.richmondsymphony.com
SUMMARY:Spring Concert
DESCRIPTION:The Youth Orchestra Program is the Richmond Symphony’s flagship educational program\, founded in 1962\, consists of four youth orchestras providing beginning to advanced musical training. As the premier orchestral training program of central Virginia\, students participate in weekly rehearsals\, coaching and masterclasses by Richmond Symphony musicians\, chamber music performances\, mentoring and other musical and social activities. The Youth Orchestra Program is open to elementary through high school students. Rehearsals are held every Tuesday afternoon September through May. \nAuditions for the Youth Orchestra Program take place in the spring for the following season – learn more! \nPerformances include: \nString Sinfonietta led by Christie-Jo Adams \nCamerata Strings led by Rebecca Jilcott \nYouth Concert Orchestra led by Christopher Moseley
URL:https://www.richmondsymphony.com/event/spring-concert/
LOCATION:Carpenter Theatre\, 612 East Grace Street\, Richmond \, VA\, 23219\, United States
CATEGORIES:Richmond Symphony Youth Orchestra
ATTACH;FMTTYPE=image/jpeg:https://www.richmondsymphony.com/wp-content/uploads/2015/10/XN9G0020.jpg
ORGANIZER;CN="Richmond Symphony":MAILTO:patronservices@richmondsymphony.com
GEO:37.5415432;-77.43695
X-APPLE-STRUCTURED-LOCATION;VALUE=URI;X-ADDRESS=Carpenter Theatre 612 East Grace Street Richmond  VA 23219 United States;X-APPLE-RADIUS=500;X-TITLE=612 East Grace Street:geo:-77.43695,37.5415432
END:VEVENT
BEGIN:VEVENT
DTSTART;TZID=America/New_York:20160517T190000
DTEND;TZID=America/New_York:20160517T190000
DTSTAMP:20260422T202915
CREATED:20151013T163017Z
LAST-MODIFIED:20160413T205143Z
UID:3817-1463511600-1463511600@www.richmondsymphony.com
SUMMARY:Spring Concert
DESCRIPTION:Richmond Symphony Youth Orchestra (RSYO) is the top ensemble of the Youth Orchestra Program. Richmond Symphony’s flagship educational program\, founded in 1962\, consists of four youth orchestras providing beginning to advanced musical training. As the premier orchestral training program of central Virginia\, students participate in weekly rehearsals\, coaching and masterclasses by Richmond Symphony musicians\, chamber music performances\, mentoring and other musical and social activities. The Youth Orchestra Program is open to elementary through high school students. Rehearsals are held every Tuesday afternoon September through May. \nAuditions for the Youth Orchestra Program take place in the spring for the following season – learn more! \nLearn more about composer Laura Schwendinger Music Alive: New Partnerships Composer-in-Residence \nThe Residency of Laura Schwendinger is made possible through Music Alive: New Partnerships\, a residency program of New Music USA and the League of American Orchestras. This national program is designed to establish new relationships between composers and orchestras\, and to help orchestras present new music to the public and build support for new music within their institutions. Leadership funding for Music Alive is provided by The Andrew W. Mellon Foundation\, with additional support from The Aaron Copland Fund for Music and The ASCAP Foundation Bart Howard Fund.
URL:https://www.richmondsymphony.com/event/spring-concert-2/
LOCATION:Carpenter Theatre\, 612 East Grace Street\, Richmond \, VA\, 23219\, United States
CATEGORIES:Richmond Symphony Youth Orchestra
ATTACH;FMTTYPE=image/jpeg:https://www.richmondsymphony.com/wp-content/uploads/2015/10/Pano154-155.jpg
ORGANIZER;CN="Richmond Symphony":MAILTO:patronservices@richmondsymphony.com
GEO:37.5415432;-77.43695
X-APPLE-STRUCTURED-LOCATION;VALUE=URI;X-ADDRESS=Carpenter Theatre 612 East Grace Street Richmond  VA 23219 United States;X-APPLE-RADIUS=500;X-TITLE=612 East Grace Street:geo:-77.43695,37.5415432
END:VEVENT
BEGIN:VEVENT
DTSTART;TZID=America/New_York:20160520T170000
DTEND;TZID=America/New_York:20160520T193000
DTSTAMP:20260422T202915
CREATED:20160226T152009Z
LAST-MODIFIED:20160519T185240Z
UID:5083-1463763600-1463772600@www.richmondsymphony.com
SUMMARY:Celebrate Jackson Ward
DESCRIPTION:Schedule Update: Due to inclement weather\, Saturday performances will move inside to Richmond Alternative School located right next to Abner Clay Park at 119 W Leigh St\, Richmond\, VA 23220. All performances from 12:00 – 6:00pm on Saturday will take place in the school’s auditorium. The Richmond Symphony’s performance will take place Sunday\, May 22 at 6:00pm under the Big Tent at Abner Clay Park. Friday and Sunday activities will proceed as planned at Abner Clay Park. Click here for full updated schedule. \nAdditional Sunday\, May 22 Updates: Beer and wine vendors have been rescheduled to Sunday\, May 22 from 1 – 8pm.
URL:https://www.richmondsymphony.com/event/celebrate-jackson-ward-3/
LOCATION:Abner Clay Park\, Brook Rd & W Clay St\, Richmond\, VA\, 23220\, United States
ATTACH;FMTTYPE=image/jpeg:https://www.richmondsymphony.com/wp-content/uploads/2016/02/JacksonWard_Logo_RGB.jpg
END:VEVENT
BEGIN:VEVENT
DTSTART;TZID=America/New_York:20160521T120000
DTEND;TZID=America/New_York:20160521T210000
DTSTAMP:20260422T202915
CREATED:20160226T152006Z
LAST-MODIFIED:20160522T150535Z
UID:5081-1463832000-1463864400@www.richmondsymphony.com
SUMMARY:Celebrate Jackson Ward
DESCRIPTION:UPDATE: SUNDAY MAY\, 22  2016 – From the Desk of David Fisk \nGood News: we had a great day of music and dance indoors Saturday and we’re back outside in Abner Clay Park under the Big Tent again Sunday! Come check it out from 1.00 to 7:00 pm for beer\, wine\, food and festivities! \nBad news: it’s slated to be 20 degrees cooler than usual again on Sunday\, so bring a sweater. If the temperature does not get above 65 degrees\, it’ll be too cold for the orchestra to perform (and dangerous for our musician’s instruments)\, and the Symphony’s concert at 6.00 pm will be replaced by the heroes of Virginia Repertory Theatre\, Elegba Folklore Society and the Celebrate Jackson Ward Community Chorus in a shortened program to warm us up and send us all home singing. Current forecast is for a high of only 58 at 6.00 – we’re ready for either scenario so bring it on! \nSchedule Update: Due to inclement weather\, Saturday performances will move inside to Richmond Alternative School located right next to Abner Clay Park at 119 W Leigh St\, Richmond\, VA 23220. All performances from 12:00 – 6:00pm on Saturday will take place in the school’s auditorium. The Richmond Symphony’s performance will take place Sunday\, May 22 at 6:00pm under the Big Tent at Abner Clay Park. Friday and Sunday activities will proceed as planned at Abner Clay Park. Click here for full updated schedule. \nAdditional Sunday\, May 22 Updates: Beer and wine vendors have been rescheduled to Sunday\, May 22 from 1 – 8pm.
URL:https://www.richmondsymphony.com/event/celebrate-jackson-ward-2/
LOCATION:Abner Clay Park\, Brook Rd & W Clay St\, Richmond\, VA\, 23220\, United States
ATTACH;FMTTYPE=image/jpeg:https://www.richmondsymphony.com/wp-content/uploads/2016/02/JacksonWard_Logo_RGB.jpg
END:VEVENT
BEGIN:VEVENT
DTSTART;TZID=America/New_York:20160522T120000
DTEND;TZID=America/New_York:20160522T180000
DTSTAMP:20260422T202915
CREATED:20160226T152004Z
LAST-MODIFIED:20160522T150455Z
UID:5082-1463918400-1463940000@www.richmondsymphony.com
SUMMARY:Celebrate Jackson Ward
DESCRIPTION:UPDATE: SUNDAY MAY\, 22  2016 – From the Desk of David Fisk \nGood News: we had a great day of music and dance indoors Saturday and we’re back outside in Abner Clay Park under the Big Tent again Sunday! Come check it out from 1.00 to 7:00 pm for beer\, wine\, food and festivities! \nBad news: it’s slated to be 20 degrees cooler than usual again on Sunday\, so bring a sweater. If the temperature does not get above 65 degrees\, it’ll be too cold for the orchestra to perform (and dangerous for our musician’s instruments)\, and the Symphony’s concert at 6.00 pm will be replaced by the heroes of Virginia Repertory Theatre\, Elegba Folklore Society and the Celebrate Jackson Ward Community Chorus in a shortened program to warm us up and send us all home singing. Current forecast is for a high of only 58 at 6.00 – we’re ready for either scenario so bring it on! \nSchedule Update: Due to inclement weather\, Saturday performances will move inside to Richmond Alternative School located right next to Abner Clay Park at 119 W Leigh St\, Richmond\, VA 23220. All performances from 12:00 – 6:00pm on Saturday will take place in the school’s auditorium. The Richmond Symphony’s performance will take place Sunday\, May 22 at 6:00pm under the Big Tent at Abner Clay Park. Friday and Sunday activities will proceed as planned at Abner Clay Park. Click here for full updated schedule. \nAdditional Sunday\, May 22 Updates: Beer and wine vendors have been rescheduled to Sunday\, May 22 from 1 – 8pm.
URL:https://www.richmondsymphony.com/event/celebrate-jackson-ward/
LOCATION:Abner Clay Park\, Brook Rd & W Clay St\, Richmond\, VA\, 23220\, United States
ATTACH;FMTTYPE=image/jpeg:https://www.richmondsymphony.com/wp-content/uploads/2016/02/JacksonWard_Logo_RGB.jpg
END:VEVENT
END:VCALENDAR