BEGIN:VCALENDAR
VERSION:2.0
PRODID:-//Richmond Symphony - ECPv6.15.1//NONSGML v1.0//EN
CALSCALE:GREGORIAN
METHOD:PUBLISH
X-ORIGINAL-URL:https://www.richmondsymphony.com
X-WR-CALDESC:Events for Richmond Symphony
REFRESH-INTERVAL;VALUE=DURATION:PT1H
X-Robots-Tag:noindex
X-PUBLISHED-TTL:PT1H
BEGIN:VTIMEZONE
TZID:America/New_York
BEGIN:DAYLIGHT
TZOFFSETFROM:-0500
TZOFFSETTO:-0400
TZNAME:EDT
DTSTART:20160313T070000
END:DAYLIGHT
BEGIN:STANDARD
TZOFFSETFROM:-0400
TZOFFSETTO:-0500
TZNAME:EST
DTSTART:20161106T060000
END:STANDARD
END:VTIMEZONE
BEGIN:VEVENT
DTSTART;TZID=America/New_York:20161202T193000
DTEND;TZID=America/New_York:20161202T213000
DTSTAMP:20260422T103527
CREATED:20160216T201010Z
LAST-MODIFIED:20161115T142804Z
UID:4861-1480707000-1480714200@www.richmondsymphony.com
SUMMARY:Handel's Messiah
DESCRIPTION:For generations\, Richmonders have been delighted by this magnificent holiday classic. Don’t miss the Richmond Symphony and the Richmond Symphony Chorus performing Handel’s masterwork. \nLearn more about Erin R. Freeman\, conductor\nLearn more about Richmond Symphony Chorus\nLearn more about Youngmi Kim\, soprano\nLearn more about Jessica Renfro\, mezzo-soprano\nLearn more about Marco Panuccio\, tenor\nLearn more about Michael Dean\, bass-baritone \n  \n 
URL:https://www.richmondsymphony.com/event/handels-messiah-2/
LOCATION:Carpenter Theatre\, 612 East Grace Street\, Richmond \, VA\, 23219\, United States
ATTACH;FMTTYPE=image/jpeg:https://www.richmondsymphony.com/wp-content/uploads/2016/02/websiteheroimage2.jpg
GEO:37.5415432;-77.43695
X-APPLE-STRUCTURED-LOCATION;VALUE=URI;X-ADDRESS=Carpenter Theatre 612 East Grace Street Richmond  VA 23219 United States;X-APPLE-RADIUS=500;X-TITLE=612 East Grace Street:geo:-77.43695,37.5415432
END:VEVENT
BEGIN:VEVENT
DTSTART;TZID=America/New_York:20161203T200000
DTEND;TZID=America/New_York:20161203T220000
DTSTAMP:20260422T103527
CREATED:20160216T200208Z
LAST-MODIFIED:20231030T131506Z
UID:4565-1480795200-1480802400@www.richmondsymphony.com
SUMMARY:Let It Snow! 2016
DESCRIPTION:Celebrate the holidays with a concert featuring the sounds of the season! Join the Richmond Symphony and Richmond Symphony Chorus for this annual tradition the whole family will love. \nLearn more about Chia-Hsuan Lin\, conductor\nLearn more about Erin R. Freeman\, director\nLearn more about Richmond Symphony Chorus\nLearn more about Sarah Kate Walston\, soprano\nLearn more about City Singers Youth Choirs \nPurchase tickets to Sunday’s performance. \n  \n  \n  \n 
URL:https://www.richmondsymphony.com/event/let-it-snow-2/2016-12-03/
LOCATION:Carpenter Theatre\, 612 East Grace Street\, Richmond \, VA\, 23219\, United States
CATEGORIES:Pops
GEO:37.5415432;-77.43695
X-APPLE-STRUCTURED-LOCATION;VALUE=URI;X-ADDRESS=Carpenter Theatre 612 East Grace Street Richmond  VA 23219 United States;X-APPLE-RADIUS=500;X-TITLE=612 East Grace Street:geo:-77.43695,37.5415432
END:VEVENT
BEGIN:VEVENT
DTSTART;TZID=America/New_York:20161204T150000
DTEND;TZID=America/New_York:20161204T170000
DTSTAMP:20260422T103527
CREATED:20160216T200206Z
LAST-MODIFIED:20231030T131519Z
UID:4598-1480863600-1480870800@www.richmondsymphony.com
SUMMARY:Let It Snow! 2016
DESCRIPTION:Celebrate the holidays with a concert featuring the sounds of the season! Join the Richmond Symphony and Richmond Symphony Chorus for this annual tradition the whole family will love. \nLearn more about Chia-Hsuan Lin\, conductor\nLearn more about Erin R. Freeman\, director\nLearn more about Richmond Symphony Chorus\nLearn more about Sarah Kate Walston\, soprano\nLearn more about City Singers Youth Choirs \n  \n  \n  \n 
URL:https://www.richmondsymphony.com/event/let-it-snow/2016-12-04/
LOCATION:Carpenter Theatre\, 612 East Grace Street\, Richmond \, VA\, 23219\, United States
CATEGORIES:Pops
GEO:37.5415432;-77.43695
X-APPLE-STRUCTURED-LOCATION;VALUE=URI;X-ADDRESS=Carpenter Theatre 612 East Grace Street Richmond  VA 23219 United States;X-APPLE-RADIUS=500;X-TITLE=612 East Grace Street:geo:-77.43695,37.5415432
END:VEVENT
BEGIN:VEVENT
DTSTART;TZID=America/New_York:20161204T190000
DTEND;TZID=America/New_York:20161204T190000
DTSTAMP:20260422T103527
CREATED:20161019T165415Z
LAST-MODIFIED:20161130T151650Z
UID:6993-1480878000-1480878000@www.richmondsymphony.com
SUMMARY:Winter Concert
DESCRIPTION:You are invited to join the Richmond Symphony Youth Orchestra Program (YOP) for a free concert on Sunday\, December 4 at 7pm at the Carpenter Theatre\, Dominion Arts Center. Student musicians will perform pieces by some of the most renowned classical composers including Sibelius\, Brahms and Mozart. Three out of four YOP ensembles totaling 176 students will be featured at the concert including Youth Concert Orchestra led by Christopher Moseley\, Camerata Strings led by Rebecca Jilcott and String Sinfonietta led by Christie-Jo Adams. This will be the group’s first concert since they began practicing together at Martin Luther King\, Jr. Middle School in September.
URL:https://www.richmondsymphony.com/event/winter-concert-2/
LOCATION:Carpenter Theatre\, 612 East Grace Street\, Richmond \, VA\, 23219\, United States
ATTACH;FMTTYPE=image/jpeg:https://www.richmondsymphony.com/wp-content/uploads/2015/10/XN9G0088.jpg
ORGANIZER;CN="Richmond Symphony":MAILTO:patronservices@richmondsymphony.com
GEO:37.5415432;-77.43695
X-APPLE-STRUCTURED-LOCATION;VALUE=URI;X-ADDRESS=Carpenter Theatre 612 East Grace Street Richmond  VA 23219 United States;X-APPLE-RADIUS=500;X-TITLE=612 East Grace Street:geo:-77.43695,37.5415432
END:VEVENT
BEGIN:VEVENT
DTSTART;TZID=America/New_York:20161207T180000
DTEND;TZID=America/New_York:20161207T180000
DTSTAMP:20260422T103527
CREATED:20160921T193914Z
LAST-MODIFIED:20161128T185054Z
UID:6524-1481133600-1481133600@www.richmondsymphony.com
SUMMARY:Paramount Theater
DESCRIPTION:The Richmond Symphony is performing in Charlottesville\, Virginia in December for an evening of fun\, delightful music to kick off the holiday season. They will be performing Union Bank & Trust Lollipops Concert series 2. The symphony will be accompanying the Academy Award-winning movie The Snowman. \nThe performance will be held on Wednesday\, Dec. 7\, 2016\, at 6:00 p.m. in the Paramount Theater located in the downtown mall in Charlottesville\, Virginia. \n 
URL:https://www.richmondsymphony.com/event/paramount-theater-2/
LOCATION:Paramount Theater\, 215 E Main S\, Charlottesville\, VA\, 22902\, United States
ATTACH;FMTTYPE=image/jpeg:https://www.richmondsymphony.com/wp-content/uploads/2016/09/Rich_Symph-270.jpg
END:VEVENT
BEGIN:VEVENT
DTSTART;TZID=America/New_York:20161210T140000
DTEND;TZID=America/New_York:20161210T160000
DTSTAMP:20260422T103527
CREATED:20160928T161608Z
LAST-MODIFIED:20160928T161608Z
UID:6605-1481378400-1481385600@www.richmondsymphony.com
SUMMARY:The Nutcracker
DESCRIPTION:From the opening notes of Tchaikovsky’s famous overture\, audiences are whisked into the warm\, candlelit drawing room of the Silberhaus family\, buzzing with celebrations of Christmas. To the delight of the family’s young daughter\, Clara\, Dr. Drosselmeyer\, the mysterious toymaker\, and his handsome nephew arrive with a special gift – a wooden nutcracker doll – that captures the girl’s imagination. As darkness falls\, Dr. Drosselmeyer’s magic begins to work\, setting in motion fantastical events that will fill Clara’s dreams: a battle beneath the branches of an enchanted Christmas tree\, the transformation of the nutcracker doll into the young Nutcracker Prince\, and a journey from a snow-covered forest to the far-off Kingdom of Sweets. Join the Russian Bear\, the Chinese Dragon and the Mouse King as they celebrate the magic of the holidays with Richmond Ballet! \n 
URL:https://www.richmondsymphony.com/event/the-nutcracker-8/
LOCATION:Carpenter Theatre\, 612 East Grace Street\, Richmond \, VA\, 23219\, United States
ATTACH;FMTTYPE=image/jpeg:https://www.richmondsymphony.com/wp-content/uploads/2015/09/violins.jpg
GEO:37.5415432;-77.43695
X-APPLE-STRUCTURED-LOCATION;VALUE=URI;X-ADDRESS=Carpenter Theatre 612 East Grace Street Richmond  VA 23219 United States;X-APPLE-RADIUS=500;X-TITLE=612 East Grace Street:geo:-77.43695,37.5415432
END:VEVENT
BEGIN:VEVENT
DTSTART;TZID=America/New_York:20161210T190000
DTEND;TZID=America/New_York:20161210T210000
DTSTAMP:20260422T103527
CREATED:20160928T161854Z
LAST-MODIFIED:20160928T161854Z
UID:6606-1481396400-1481403600@www.richmondsymphony.com
SUMMARY:The Nutcracker
DESCRIPTION:From the opening notes of Tchaikovsky’s famous overture\, audiences are whisked into the warm\, candlelit drawing room of the Silberhaus family\, buzzing with celebrations of Christmas. To the delight of the family’s young daughter\, Clara\, Dr. Drosselmeyer\, the mysterious toymaker\, and his handsome nephew arrive with a special gift – a wooden nutcracker doll – that captures the girl’s imagination. As darkness falls\, Dr. Drosselmeyer’s magic begins to work\, setting in motion fantastical events that will fill Clara’s dreams: a battle beneath the branches of an enchanted Christmas tree\, the transformation of the nutcracker doll into the young Nutcracker Prince\, and a journey from a snow-covered forest to the far-off Kingdom of Sweets. Join the Russian Bear\, the Chinese Dragon and the Mouse King as they celebrate the magic of the holidays with Richmond Ballet! \n 
URL:https://www.richmondsymphony.com/event/the-nutcracker-9/
LOCATION:Carpenter Theatre\, 612 East Grace Street\, Richmond \, VA\, 23219\, United States
ATTACH;FMTTYPE=image/jpeg:https://www.richmondsymphony.com/wp-content/uploads/2015/09/violins.jpg
GEO:37.5415432;-77.43695
X-APPLE-STRUCTURED-LOCATION;VALUE=URI;X-ADDRESS=Carpenter Theatre 612 East Grace Street Richmond  VA 23219 United States;X-APPLE-RADIUS=500;X-TITLE=612 East Grace Street:geo:-77.43695,37.5415432
END:VEVENT
BEGIN:VEVENT
DTSTART;TZID=America/New_York:20161211T130000
DTEND;TZID=America/New_York:20161211T150000
DTSTAMP:20260422T103527
CREATED:20160928T162357Z
LAST-MODIFIED:20160928T162357Z
UID:6607-1481461200-1481468400@www.richmondsymphony.com
SUMMARY:The Nutcracker
DESCRIPTION:From the opening notes of Tchaikovsky’s famous overture\, audiences are whisked into the warm\, candlelit drawing room of the Silberhaus family\, buzzing with celebrations of Christmas. To the delight of the family’s young daughter\, Clara\, Dr. Drosselmeyer\, the mysterious toymaker\, and his handsome nephew arrive with a special gift – a wooden nutcracker doll – that captures the girl’s imagination. As darkness falls\, Dr. Drosselmeyer’s magic begins to work\, setting in motion fantastical events that will fill Clara’s dreams: a battle beneath the branches of an enchanted Christmas tree\, the transformation of the nutcracker doll into the young Nutcracker Prince\, and a journey from a snow-covered forest to the far-off Kingdom of Sweets. Join the Russian Bear\, the Chinese Dragon and the Mouse King as they celebrate the magic of the holidays with Richmond Ballet! \n 
URL:https://www.richmondsymphony.com/event/the-nutcracker-10/
LOCATION:Carpenter Theatre\, 612 East Grace Street\, Richmond \, VA\, 23219\, United States
ATTACH;FMTTYPE=image/jpeg:https://www.richmondsymphony.com/wp-content/uploads/2015/09/violins.jpg
GEO:37.5415432;-77.43695
X-APPLE-STRUCTURED-LOCATION;VALUE=URI;X-ADDRESS=Carpenter Theatre 612 East Grace Street Richmond  VA 23219 United States;X-APPLE-RADIUS=500;X-TITLE=612 East Grace Street:geo:-77.43695,37.5415432
END:VEVENT
BEGIN:VEVENT
DTSTART;TZID=America/New_York:20161211T163000
DTEND;TZID=America/New_York:20161211T183000
DTSTAMP:20260422T103527
CREATED:20160928T162647Z
LAST-MODIFIED:20160928T162647Z
UID:6608-1481473800-1481481000@www.richmondsymphony.com
SUMMARY:The Nutcracker
DESCRIPTION:From the opening notes of Tchaikovsky’s famous overture\, audiences are whisked into the warm\, candlelit drawing room of the Silberhaus family\, buzzing with celebrations of Christmas. To the delight of the family’s young daughter\, Clara\, Dr. Drosselmeyer\, the mysterious toymaker\, and his handsome nephew arrive with a special gift – a wooden nutcracker doll – that captures the girl’s imagination. As darkness falls\, Dr. Drosselmeyer’s magic begins to work\, setting in motion fantastical events that will fill Clara’s dreams: a battle beneath the branches of an enchanted Christmas tree\, the transformation of the nutcracker doll into the young Nutcracker Prince\, and a journey from a snow-covered forest to the far-off Kingdom of Sweets. Join the Russian Bear\, the Chinese Dragon and the Mouse King as they celebrate the magic of the holidays with Richmond Ballet! \n 
URL:https://www.richmondsymphony.com/event/the-nutcracker-11/
LOCATION:Carpenter Theatre\, 612 East Grace Street\, Richmond \, VA\, 23219\, United States
ATTACH;FMTTYPE=image/jpeg:https://www.richmondsymphony.com/wp-content/uploads/2015/09/violins.jpg
GEO:37.5415432;-77.43695
X-APPLE-STRUCTURED-LOCATION;VALUE=URI;X-ADDRESS=Carpenter Theatre 612 East Grace Street Richmond  VA 23219 United States;X-APPLE-RADIUS=500;X-TITLE=612 East Grace Street:geo:-77.43695,37.5415432
END:VEVENT
BEGIN:VEVENT
DTSTART;TZID=America/New_York:20161216T190000
DTEND;TZID=America/New_York:20161216T210000
DTSTAMP:20260422T103527
CREATED:20160928T163046Z
LAST-MODIFIED:20160928T163046Z
UID:6609-1481914800-1481922000@www.richmondsymphony.com
SUMMARY:The Nutcracker
DESCRIPTION:From the opening notes of Tchaikovsky’s famous overture\, audiences are whisked into the warm\, candlelit drawing room of the Silberhaus family\, buzzing with celebrations of Christmas. To the delight of the family’s young daughter\, Clara\, Dr. Drosselmeyer\, the mysterious toymaker\, and his handsome nephew arrive with a special gift – a wooden nutcracker doll – that captures the girl’s imagination. As darkness falls\, Dr. Drosselmeyer’s magic begins to work\, setting in motion fantastical events that will fill Clara’s dreams: a battle beneath the branches of an enchanted Christmas tree\, the transformation of the nutcracker doll into the young Nutcracker Prince\, and a journey from a snow-covered forest to the far-off Kingdom of Sweets. Join the Russian Bear\, the Chinese Dragon and the Mouse King as they celebrate the magic of the holidays with Richmond Ballet! \n 
URL:https://www.richmondsymphony.com/event/the-nutcracker-12/
LOCATION:Carpenter Theatre\, 612 East Grace Street\, Richmond \, VA\, 23219\, United States
ATTACH;FMTTYPE=image/jpeg:https://www.richmondsymphony.com/wp-content/uploads/2015/09/violins.jpg
GEO:37.5415432;-77.43695
X-APPLE-STRUCTURED-LOCATION;VALUE=URI;X-ADDRESS=Carpenter Theatre 612 East Grace Street Richmond  VA 23219 United States;X-APPLE-RADIUS=500;X-TITLE=612 East Grace Street:geo:-77.43695,37.5415432
END:VEVENT
BEGIN:VEVENT
DTSTART;TZID=America/New_York:20161217T140000
DTEND;TZID=America/New_York:20161217T160000
DTSTAMP:20260422T103527
CREATED:20160928T163428Z
LAST-MODIFIED:20160928T163342Z
UID:6610-1481983200-1481990400@www.richmondsymphony.com
SUMMARY:The Nutcracker
DESCRIPTION:From the opening notes of Tchaikovsky’s famous overture\, audiences are whisked into the warm\, candlelit drawing room of the Silberhaus family\, buzzing with celebrations of Christmas. To the delight of the family’s young daughter\, Clara\, Dr. Drosselmeyer\, the mysterious toymaker\, and his handsome nephew arrive with a special gift – a wooden nutcracker doll – that captures the girl’s imagination. As darkness falls\, Dr. Drosselmeyer’s magic begins to work\, setting in motion fantastical events that will fill Clara’s dreams: a battle beneath the branches of an enchanted Christmas tree\, the transformation of the nutcracker doll into the young Nutcracker Prince\, and a journey from a snow-covered forest to the far-off Kingdom of Sweets. Join the Russian Bear\, the Chinese Dragon and the Mouse King as they celebrate the magic of the holidays with Richmond Ballet! \n 
URL:https://www.richmondsymphony.com/event/the-nutcracker-13/
LOCATION:Carpenter Theatre\, 612 East Grace Street\, Richmond \, VA\, 23219\, United States
ATTACH;FMTTYPE=image/jpeg:https://www.richmondsymphony.com/wp-content/uploads/2015/09/violins.jpg
GEO:37.5415432;-77.43695
X-APPLE-STRUCTURED-LOCATION;VALUE=URI;X-ADDRESS=Carpenter Theatre 612 East Grace Street Richmond  VA 23219 United States;X-APPLE-RADIUS=500;X-TITLE=612 East Grace Street:geo:-77.43695,37.5415432
END:VEVENT
BEGIN:VEVENT
DTSTART;TZID=America/New_York:20161217T190000
DTEND;TZID=America/New_York:20161217T210000
DTSTAMP:20260422T103527
CREATED:20160928T163449Z
LAST-MODIFIED:20160928T163449Z
UID:6611-1482001200-1482008400@www.richmondsymphony.com
SUMMARY:The Nutcracker
DESCRIPTION:From the opening notes of Tchaikovsky’s famous overture\, audiences are whisked into the warm\, candlelit drawing room of the Silberhaus family\, buzzing with celebrations of Christmas. To the delight of the family’s young daughter\, Clara\, Dr. Drosselmeyer\, the mysterious toymaker\, and his handsome nephew arrive with a special gift – a wooden nutcracker doll – that captures the girl’s imagination. As darkness falls\, Dr. Drosselmeyer’s magic begins to work\, setting in motion fantastical events that will fill Clara’s dreams: a battle beneath the branches of an enchanted Christmas tree\, the transformation of the nutcracker doll into the young Nutcracker Prince\, and a journey from a snow-covered forest to the far-off Kingdom of Sweets. Join the Russian Bear\, the Chinese Dragon and the Mouse King as they celebrate the magic of the holidays with Richmond Ballet! \n 
URL:https://www.richmondsymphony.com/event/the-nutcracker-14/
LOCATION:Carpenter Theatre\, 612 East Grace Street\, Richmond \, VA\, 23219\, United States
ATTACH;FMTTYPE=image/jpeg:https://www.richmondsymphony.com/wp-content/uploads/2015/09/violins.jpg
GEO:37.5415432;-77.43695
X-APPLE-STRUCTURED-LOCATION;VALUE=URI;X-ADDRESS=Carpenter Theatre 612 East Grace Street Richmond  VA 23219 United States;X-APPLE-RADIUS=500;X-TITLE=612 East Grace Street:geo:-77.43695,37.5415432
END:VEVENT
BEGIN:VEVENT
DTSTART;TZID=America/New_York:20161218T130000
DTEND;TZID=America/New_York:20161218T150000
DTSTAMP:20260422T103527
CREATED:20160928T163634Z
LAST-MODIFIED:20160928T163634Z
UID:6612-1482066000-1482073200@www.richmondsymphony.com
SUMMARY:The Nutcracker
DESCRIPTION:From the opening notes of Tchaikovsky’s famous overture\, audiences are whisked into the warm\, candlelit drawing room of the Silberhaus family\, buzzing with celebrations of Christmas. To the delight of the family’s young daughter\, Clara\, Dr. Drosselmeyer\, the mysterious toymaker\, and his handsome nephew arrive with a special gift – a wooden nutcracker doll – that captures the girl’s imagination. As darkness falls\, Dr. Drosselmeyer’s magic begins to work\, setting in motion fantastical events that will fill Clara’s dreams: a battle beneath the branches of an enchanted Christmas tree\, the transformation of the nutcracker doll into the young Nutcracker Prince\, and a journey from a snow-covered forest to the far-off Kingdom of Sweets. Join the Russian Bear\, the Chinese Dragon and the Mouse King as they celebrate the magic of the holidays with Richmond Ballet! \n 
URL:https://www.richmondsymphony.com/event/the-nutcracker-15/
LOCATION:Carpenter Theatre\, 612 East Grace Street\, Richmond \, VA\, 23219\, United States
ATTACH;FMTTYPE=image/jpeg:https://www.richmondsymphony.com/wp-content/uploads/2015/09/violins.jpg
GEO:37.5415432;-77.43695
X-APPLE-STRUCTURED-LOCATION;VALUE=URI;X-ADDRESS=Carpenter Theatre 612 East Grace Street Richmond  VA 23219 United States;X-APPLE-RADIUS=500;X-TITLE=612 East Grace Street:geo:-77.43695,37.5415432
END:VEVENT
BEGIN:VEVENT
DTSTART;TZID=America/New_York:20161218T163000
DTEND;TZID=America/New_York:20161218T183000
DTSTAMP:20260422T103527
CREATED:20160928T163800Z
LAST-MODIFIED:20160928T163800Z
UID:6613-1482078600-1482085800@www.richmondsymphony.com
SUMMARY:The Nutcracker
DESCRIPTION:From the opening notes of Tchaikovsky’s famous overture\, audiences are whisked into the warm\, candlelit drawing room of the Silberhaus family\, buzzing with celebrations of Christmas. To the delight of the family’s young daughter\, Clara\, Dr. Drosselmeyer\, the mysterious toymaker\, and his handsome nephew arrive with a special gift – a wooden nutcracker doll – that captures the girl’s imagination. As darkness falls\, Dr. Drosselmeyer’s magic begins to work\, setting in motion fantastical events that will fill Clara’s dreams: a battle beneath the branches of an enchanted Christmas tree\, the transformation of the nutcracker doll into the young Nutcracker Prince\, and a journey from a snow-covered forest to the far-off Kingdom of Sweets. Join the Russian Bear\, the Chinese Dragon and the Mouse King as they celebrate the magic of the holidays with Richmond Ballet! \n 
URL:https://www.richmondsymphony.com/event/the-nutcracker-16/
LOCATION:Carpenter Theatre\, 612 East Grace Street\, Richmond \, VA\, 23219\, United States
ATTACH;FMTTYPE=image/jpeg:https://www.richmondsymphony.com/wp-content/uploads/2015/09/violins.jpg
GEO:37.5415432;-77.43695
X-APPLE-STRUCTURED-LOCATION;VALUE=URI;X-ADDRESS=Carpenter Theatre 612 East Grace Street Richmond  VA 23219 United States;X-APPLE-RADIUS=500;X-TITLE=612 East Grace Street:geo:-77.43695,37.5415432
END:VEVENT
BEGIN:VEVENT
DTSTART;TZID=America/New_York:20161220T190000
DTEND;TZID=America/New_York:20161220T210000
DTSTAMP:20260422T103527
CREATED:20160928T163922Z
LAST-MODIFIED:20160928T163922Z
UID:6614-1482260400-1482267600@www.richmondsymphony.com
SUMMARY:The Nutcracker
DESCRIPTION:From the opening notes of Tchaikovsky’s famous overture\, audiences are whisked into the warm\, candlelit drawing room of the Silberhaus family\, buzzing with celebrations of Christmas. To the delight of the family’s young daughter\, Clara\, Dr. Drosselmeyer\, the mysterious toymaker\, and his handsome nephew arrive with a special gift – a wooden nutcracker doll – that captures the girl’s imagination. As darkness falls\, Dr. Drosselmeyer’s magic begins to work\, setting in motion fantastical events that will fill Clara’s dreams: a battle beneath the branches of an enchanted Christmas tree\, the transformation of the nutcracker doll into the young Nutcracker Prince\, and a journey from a snow-covered forest to the far-off Kingdom of Sweets. Join the Russian Bear\, the Chinese Dragon and the Mouse King as they celebrate the magic of the holidays with Richmond Ballet! \n 
URL:https://www.richmondsymphony.com/event/the-nutcracker-17/
LOCATION:Carpenter Theatre\, 612 East Grace Street\, Richmond \, VA\, 23219\, United States
ATTACH;FMTTYPE=image/jpeg:https://www.richmondsymphony.com/wp-content/uploads/2015/09/violins.jpg
GEO:37.5415432;-77.43695
X-APPLE-STRUCTURED-LOCATION;VALUE=URI;X-ADDRESS=Carpenter Theatre 612 East Grace Street Richmond  VA 23219 United States;X-APPLE-RADIUS=500;X-TITLE=612 East Grace Street:geo:-77.43695,37.5415432
END:VEVENT
BEGIN:VEVENT
DTSTART;TZID=America/New_York:20161221T190000
DTEND;TZID=America/New_York:20161221T210000
DTSTAMP:20260422T103527
CREATED:20160928T164113Z
LAST-MODIFIED:20160928T164113Z
UID:6615-1482346800-1482354000@www.richmondsymphony.com
SUMMARY:The Nutcracker
DESCRIPTION:From the opening notes of Tchaikovsky’s famous overture\, audiences are whisked into the warm\, candlelit drawing room of the Silberhaus family\, buzzing with celebrations of Christmas. To the delight of the family’s young daughter\, Clara\, Dr. Drosselmeyer\, the mysterious toymaker\, and his handsome nephew arrive with a special gift – a wooden nutcracker doll – that captures the girl’s imagination. As darkness falls\, Dr. Drosselmeyer’s magic begins to work\, setting in motion fantastical events that will fill Clara’s dreams: a battle beneath the branches of an enchanted Christmas tree\, the transformation of the nutcracker doll into the young Nutcracker Prince\, and a journey from a snow-covered forest to the far-off Kingdom of Sweets. Join the Russian Bear\, the Chinese Dragon and the Mouse King as they celebrate the magic of the holidays with Richmond Ballet! \n 
URL:https://www.richmondsymphony.com/event/the-nutcracker-18/
LOCATION:Carpenter Theatre\, 612 East Grace Street\, Richmond \, VA\, 23219\, United States
ATTACH;FMTTYPE=image/jpeg:https://www.richmondsymphony.com/wp-content/uploads/2015/09/violins.jpg
GEO:37.5415432;-77.43695
X-APPLE-STRUCTURED-LOCATION;VALUE=URI;X-ADDRESS=Carpenter Theatre 612 East Grace Street Richmond  VA 23219 United States;X-APPLE-RADIUS=500;X-TITLE=612 East Grace Street:geo:-77.43695,37.5415432
END:VEVENT
BEGIN:VEVENT
DTSTART;TZID=America/New_York:20161222T140000
DTEND;TZID=America/New_York:20161222T160000
DTSTAMP:20260422T103527
CREATED:20160928T164347Z
LAST-MODIFIED:20160928T170026Z
UID:6616-1482415200-1482422400@www.richmondsymphony.com
SUMMARY:The Nutcracker
DESCRIPTION:From the opening notes of Tchaikovsky’s famous overture\, audiences are whisked into the warm\, candlelit drawing room of the Silberhaus family\, buzzing with celebrations of Christmas. To the delight of the family’s young daughter\, Clara\, Dr. Drosselmeyer\, the mysterious toymaker\, and his handsome nephew arrive with a special gift – a wooden nutcracker doll – that captures the girl’s imagination. As darkness falls\, Dr. Drosselmeyer’s magic begins to work\, setting in motion fantastical events that will fill Clara’s dreams: a battle beneath the branches of an enchanted Christmas tree\, the transformation of the nutcracker doll into the young Nutcracker Prince\, and a journey from a snow-covered forest to the far-off Kingdom of Sweets. Join the Russian Bear\, the Chinese Dragon and the Mouse King as they celebrate the magic of the holidays with Richmond Ballet! \n 
URL:https://www.richmondsymphony.com/event/the-nutcracker-19/
LOCATION:Carpenter Theatre\, 612 East Grace Street\, Richmond \, VA\, 23219\, United States
ATTACH;FMTTYPE=image/jpeg:https://www.richmondsymphony.com/wp-content/uploads/2015/09/violins.jpg
GEO:37.5415432;-77.43695
X-APPLE-STRUCTURED-LOCATION;VALUE=URI;X-ADDRESS=Carpenter Theatre 612 East Grace Street Richmond  VA 23219 United States;X-APPLE-RADIUS=500;X-TITLE=612 East Grace Street:geo:-77.43695,37.5415432
END:VEVENT
BEGIN:VEVENT
DTSTART;TZID=America/New_York:20161223T140000
DTEND;TZID=America/New_York:20161223T160000
DTSTAMP:20260422T103527
CREATED:20160928T164832Z
LAST-MODIFIED:20160928T164832Z
UID:6618-1482501600-1482508800@www.richmondsymphony.com
SUMMARY:The Nutcracker
DESCRIPTION:From the opening notes of Tchaikovsky’s famous overture\, audiences are whisked into the warm\, candlelit drawing room of the Silberhaus family\, buzzing with celebrations of Christmas. To the delight of the family’s young daughter\, Clara\, Dr. Drosselmeyer\, the mysterious toymaker\, and his handsome nephew arrive with a special gift – a wooden nutcracker doll – that captures the girl’s imagination. As darkness falls\, Dr. Drosselmeyer’s magic begins to work\, setting in motion fantastical events that will fill Clara’s dreams: a battle beneath the branches of an enchanted Christmas tree\, the transformation of the nutcracker doll into the young Nutcracker Prince\, and a journey from a snow-covered forest to the far-off Kingdom of Sweets. Join the Russian Bear\, the Chinese Dragon and the Mouse King as they celebrate the magic of the holidays with Richmond Ballet! \n 
URL:https://www.richmondsymphony.com/event/the-nutcracker-21/
LOCATION:Carpenter Theatre\, 612 East Grace Street\, Richmond \, VA\, 23219\, United States
ATTACH;FMTTYPE=image/jpeg:https://www.richmondsymphony.com/wp-content/uploads/2015/09/violins.jpg
GEO:37.5415432;-77.43695
X-APPLE-STRUCTURED-LOCATION;VALUE=URI;X-ADDRESS=Carpenter Theatre 612 East Grace Street Richmond  VA 23219 United States;X-APPLE-RADIUS=500;X-TITLE=612 East Grace Street:geo:-77.43695,37.5415432
END:VEVENT
END:VCALENDAR