BEGIN:VCALENDAR
VERSION:2.0
PRODID:-//Richmond Symphony - ECPv6.15.1//NONSGML v1.0//EN
CALSCALE:GREGORIAN
METHOD:PUBLISH
X-WR-CALNAME:Richmond Symphony
X-ORIGINAL-URL:https://www.richmondsymphony.com
X-WR-CALDESC:Events for Richmond Symphony
REFRESH-INTERVAL;VALUE=DURATION:PT1H
X-Robots-Tag:noindex
X-PUBLISHED-TTL:PT1H
BEGIN:VTIMEZONE
TZID:America/New_York
BEGIN:DAYLIGHT
TZOFFSETFROM:-0500
TZOFFSETTO:-0400
TZNAME:EDT
DTSTART:20170312T070000
END:DAYLIGHT
BEGIN:STANDARD
TZOFFSETFROM:-0400
TZOFFSETTO:-0500
TZNAME:EST
DTSTART:20171105T060000
END:STANDARD
END:VTIMEZONE
BEGIN:VEVENT
DTSTART;TZID=America/New_York:20170303T183000
DTEND;TZID=America/New_York:20170303T193000
DTSTAMP:20260422T054149
CREATED:20160216T200708Z
LAST-MODIFIED:20170216T165253Z
UID:4453-1488565800-1488569400@www.richmondsymphony.com
SUMMARY:Stravinsky: Pétrouchka
DESCRIPTION:Dominion Casual Fridays features an exciting line-up of orchestral music in a relaxed setting. Sit back in the beautiful Carpenter Theatre as your host and conductor guides you through a 60-minute journey into the stories behind the performance. After the concert\, collect your exclusive composer trading card and head to the speakeasy at VAGABOND restaurant across the street for an exclusive happy-hour with Richmond Symphony musicians. \nLearn more about Steven Smith\, conductor\nLearn more about Todd Waldo\, host \nProgram Notes \n \n  \n \n  \n \n \n  \n  \n 
URL:https://www.richmondsymphony.com/event/stravinsky-petrushka/
LOCATION:Carpenter Theatre\, 612 East Grace Street\, Richmond \, VA\, 23219\, United States
ATTACH;FMTTYPE=image/jpeg:https://www.richmondsymphony.com/wp-content/uploads/2016/02/DANC0472.jpg
GEO:37.5415432;-77.43695
X-APPLE-STRUCTURED-LOCATION;VALUE=URI;X-ADDRESS=Carpenter Theatre 612 East Grace Street Richmond  VA 23219 United States;X-APPLE-RADIUS=500;X-TITLE=612 East Grace Street:geo:-77.43695,37.5415432
END:VEVENT
BEGIN:VEVENT
DTSTART;TZID=America/New_York:20170304T200000
DTEND;TZID=America/New_York:20170304T220000
DTSTAMP:20260422T054149
CREATED:20160216T193603Z
LAST-MODIFIED:20170207T174022Z
UID:4544-1488657600-1488664800@www.richmondsymphony.com
SUMMARY:Tchaikovsky\, Stravinsky
DESCRIPTION:Discover the power of live music with our Altria Masterworks series. Featuring orchestral classics and contemporary composers\, this series will inspire you. Join us an hour before each concert for a free pre-concert talk with the Richmond Symphony Music Director\, Steven Smith. These talks often feature guest artists and conductors and provide you with insights for the concert you are about to hear. \nLearn more about Steven Smith\, conductor\nLearn more about Jinjoo Cho\, violin \nProgram Notes \nArtwork by: Chris Milk Hulburt / Inspired by: Stravinsky Petrushka \n  \n 
URL:https://www.richmondsymphony.com/event/tchaikovsky-stravinsky/
LOCATION:Carpenter Theatre\, 612 East Grace Street\, Richmond \, VA\, 23219\, United States
CATEGORIES:Masterworks Series
ATTACH;FMTTYPE=image/jpeg:https://www.richmondsymphony.com/wp-content/uploads/2016/01/MW6_Chris-Milk.jpg
GEO:37.5415432;-77.43695
X-APPLE-STRUCTURED-LOCATION;VALUE=URI;X-ADDRESS=Carpenter Theatre 612 East Grace Street Richmond  VA 23219 United States;X-APPLE-RADIUS=500;X-TITLE=612 East Grace Street:geo:-77.43695,37.5415432
END:VEVENT
BEGIN:VEVENT
DTSTART;TZID=America/New_York:20170311T200000
DTEND;TZID=America/New_York:20170311T220000
DTSTAMP:20260422T054149
CREATED:20160216T200240Z
LAST-MODIFIED:20170220T190445Z
UID:4566-1489262400-1489269600@www.richmondsymphony.com
SUMMARY:Ann Hampton Callaway – The Streisand Songbook
DESCRIPTION:Join the Richmond Symphony as we celebrate the music of one of America’s most powerful and enduring musical artists. Singing timeless classics from five decades of Barbra Streisand’s multi-faceted career\, Platinum Award Winning singer-songwriter Ann Hampton Callaway will show off her gorgeous voice with iconic hits like “The Way We Were\,” “Don’t Rain on My Parade” and “Cry Me a River.” \nLearn more about Ann Hampton Callaway\, guest artist\nLearn more about Chia-Hsuan Lin\, conductor
URL:https://www.richmondsymphony.com/event/ann-hampton-callaway-the-streisand-songbook/
LOCATION:Carpenter Theatre\, 612 East Grace Street\, Richmond \, VA\, 23219\, United States
CATEGORIES:Pops
ATTACH;FMTTYPE=image/jpeg:https://www.richmondsymphony.com/wp-content/uploads/2016/02/AHC-8450_FINAL_-e1455027980651.jpg
GEO:37.5415432;-77.43695
X-APPLE-STRUCTURED-LOCATION;VALUE=URI;X-ADDRESS=Carpenter Theatre 612 East Grace Street Richmond  VA 23219 United States;X-APPLE-RADIUS=500;X-TITLE=612 East Grace Street:geo:-77.43695,37.5415432
END:VEVENT
BEGIN:VEVENT
DTSTART;TZID=America/New_York:20170317T200000
DTEND;TZID=America/New_York:20170317T220000
DTSTAMP:20260422T054149
CREATED:20161003T164208Z
LAST-MODIFIED:20161003T165056Z
UID:6654-1489780800-1489788000@www.richmondsymphony.com
SUMMARY:Turandot
DESCRIPTION:Based on an ancient fable set in China\, this story of the legendary Princess Turandot\, so desirable that men risked their heads for her hand in marriage\, weaves the quest for love with the ultimate consequences. From the opening moments of Puccini’s extravagant and exotic score\, you will be thrown into a world of suspense and horror. Featuring “Nessun dorma\,” one of the most famous opera arias of all time\, and sung by a stellar cast of internationally recognized singers\, led by audience favorite Kelly Cae Hogan (Salome 2015) and Derek Taylor (La Boheme 2009)\, you will be enthralled by this epic new production\, under the direction of Virginia Opera’s beloved Lillian Groag (La Traviata 2015). \nSung in Italian with English Supertitles
URL:https://www.richmondsymphony.com/event/turandot/
LOCATION:Harrison Opera House\, 160 W Virginia Beach Blvd.\, Norfolk \, 23510\, United States
ATTACH;FMTTYPE=image/jpeg:https://www.richmondsymphony.com/wp-content/uploads/2015/09/violins.jpg
END:VEVENT
BEGIN:VEVENT
DTSTART;TZID=America/New_York:20170319T143000
DTEND;TZID=America/New_York:20170319T170000
DTSTAMP:20260422T054149
CREATED:20161003T165018Z
LAST-MODIFIED:20161003T165018Z
UID:6658-1489933800-1489942800@www.richmondsymphony.com
SUMMARY:Turandot
DESCRIPTION:Based on an ancient fable set in China\, this story of the legendary Princess Turandot\, so desirable that men risked their heads for her hand in marriage\, weaves the quest for love with the ultimate consequences. From the opening moments of Puccini’s extravagant and exotic score\, you will be thrown into a world of suspense and horror. Featuring “Nessun dorma\,” one of the most famous opera arias of all time\, and sung by a stellar cast of internationally recognized singers\, led by audience favorite Kelly Cae Hogan (Salome 2015) and Derek Taylor (La Boheme 2009)\, you will be enthralled by this epic new production\, under the direction of Virginia Opera’s beloved Lillian Groag (La Traviata 2015). \nSung in Italian with English Supertitles
URL:https://www.richmondsymphony.com/event/turandot-2/
LOCATION:Harrison Opera House\, 160 W Virginia Beach Blvd.\, Norfolk \, 23510\, United States
ATTACH;FMTTYPE=image/jpeg:https://www.richmondsymphony.com/wp-content/uploads/2015/09/violins.jpg
END:VEVENT
BEGIN:VEVENT
DTSTART;TZID=America/New_York:20170321T193000
DTEND;TZID=America/New_York:20170321T223000
DTSTAMP:20260422T054149
CREATED:20161003T165158Z
LAST-MODIFIED:20161003T165158Z
UID:6659-1490124600-1490135400@www.richmondsymphony.com
SUMMARY:Turandot
DESCRIPTION:Based on an ancient fable set in China\, this story of the legendary Princess Turandot\, so desirable that men risked their heads for her hand in marriage\, weaves the quest for love with the ultimate consequences. From the opening moments of Puccini’s extravagant and exotic score\, you will be thrown into a world of suspense and horror. Featuring “Nessun dorma\,” one of the most famous opera arias of all time\, and sung by a stellar cast of internationally recognized singers\, led by audience favorite Kelly Cae Hogan (Salome 2015) and Derek Taylor (La Boheme 2009)\, you will be enthralled by this epic new production\, under the direction of Virginia Opera’s beloved Lillian Groag (La Traviata 2015). \nSung in Italian with English Supertitles
URL:https://www.richmondsymphony.com/event/turandot-3/
LOCATION:Harrison Opera House\, 160 W Virginia Beach Blvd.\, Norfolk \, 23510\, United States
ATTACH;FMTTYPE=image/jpeg:https://www.richmondsymphony.com/wp-content/uploads/2015/09/violins.jpg
END:VEVENT
BEGIN:VEVENT
DTSTART;TZID=America/New_York:20170323T094500
DTEND;TZID=America/New_York:20170323T233000
DTSTAMP:20260422T054149
CREATED:20170111T174029Z
LAST-MODIFIED:20170207T174507Z
UID:7711-1490262300-1490311800@www.richmondsymphony.com
SUMMARY:Musical Storytelling
DESCRIPTION:For grades 3-8  \nBringing back a favorite theme from the past\, this 50-minute performance will explore musical storytelling. Students will be challenged to apply their knowledge about common literary elements (such as setting\, plot\, character\, etc.) to gain understanding about musical compositions. Concert repertoire to include pieces by Mozart\, Tchaikovsky\, Beethoven\, and more. \n*Inclement Weather Date: April 4
URL:https://www.richmondsymphony.com/event/musical-storytelling/
LOCATION:Carpenter Theatre\, 612 East Grace Street\, Richmond \, VA\, 23219\, United States
ATTACH;FMTTYPE=image/jpeg:https://www.richmondsymphony.com/wp-content/uploads/2017/01/1.jpg
GEO:37.5415432;-77.43695
X-APPLE-STRUCTURED-LOCATION;VALUE=URI;X-ADDRESS=Carpenter Theatre 612 East Grace Street Richmond  VA 23219 United States;X-APPLE-RADIUS=500;X-TITLE=612 East Grace Street:geo:-77.43695,37.5415432
END:VEVENT
BEGIN:VEVENT
DTSTART;TZID=America/New_York:20170324T094500
DTEND;TZID=America/New_York:20170324T233000
DTSTAMP:20260422T054149
CREATED:20170111T175818Z
LAST-MODIFIED:20170207T174541Z
UID:7716-1490348700-1490398200@www.richmondsymphony.com
SUMMARY:A Child's Guide to the Orchestra
DESCRIPTION:For grades preK- 3rd \nAs has become our tradition\, this shorter\, 40-minute performance will focus on introducing young students to the symphony orchestra. Students will study instruments and the families of instruments in the orchestra by listening to Benjamin Britten’s Young Person’s Guide to the Orchestra (and other repertoire). The concert will be narrated by Professor Nigel Taproot of Really Inventive Stuff. \n*Inclement Weather Date: April 6
URL:https://www.richmondsymphony.com/event/a-childs-guide-to-the-orchestra-2/
LOCATION:Carpenter Theatre\, 612 East Grace Street\, Richmond \, VA\, 23219\, United States
ATTACH;FMTTYPE=image/jpeg:https://www.richmondsymphony.com/wp-content/uploads/2017/01/1.jpg
GEO:37.5415432;-77.43695
X-APPLE-STRUCTURED-LOCATION;VALUE=URI;X-ADDRESS=Carpenter Theatre 612 East Grace Street Richmond  VA 23219 United States;X-APPLE-RADIUS=500;X-TITLE=612 East Grace Street:geo:-77.43695,37.5415432
END:VEVENT
BEGIN:VEVENT
DTSTART;TZID=America/New_York:20170325T110000
DTEND;TZID=America/New_York:20170325T120000
DTSTAMP:20260422T054149
CREATED:20160216T200722Z
LAST-MODIFIED:20170315T133246Z
UID:4556-1490439600-1490443200@www.richmondsymphony.com
SUMMARY:A Child's Guide to the Orchestra
DESCRIPTION:Fusing the styles of a museum curator and a school librarian\, Really Inventive Stuff and the Richmond Symphony present Professor Nigel Taproot. This concert will showcase the different families of instruments in the orchestra\, helping your child learn how the orchestra works and makes music. \nArrive early and join us for a free pre-concert festival! Festivities begin at 10am in Rhythm Hall and include the popular instrument petting zoo plus music and arts activities provided by The Children’s Museum of Richmond\, Union Bank & Trust\, WCVE\, Richmond Family Magazine and more. LolliPops concerts are ideal for children ages 5 and up\, but music lovers of all ages are welcome. \nLearn more about Chia-Hsuan Lin\, conductor\nLearn more about Michael Boudewyns\, actor \n  \nSponsored By \n \n  \n  \n \n  \n \n\n\n  \nOur LolliPops Concerts are now Sensory-Friendly!\nClick here for more information.\n 
URL:https://www.richmondsymphony.com/event/a-childs-guide-to-the-orchestra/
LOCATION:Carpenter Theatre\, 612 East Grace Street\, Richmond \, VA\, 23219\, United States
CATEGORIES:Atlantic Union Bank LolliPops
ATTACH;FMTTYPE=image/jpeg:https://www.richmondsymphony.com/wp-content/uploads/2016/02/Photocredit_@JeffreyCPhotos-e1481906327469.jpg
GEO:37.5415432;-77.43695
X-APPLE-STRUCTURED-LOCATION;VALUE=URI;X-ADDRESS=Carpenter Theatre 612 East Grace Street Richmond  VA 23219 United States;X-APPLE-RADIUS=500;X-TITLE=612 East Grace Street:geo:-77.43695,37.5415432
END:VEVENT
BEGIN:VEVENT
DTSTART;TZID=America/New_York:20170325T200000
DTEND;TZID=America/New_York:20170325T223000
DTSTAMP:20260422T054149
CREATED:20161003T165959Z
LAST-MODIFIED:20161003T165959Z
UID:6660-1490472000-1490481000@www.richmondsymphony.com
SUMMARY:Turandot
DESCRIPTION:Based on an ancient fable set in China\, this story of the legendary Princess Turandot\, so desirable that men risked their heads for her hand in marriage\, weaves the quest for love with the ultimate consequences. From the opening moments of Puccini’s extravagant and exotic score\, you will be thrown into a world of suspense and horror. Featuring “Nessun dorma\,” one of the most famous opera arias of all time\, and sung by a stellar cast of internationally recognized singers\, led by audience favorite Kelly Cae Hogan (Salome 2015) and Derek Taylor (La Boheme 2009)\, you will be enthralled by this epic new production\, under the direction of Virginia Opera’s beloved Lillian Groag (La Traviata 2015). \nSung in Italian with English Supertitles
URL:https://www.richmondsymphony.com/event/turandot-4/
LOCATION:George Mason University Center for the Arts\, 4400 University Drive\, MS2F5\, Fairfax\, 22030\, United States
ATTACH;FMTTYPE=image/jpeg:https://www.richmondsymphony.com/wp-content/uploads/2015/09/violins.jpg
END:VEVENT
BEGIN:VEVENT
DTSTART;TZID=America/New_York:20170326T140000
DTEND;TZID=America/New_York:20170326T160000
DTSTAMP:20260422T054149
CREATED:20161003T170126Z
LAST-MODIFIED:20161003T170126Z
UID:6661-1490536800-1490544000@www.richmondsymphony.com
SUMMARY:Turandot
DESCRIPTION:Based on an ancient fable set in China\, this story of the legendary Princess Turandot\, so desirable that men risked their heads for her hand in marriage\, weaves the quest for love with the ultimate consequences. From the opening moments of Puccini’s extravagant and exotic score\, you will be thrown into a world of suspense and horror. Featuring “Nessun dorma\,” one of the most famous opera arias of all time\, and sung by a stellar cast of internationally recognized singers\, led by audience favorite Kelly Cae Hogan (Salome 2015) and Derek Taylor (La Boheme 2009)\, you will be enthralled by this epic new production\, under the direction of Virginia Opera’s beloved Lillian Groag (La Traviata 2015). \nSung in Italian with English Supertitles
URL:https://www.richmondsymphony.com/event/turandot-5/
LOCATION:George Mason University Center for the Arts\, 4400 University Drive\, MS2F5\, Fairfax\, 22030\, United States
ATTACH;FMTTYPE=image/jpeg:https://www.richmondsymphony.com/wp-content/uploads/2015/09/violins.jpg
END:VEVENT
BEGIN:VEVENT
DTSTART;TZID=America/New_York:20170331T200000
DTEND;TZID=America/New_York:20170331T220000
DTSTAMP:20260422T054149
CREATED:20161003T170229Z
LAST-MODIFIED:20161003T170229Z
UID:6662-1490990400-1490997600@www.richmondsymphony.com
SUMMARY:Turandot
DESCRIPTION:Based on an ancient fable set in China\, this story of the legendary Princess Turandot\, so desirable that men risked their heads for her hand in marriage\, weaves the quest for love with the ultimate consequences. From the opening moments of Puccini’s extravagant and exotic score\, you will be thrown into a world of suspense and horror. Featuring “Nessun dorma\,” one of the most famous opera arias of all time\, and sung by a stellar cast of internationally recognized singers\, led by audience favorite Kelly Cae Hogan (Salome 2015) and Derek Taylor (La Boheme 2009)\, you will be enthralled by this epic new production\, under the direction of Virginia Opera’s beloved Lillian Groag (La Traviata 2015). \nSung in Italian with English Supertitles
URL:https://www.richmondsymphony.com/event/turandot-6/
LOCATION:Carpenter Theatre\, 612 East Grace Street\, Richmond \, VA\, 23219\, United States
ATTACH;FMTTYPE=image/jpeg:https://www.richmondsymphony.com/wp-content/uploads/2015/09/violins.jpg
GEO:37.5415432;-77.43695
X-APPLE-STRUCTURED-LOCATION;VALUE=URI;X-ADDRESS=Carpenter Theatre 612 East Grace Street Richmond  VA 23219 United States;X-APPLE-RADIUS=500;X-TITLE=612 East Grace Street:geo:-77.43695,37.5415432
END:VEVENT
END:VCALENDAR