BEGIN:VCALENDAR
VERSION:2.0
PRODID:-//Richmond Symphony - ECPv6.15.1//NONSGML v1.0//EN
CALSCALE:GREGORIAN
METHOD:PUBLISH
X-WR-CALNAME:Richmond Symphony
X-ORIGINAL-URL:https://www.richmondsymphony.com
X-WR-CALDESC:Events for Richmond Symphony
REFRESH-INTERVAL;VALUE=DURATION:PT1H
X-Robots-Tag:noindex
X-PUBLISHED-TTL:PT1H
BEGIN:VTIMEZONE
TZID:America/New_York
BEGIN:DAYLIGHT
TZOFFSETFROM:-0500
TZOFFSETTO:-0400
TZNAME:EDT
DTSTART:20170312T070000
END:DAYLIGHT
BEGIN:STANDARD
TZOFFSETFROM:-0400
TZOFFSETTO:-0500
TZNAME:EST
DTSTART:20171105T060000
END:STANDARD
END:VTIMEZONE
BEGIN:VEVENT
DTSTART;TZID=America/New_York:20170401T190000
DTEND;TZID=America/New_York:20170401T193000
DTSTAMP:20260422T035747
CREATED:20160921T195052Z
LAST-MODIFIED:20170401T000429Z
UID:6525-1491073200-1491075000@www.richmondsymphony.com
SUMMARY:Brunswick High School
DESCRIPTION:The Richmond Symphony is performing in Lawrenceville\, Virginia in April for an evening of fun. They will be performing Union Bank & Trust Lollipops Concert series 4. The symphony will be performing A Child’s Guide to the Orchestra with Really Inventive Stuff. \nThe performance will be held on Saturday\, April 1\, 2017\, at 7:00 p.m.
URL:https://www.richmondsymphony.com/event/brunswick-high-school/
LOCATION:VA
ATTACH;FMTTYPE=image/jpeg:https://www.richmondsymphony.com/wp-content/uploads/2016/09/Rich_Symph-270.jpg
END:VEVENT
BEGIN:VEVENT
DTSTART;TZID=America/New_York:20170402T143000
DTEND;TZID=America/New_York:20170402T173000
DTSTAMP:20260422T035747
CREATED:20161003T170751Z
LAST-MODIFIED:20161003T170751Z
UID:6663-1491143400-1491154200@www.richmondsymphony.com
SUMMARY:Turandot
DESCRIPTION:Based on an ancient fable set in China\, this story of the legendary Princess Turandot\, so desirable that men risked their heads for her hand in marriage\, weaves the quest for love with the ultimate consequences. From the opening moments of Puccini’s extravagant and exotic score\, you will be thrown into a world of suspense and horror. Featuring “Nessun dorma\,” one of the most famous opera arias of all time\, and sung by a stellar cast of internationally recognized singers\, led by audience favorite Kelly Cae Hogan (Salome 2015) and Derek Taylor (La Boheme 2009)\, you will be enthralled by this epic new production\, under the direction of Virginia Opera’s beloved Lillian Groag (La Traviata 2015). \nSung in Italian with English Supertitles
URL:https://www.richmondsymphony.com/event/turandot-7/
LOCATION:Carpenter Theatre\, 612 East Grace Street\, Richmond \, VA\, 23219\, United States
ATTACH;FMTTYPE=image/jpeg:https://www.richmondsymphony.com/wp-content/uploads/2015/09/violins.jpg
GEO:37.5415432;-77.43695
X-APPLE-STRUCTURED-LOCATION;VALUE=URI;X-ADDRESS=Carpenter Theatre 612 East Grace Street Richmond  VA 23219 United States;X-APPLE-RADIUS=500;X-TITLE=612 East Grace Street:geo:-77.43695,37.5415432
END:VEVENT
BEGIN:VEVENT
DTSTART;TZID=America/New_York:20170408T200000
DTEND;TZID=America/New_York:20170408T200000
DTSTAMP:20260422T035747
CREATED:20160216T193607Z
LAST-MODIFIED:20170327T140709Z
UID:4550-1491681600-1491681600@www.richmondsymphony.com
SUMMARY:Schubert\, Bruckner & Vaughan Williams
DESCRIPTION:Discover the power of live music with our Altria Masterworks series. Featuring orchestral classics and contemporary composers\, this series will inspire you. Join us an hour before each concert for a free pre-concert talk with the Richmond Symphony Music Director\, Steven Smith. These talks often feature guest artists and conductors and provide you with insights for the concert you are about to hear. \nRennolds Memorial Concert\nLearn more about Steven Smith\, conductor\nLearn more about Michelle Areyzaga\, soprano\nLearn more about Kevin Deas\, bass-baritone\nLearn more about the Richmond Symphony Chorus\nLearn more about Erin R. Freeman\, chorus director \nProgram Notes  \nArtwork by: Duncan Robertson / Inspired by: Vaughan Williams Dona Nobis Pacem \n\nPurchase tickets to Sunday’s performance \n  \n \n 
URL:https://www.richmondsymphony.com/event/vaughan-williams-schubert-2/
LOCATION:Carpenter Theatre\, 612 East Grace Street\, Richmond \, VA\, 23219\, United States
CATEGORIES:Masterworks Series
ATTACH;FMTTYPE=image/jpeg:https://www.richmondsymphony.com/wp-content/uploads/2016/02/Duncan-Robertson-version-2-RGB.jpg
GEO:37.5415432;-77.43695
X-APPLE-STRUCTURED-LOCATION;VALUE=URI;X-ADDRESS=Carpenter Theatre 612 East Grace Street Richmond  VA 23219 United States;X-APPLE-RADIUS=500;X-TITLE=612 East Grace Street:geo:-77.43695,37.5415432
END:VEVENT
BEGIN:VEVENT
DTSTART;TZID=America/New_York:20170409T150000
DTEND;TZID=America/New_York:20170409T170000
DTSTAMP:20260422T035747
CREATED:20160216T193605Z
LAST-MODIFIED:20170327T140745Z
UID:4541-1491750000-1491757200@www.richmondsymphony.com
SUMMARY:Schubert\, Bruckner & Vaughan Williams
DESCRIPTION:Discover the power of live music with our Altria Masterworks series. Featuring orchestral classics and contemporary composers\, this series will inspire you. Join us an hour before each concert for a free pre-concert talk with the Richmond Symphony Music Director\, Steven Smith. These talks often feature guest artists and conductors and provide you with insights for the concert you are about to hear. \nRennolds Memorial Concert\nLearn more about Steven Smith\, conductor\nLearn more about Michelle Areyzaga\, soprano\nLearn more about Kevin Deas\, bass-baritone\nLearn more about the Richmond Symphony Chorus\nLearn more about Erin R. Freeman\, chorus director \nProgram Notes \nArtwork by: Duncan Robertson / Inspired by: Vaughan Williams Dona Nobis Pacem \n  \n 
URL:https://www.richmondsymphony.com/event/vaughan-williams-schubert/
LOCATION:Carpenter Theatre\, 612 East Grace Street\, Richmond \, VA\, 23219\, United States
CATEGORIES:Masterworks Series
ATTACH;FMTTYPE=image/jpeg:https://www.richmondsymphony.com/wp-content/uploads/2016/02/Duncan-Robertson-version-2-RGB.jpg
GEO:37.5415432;-77.43695
X-APPLE-STRUCTURED-LOCATION;VALUE=URI;X-ADDRESS=Carpenter Theatre 612 East Grace Street Richmond  VA 23219 United States;X-APPLE-RADIUS=500;X-TITLE=612 East Grace Street:geo:-77.43695,37.5415432
END:VEVENT
BEGIN:VEVENT
DTSTART;TZID=America/New_York:20170411T190000
DTEND;TZID=America/New_York:20170411T210000
DTSTAMP:20260422T035747
CREATED:20170317T140027Z
LAST-MODIFIED:20170317T140341Z
UID:8442-1491937200-1491944400@www.richmondsymphony.com
SUMMARY:Richmond Symphony at Saint Michael Catholic Church
DESCRIPTION:As part of St. Michael Catholic Church’s 25th Anniversary celebration\, we are pleased to announce that the Richmond Symphony Orchestra and Richmond Symphony Chorus will be returning to St. Michael for one performance! \nThe Orchestra\, under the direction of Conductor\, Erin R. Freeman\, will perform pieces from Beethoven\, Ravel\, Mahler\, Tchaikovsky\, Brahms\, and Handel.  Violinist\, Daisuke Yamamoto will be featured in the program. The Chorus will join the Orchestra for Jim Erb’s arrangement of Shenandoah. \nThere will be one 15 minute intermission\, at which refreshments will be available.  The performance will be in the center of St. Michael’s round Sanctuary — providing a unique experience for the audience. \nEarly bird ticket sales provide a discount on the price of each ticket.  Reserved seating is offered in the “chairs” in the sanctuary; general seating is available in the pews.
URL:https://www.richmondsymphony.com/event/richmond-symphony-at-saint-michael-catholic-church/
LOCATION:Saint Michael Catholic Church\, 4491 Springfield Rd\, Glen Allen\, VA\, 23060\, United States
ATTACH;FMTTYPE=image/jpeg:https://www.richmondsymphony.com/wp-content/uploads/2015/09/violins.jpg
END:VEVENT
BEGIN:VEVENT
DTSTART;TZID=America/New_York:20170427T183000
DTEND;TZID=America/New_York:20170427T193000
DTSTAMP:20260422T035747
CREATED:20160216T200833Z
LAST-MODIFIED:20170419T193047Z
UID:4443-1493317800-1493321400@www.richmondsymphony.com
SUMMARY:Rush Hour 4
DESCRIPTION:These one-hour informal concerts at Hardywood Park Craft Brewery return for another great season. Grab a beer\, hit the food trucks and enjoy a great concert in the Hardywood tasting room. \nCover fee is $15 and seating is limited. \n  \nLearn more about Chia-Hsuan Lin\, conductor. \n  \nSponsored by:\n \n  \n  \n  \n  \n 
URL:https://www.richmondsymphony.com/event/rush-hour-4/
LOCATION:Hardywood Park Craft Brewery Richmond\, 2408-2410 Ownby Lane\, Richmond\, VA\, 23220\, United States
CATEGORIES:Hardywood
ATTACH;FMTTYPE=image/jpeg:https://www.richmondsymphony.com/wp-content/uploads/2015/02/Hardywood_21.jpg
END:VEVENT
BEGIN:VEVENT
DTSTART;TZID=America/New_York:20170428T193000
DTEND;TZID=America/New_York:20170428T213000
DTSTAMP:20260422T035747
CREATED:20170220T152039Z
LAST-MODIFIED:20170427T192411Z
UID:8213-1493407800-1493415000@www.richmondsymphony.com
SUMMARY:James Erb Choral Celebration
DESCRIPTION:Join the Richmond Symphony Chorus as they pay homage to founder James Erb. Most well-known for his stirring arrangement of Shenandoah\, Erb also composed and arranged several other works\, including Amazing Grace\, Now is the Cool of the Day\, and the Colorado Trail.  We will perform several of these lesser-known\, but equally beautiful selections\, and pair them with music of Orlando Lassus\, curated and edited by Dr. Erb\, and three movements from the Brahms’ Requiem\, the final full work that Erb prepared with the Richmond Symphony Chorus. \nLearn more about Erin R. Freeman\, Director of the Richmond Symphony Chorus & James Erb Choral Chair\nLearn more about the Richmond Symphony Chorus \nSpecial Offer!\nTicket buyers for this concert will be eligible to pre-order their James Erb Choral Celebration recording for just $10. This special edition concert recording will feature James Erb arrangements never before available on CD. Regular price $20. \n 
URL:https://www.richmondsymphony.com/event/james-b-erb-memorial-concert-2/
LOCATION:Second Baptist Church\, 9614 River Rd\, Richmond \, 23229
ATTACH;FMTTYPE=image/jpeg:https://www.richmondsymphony.com/wp-content/uploads/2017/02/Richmond-Symphony-Chorus.jpg
GEO:37.583747;-77.60233
X-APPLE-STRUCTURED-LOCATION;VALUE=URI;X-ADDRESS=Second Baptist Church 9614 River Rd Richmond  23229;X-APPLE-RADIUS=500;X-TITLE=9614 River Rd:geo:-77.60233,37.583747
END:VEVENT
BEGIN:VEVENT
DTSTART;TZID=America/New_York:20170430T150000
DTEND;TZID=America/New_York:20170430T170000
DTSTAMP:20260422T035747
CREATED:20160216T200932Z
LAST-MODIFIED:20170315T175204Z
UID:4436-1493564400-1493571600@www.richmondsymphony.com
SUMMARY:Stravinsky\, Beethoven\, Mozart
DESCRIPTION:Join us at Randolph-Macon College for intimate\, chamber orchestra concerts that allow you to get up close and personal with the musicians of the Richmond Symphony. The series takes place at Blackwell Auditorium at Randolph-Macon College in Ashland and features free pre-concert talks at the Dollar Tree Room in Brock Commons one hour before the concert. \nLearn more about Chia-Hsuan Lin\, conductor \nProgram Notes
URL:https://www.richmondsymphony.com/event/stravinsky-beethoven-mozart/
LOCATION:Blackwell Auditorium at Randolph-Macon College\, 	204 Henry Street\, Ashland\, VA\, 23005\, United States
CATEGORIES:Metro Series
ATTACH;FMTTYPE=image/jpeg:https://www.richmondsymphony.com/wp-content/uploads/2016/01/Metro4-Chia-Hsuan-Lin-e1454099440365.jpg
END:VEVENT
END:VCALENDAR