BEGIN:VCALENDAR
VERSION:2.0
PRODID:-//Richmond Symphony - ECPv6.15.1//NONSGML v1.0//EN
CALSCALE:GREGORIAN
METHOD:PUBLISH
X-WR-CALNAME:Richmond Symphony
X-ORIGINAL-URL:https://www.richmondsymphony.com
X-WR-CALDESC:Events for Richmond Symphony
REFRESH-INTERVAL;VALUE=DURATION:PT1H
X-Robots-Tag:noindex
X-PUBLISHED-TTL:PT1H
BEGIN:VTIMEZONE
TZID:America/New_York
BEGIN:DAYLIGHT
TZOFFSETFROM:-0500
TZOFFSETTO:-0400
TZNAME:EDT
DTSTART:20170312T070000
END:DAYLIGHT
BEGIN:STANDARD
TZOFFSETFROM:-0400
TZOFFSETTO:-0500
TZNAME:EST
DTSTART:20171105T060000
END:STANDARD
END:VTIMEZONE
BEGIN:VEVENT
DTSTART;TZID=America/New_York:20170505T170000
DTEND;TZID=America/New_York:20170505T210000
DTSTAMP:20260422T022312
CREATED:20170216T164335Z
LAST-MODIFIED:20170316T204754Z
UID:8188-1494003600-1494018000@www.richmondsymphony.com
SUMMARY:RVA East End Festival 2017
DESCRIPTION:Click here  for more information.
URL:https://www.richmondsymphony.com/event/rva-east-end-festival-2017-2/
LOCATION:Chimborazo Park\, 3200 East Broad Street\, Richmond\, VA\, 23223\, United States
ATTACH;FMTTYPE=image/jpeg:https://www.richmondsymphony.com/wp-content/uploads/2017/02/Dave-Parrish-e1559664047428.jpg
END:VEVENT
BEGIN:VEVENT
DTSTART;TZID=America/New_York:20170506T120000
DTEND;TZID=America/New_York:20170506T200000
DTSTAMP:20260422T022312
CREATED:20170216T163635Z
LAST-MODIFIED:20170316T204807Z
UID:8187-1494072000-1494100800@www.richmondsymphony.com
SUMMARY:RVA East End Festival 2017
DESCRIPTION:Click here  for more information.
URL:https://www.richmondsymphony.com/event/rva-east-end-festival-2017/
LOCATION:Chimborazo Park\, 3200 East Broad Street\, Richmond\, VA\, 23223\, United States
ATTACH;FMTTYPE=image/jpeg:https://www.richmondsymphony.com/wp-content/uploads/2017/02/Dave-Parrish-e1559664047428.jpg
END:VEVENT
BEGIN:VEVENT
DTSTART;TZID=America/New_York:20170512T183000
DTEND;TZID=America/New_York:20170512T193000
DTSTAMP:20260422T022312
CREATED:20160216T200620Z
LAST-MODIFIED:20170508T172845Z
UID:4450-1494613800-1494617400@www.richmondsymphony.com
SUMMARY:Brahms: Symphony No. 1
DESCRIPTION:Dominion Casual Fridays features an exciting line-up of orchestral music in a relaxed setting. Sit back in the beautiful Carpenter Theatre as your host and conductor guides you through a 60-minute journey into the stories behind the performance. After the concert\, collect your exclusive composer trading card and head to the speakeasy at VAGABOND restaurant across the street for an exclusive happy-hour with Richmond Symphony musicians. \nLearn more about Steven Smith\, conductor\nLearn more about Todd Waldo\, host \nProgram Notes \n\n \n \n  \n  \n  \n \n  \n  \n  \n \n  \n  \n  \n 
URL:https://www.richmondsymphony.com/event/brahms-symphony-no-1/
LOCATION:Carpenter Theatre\, 612 East Grace Street\, Richmond \, VA\, 23219\, United States
ATTACH;FMTTYPE=image/jpeg:https://www.richmondsymphony.com/wp-content/uploads/2016/02/DANC0472.jpg
GEO:37.5415432;-77.43695
X-APPLE-STRUCTURED-LOCATION;VALUE=URI;X-ADDRESS=Carpenter Theatre 612 East Grace Street Richmond  VA 23219 United States;X-APPLE-RADIUS=500;X-TITLE=612 East Grace Street:geo:-77.43695,37.5415432
END:VEVENT
BEGIN:VEVENT
DTSTART;TZID=America/New_York:20170513T200000
DTEND;TZID=America/New_York:20170513T220000
DTSTAMP:20260422T022312
CREATED:20160216T193611Z
LAST-MODIFIED:20170428T200609Z
UID:4548-1494705600-1494712800@www.richmondsymphony.com
SUMMARY:Paine\, Elgar\, Brahms
DESCRIPTION:Discover the power of live music with our Altria Masterworks series. Featuring orchestral classics and contemporary composers\, this series will inspire you. Join us an hour before each concert for a free pre-concert talk with the Richmond Symphony Music Director\, Steven Smith. These talks often feature guest artists and conductors and provide you with insights for the concert you are about to hear. \nLearn more about Steven Smith\, conductor\nLearn more about Gary Hoffman\, cello \nProgram Notes \nArtwork by: Georgiy Kuznetsov / Inspired by: Paine Prelude to Oedipus Tyrannus \n  \n  \n \n  \n  \n  \n  \n \n  \n  \n  \n  \n \n  \n  \n  \n 
URL:https://www.richmondsymphony.com/event/paine-elgar-brahms/
LOCATION:Carpenter Theatre\, 612 East Grace Street\, Richmond \, VA\, 23219\, United States
CATEGORIES:Masterworks Series
ATTACH;FMTTYPE=image/jpeg:https://www.richmondsymphony.com/wp-content/uploads/2016/01/MW8_Kuznetsov.jpg
GEO:37.5415432;-77.43695
X-APPLE-STRUCTURED-LOCATION;VALUE=URI;X-ADDRESS=Carpenter Theatre 612 East Grace Street Richmond  VA 23219 United States;X-APPLE-RADIUS=500;X-TITLE=612 East Grace Street:geo:-77.43695,37.5415432
END:VEVENT
BEGIN:VEVENT
DTSTART;TZID=America/New_York:20170521T120000
DTEND;TZID=America/New_York:20170521T150000
DTSTAMP:20260422T022312
CREATED:20170508T171335Z
LAST-MODIFIED:20170509T150117Z
UID:8494-1495368000-1495378800@www.richmondsymphony.com
SUMMARY:Dia de la Música Festival
DESCRIPTION:More info (English)\nMore info (Español) \n 
URL:https://www.richmondsymphony.com/event/dia-de-la-musica-festival/
LOCATION:Sacred Heart Center\, 1400 Perry Street\, Richmond\, 23224
ATTACH;FMTTYPE=image/png:https://www.richmondsymphony.com/wp-content/uploads/2017/05/SouthsideWebHero-01.png
END:VEVENT
BEGIN:VEVENT
DTSTART;TZID=America/New_York:20170521T160000
DTEND;TZID=America/New_York:20170521T160000
DTSTAMP:20260422T022312
CREATED:20161019T170113Z
LAST-MODIFIED:20170310T193402Z
UID:6996-1495382400-1495382400@www.richmondsymphony.com
SUMMARY:Spring Concert
DESCRIPTION:The Youth Orchestra Program is the Richmond Symphony’s flagship educational program\, founded in 1962\, consists of four youth orchestras providing beginning to advanced musical training. As the premier orchestral training program of central Virginia\, students participate in weekly rehearsals\, coaching and masterclasses by Richmond Symphony musicians\, chamber music performances\, mentoring and other musical and social activities. The Youth Orchestra Program is open to elementary through high school students. Rehearsals are held every Tuesday afternoon September through May. \nAuditions for the Youth Orchestra Program take place in the spring for the following season – learn more! \nPerformances include: \nString Sinfonietta led by Christie-Jo Adams \nCamerata Strings led by Rebecca Jilcott \nYouth Concert Orchestra led by Christopher Moseley
URL:https://www.richmondsymphony.com/event/spring-concert-5/
LOCATION:Carpenter Theatre\, 612 East Grace Street\, Richmond \, VA\, 23219\, United States
CATEGORIES:Richmond Symphony Youth Orchestra
ATTACH;FMTTYPE=image/jpeg:https://www.richmondsymphony.com/wp-content/uploads/2015/10/XN9G0020.jpg
ORGANIZER;CN="Richmond Symphony":MAILTO:patronservices@richmondsymphony.com
GEO:37.5415432;-77.43695
X-APPLE-STRUCTURED-LOCATION;VALUE=URI;X-ADDRESS=Carpenter Theatre 612 East Grace Street Richmond  VA 23219 United States;X-APPLE-RADIUS=500;X-TITLE=612 East Grace Street:geo:-77.43695,37.5415432
END:VEVENT
BEGIN:VEVENT
DTSTART;TZID=America/New_York:20170521T190000
DTEND;TZID=America/New_York:20170521T190000
DTSTAMP:20260422T022312
CREATED:20161019T165025Z
LAST-MODIFIED:20170310T193704Z
UID:6992-1495393200-1495393200@www.richmondsymphony.com
SUMMARY:Spring Concert
DESCRIPTION:Richmond Symphony Youth Orchestra (RSYO) is the top ensemble of the Youth Orchestra Program. Richmond Symphony’s flagship educational program\, founded in 1962\, consists of four youth orchestras providing beginning to advanced musical training. As the premier orchestral training program of central Virginia\, students participate in weekly rehearsals\, coaching and masterclasses by Richmond Symphony musicians\, chamber music performances\, mentoring and other musical and social activities. The Youth Orchestra Program is open to elementary through high school students. Rehearsals are held every Tuesday afternoon September through May. \nAuditions for RSYO are held each spring – learn more!
URL:https://www.richmondsymphony.com/event/spring-concert-3/
LOCATION:Carpenter Theatre\, 612 East Grace Street\, Richmond \, VA\, 23219\, United States
CATEGORIES:Richmond Symphony Youth Orchestra
ATTACH;FMTTYPE=image/jpeg:https://www.richmondsymphony.com/wp-content/uploads/2015/10/Pano154-155.jpg
ORGANIZER;CN="Richmond Symphony":MAILTO:patronservices@richmondsymphony.com
GEO:37.5415432;-77.43695
X-APPLE-STRUCTURED-LOCATION;VALUE=URI;X-ADDRESS=Carpenter Theatre 612 East Grace Street Richmond  VA 23219 United States;X-APPLE-RADIUS=500;X-TITLE=612 East Grace Street:geo:-77.43695,37.5415432
END:VEVENT
END:VCALENDAR