BEGIN:VCALENDAR
VERSION:2.0
PRODID:-//Richmond Symphony - ECPv6.15.1//NONSGML v1.0//EN
CALSCALE:GREGORIAN
METHOD:PUBLISH
X-ORIGINAL-URL:https://www.richmondsymphony.com
X-WR-CALDESC:Events for Richmond Symphony
REFRESH-INTERVAL;VALUE=DURATION:PT1H
X-Robots-Tag:noindex
X-PUBLISHED-TTL:PT1H
BEGIN:VTIMEZONE
TZID:America/New_York
BEGIN:DAYLIGHT
TZOFFSETFROM:-0500
TZOFFSETTO:-0400
TZNAME:EDT
DTSTART:20170312T070000
END:DAYLIGHT
BEGIN:STANDARD
TZOFFSETFROM:-0400
TZOFFSETTO:-0500
TZNAME:EST
DTSTART:20171105T060000
END:STANDARD
END:VTIMEZONE
BEGIN:VEVENT
DTSTART;TZID=America/New_York:20170603T120000
DTEND;TZID=America/New_York:20170603T200000
DTSTAMP:20260422T004225
CREATED:20170501T210517Z
LAST-MODIFIED:20170531T165507Z
UID:8730-1496491200-1496520000@www.richmondsymphony.com
SUMMARY:Music Marathon at Strangeways
DESCRIPTION:Join us at Strangeways Brewing for the 2017 Richmond Symphony Music Marathon! This day-long collaborative concert showcases the talents of the Richmond Symphony family and community. Performers of all ages raise money from sponsors and all proceeds will support the Richmond Symphony’s programs and general operations. \n  \nSponsor a musician or make a donation\n\n\n\nTime Slot\nPerformers\n\n\n12 – 1pm\nTreesa Gold’s Suzuki Studio\n\n\n \nMatt Gold\, bass\n\n\n \nHarrison Quartet – Faith Hofma\, violin; Naima Burrs\, violin; Caleb Paxton\, viola; Stephanie Barrett\, cello\n\n\n \nJen Lawson\, flute; David Fisk\, piano\n\n\n \n \n\n\n1 – 2pm\nTom Schneider\, bassoon\n\n\n \nThe Jack Winn-tet: Jack Winn\, Lee Covington\, Randall Pharr\, Ross Rissell\n\n\n \nStacy Matthews\, violin\, and Todd Matthews\, bass\n\n\n \nStacy Matthews\, violin; Susy Yim\, violin; Anna Rogers\, viola; and Todd Matthews\, bass\n\n\n \n \n\n\n2 – 3pm\nKaren Huddle\, flute; Michael Mercatante\, piano\n\n\n \nEthan Linklater\, piano\n\n\n \nDavid Berry\, viola\n\n\n \n \n\n\n3 – 4pm\nTracy Schwarzschild\, piano\n\n\n \nAnne O’Byrne\, voice; David Fisk\, piano\n\n\n \nScott Dodson\, tuba; Aimee Halbruner\, piano\n\n\n \nChia-Hsuan Lin\, Marimba\n\n\n \n \n\n\n4 – 5pm\nHall Family – Jonathan\, piano; Johanna\, clarinet; Samuel\, trumpet; Alison\, Peter and Miriam\, violin\n\n\n \nSusanna Klein\, violin; Molly Sharp\, viola; Mauro Correa\, guitar\n\n\n \nAmanda Yao\, piano\, and Alexander Yao\, piano\n\n\n \nSteven Smith\, violin and Anna Rogers\, viola\n\n\n \n \n\n\n5 – 6pm\nSteven Smith\, violin; David Fisk\, piano\n\n\n \nReina Palencia\, Guitar/vocals\n\n\n \n \n\n\n6 – 7pm\nRSO String Quartet: Daisuke Yamamoto\, violin; Ellen Cockerham Riccio\, violin; Molly Sharp\, viola; Neal Cary\, cello\n\n\n \nFlashlight Tag – Justin Laughter and Brian Phelps\, guitar and vocals\n\n\n \nLarry Haake\, Tuba; Roger Comley\, euphonium\n\n\n \n \n\n\n7 – 8pm\nZack Artis\, Guitar\n\n\n\nIf you are participating in the Music Marathon and wish to collect your sponsor donations personally please download the donation form here and return it along with all collected contributions to the Richmond Symphony by Saturday\, June 3\, 2017. \n  \n \n  \n  \n  \n  \n  \n  \n  \n  \n 
URL:https://www.richmondsymphony.com/event/music-marathon-at-strangeways/
LOCATION:Strangeways Brewing\, 2277 A Dabney Road\, Richmond \, 23230
ATTACH;FMTTYPE=image/jpeg:https://www.richmondsymphony.com/wp-content/uploads/2017/05/webhero.jpg
END:VEVENT
BEGIN:VEVENT
DTSTART;TZID=America/New_York:20170603T190000
DTEND;TZID=America/New_York:20170603T210000
DTSTAMP:20260422T004225
CREATED:20170524T201633Z
LAST-MODIFIED:20170524T202317Z
UID:8858-1496516400-1496523600@www.richmondsymphony.com
SUMMARY:Pocahontas State Park
DESCRIPTION:The Richmond Symphony invites you to enjoy a FREE outdoor concert on Saturday\, June 3 at 7pm. Bring a blanket\, picnic basket\, family and friends to enjoy the sounds of a live orchestra at the beautiful Pocahontas State Park in Chesterfield\, VA. The evening will be led by Associate Conductor\, Chia-Hsuan Lin. \nThis concert is FREE and open to the public (no ticket required). A $7 parking fee applies. \n  \nOutdoor Rain Date: In the event of rain\, this concert will be held on Sunday\, June 4 at 7pm (Pocahontas State Park) \nIndoor Rain Date: Sunday\, June 4 at 7pm (Cosby High School\, 14300 Fox Club Pkwy\, Midlothian\, VA 23112)
URL:https://www.richmondsymphony.com/event/pocahontas-state-park-3/
LOCATION:Pocahontas State Park Heritage Amphitheater\, 10301 State Park Road\, Chesterfield\, VA\, 23832\, United States
ATTACH;FMTTYPE=image/jpeg:https://www.richmondsymphony.com/wp-content/uploads/2017/05/Pocahontas.jpg
END:VEVENT
BEGIN:VEVENT
DTSTART;TZID=America/New_York:20170607T080000
DTEND;TZID=America/New_York:20170617T175900
DTSTAMP:20260422T004225
CREATED:20161206T183407Z
LAST-MODIFIED:20170412T175612Z
UID:7498-1496822400-1497722340@www.richmondsymphony.com
SUMMARY:Trip to Europe
DESCRIPTION:Please join friends of the Richmond Symphony and Music Director Steven Smith on this exciting musical exploration of Eastern European capitals Prague\, Vienna and Budapest. \nPricing\n\n\n\nLand Package\n$3\,980 per person\, based on double occupancy\n$700 single supplement\n\n\nAirfare\n$780 per person roundtrip\n\n\nReservations\nPlease complete this form and send to\nDee Dee White\, Covington Travel\,\n4800 Cox Road\, Suite 200\, Glen Allen\, VA 23060\n804.747.4197  |   deedeew@covtrav.com\n\n\n\n  \nItinerary\nWednesday\, June 7 – Richmond – Amsterdam \n\nDepart U.S. to Amsterdam\nBy motorcoach to Dulles Airport for flight to Amsterdam\n\nThursday\, June 8 –  Amsterdam – Prague \n\nAmsterdam to Prague\nBy connecting flight to Prague\, arriving mid-day\nEvening: Welcome Dinner\n\nFriday\, June 9 – Prague \n\n“The city of 100 Spires”: Walking Tour focuses on the lives of Mozart\, Dvořák\, Smetana\, Liszt and Beethoven; coffee and strudel in the famous Mozart Café with view of Astronomical clock and Old Town square\nEvening: Prague Rudolfinum – Tchaikovsky\nJean-Yves Thibaudet\, piano; Semyon Bychkov\, conductor\n\nSaturday\, June 10 – Prague  \n\nOptional Activity: Private Day Trip to Marianske Lazny\, a spa town near Prague in West Bohemia\, where various musical performances are ongoing\n\nSunday\, June 11 – Prague / Vienna \n\nBy motorcoach to Vienna via the fairy-tale UNESCO town of Cesky Krumlov\, Czech Republic\, with its beautiful cobblestone streets and grandiose castle. Continue to Vienna\, city of high culture\, grand cafés and breathtaking architecture\nEvening: Vienna Symphony Orchestra – Musikverein Wien\nShostakovich\, Dvořák / Leonidas Kavakos\, violin; Lionel Bringuier\, conductor\n\nMonday\, June 12 – Vienna / Salzburg / Vienna \n\n“The Sound of Music” Tour – See the areas where The Sound of Music was filmed; visits to Mozart’s house and the Domquartier Museum\, plus a taste of the famous Fürst candy\n\nTuesday\, June 13 – Vienna \n\nWalking Tour: Discover Vienna through its classical music landmarks and museums. Visit Mozart’s house and the House of Music followed by a private tour of the State Opera House\nEvening: Vienna State Opera\, Verdi’s “Rigoletto”\n\nWednesday\, June 14 – Vienna / Bratislava / Budapest \n\nBy motorcoach to Budapest with stop for city tour of Bratislava\, capital of Slovakia\nEvening: Folk Concert with Dances by Hungarian folk ensembles\n\nThursday\, June 15 – Budapest \n\n“The Paris of Central Europe”\, Budapest is a sprawling regal city split in two halves—ancient Buda and modern Pest\, both with their own charms and linked by numerous picturesque bridges.\nWalking Tour includes Music Academy\, Franz Liszt Museum\, Opera House\n(mini concert) and Zoltan Kodaly Museum\nEvening: Danube Carnival – Performances to be announced\n\nFriday\, June 16 – Budapest \n\nOptional Activity: Four-hour Food & Wine Tasting Walking Tour with numerous generous tastings; Central Market Hall; small shops and cafés\nOptional Activity: Town of Eger Wine Tasting Private Tour featuring excellent reds and whites of this historical wine region in the northern hills of Hungary\nEvening: Farewell Dinner\n\nSaturday\, June 17 – Budapest / Paris / Richmond \n\nFrom Budapest to Charles de Gaulle for connecting flight to Dulles Airport.\nBy motorcoach to Richmond\n\n 
URL:https://www.richmondsymphony.com/event/trip-to-europe/
LOCATION:Prague | Vienna | Budapest
ATTACH;FMTTYPE=image/jpeg:https://www.richmondsymphony.com/wp-content/uploads/2016/12/EuroTrip2017_websitegraphic2.jpg
END:VEVENT
END:VCALENDAR