BEGIN:VCALENDAR
VERSION:2.0
PRODID:-//Richmond Symphony - ECPv6.15.1//NONSGML v1.0//EN
CALSCALE:GREGORIAN
METHOD:PUBLISH
X-ORIGINAL-URL:https://www.richmondsymphony.com
X-WR-CALDESC:Events for Richmond Symphony
REFRESH-INTERVAL;VALUE=DURATION:PT1H
X-Robots-Tag:noindex
X-PUBLISHED-TTL:PT1H
BEGIN:VTIMEZONE
TZID:America/New_York
BEGIN:DAYLIGHT
TZOFFSETFROM:-0500
TZOFFSETTO:-0400
TZNAME:EDT
DTSTART:20170312T070000
END:DAYLIGHT
BEGIN:STANDARD
TZOFFSETFROM:-0400
TZOFFSETTO:-0500
TZNAME:EST
DTSTART:20171105T060000
END:STANDARD
END:VTIMEZONE
BEGIN:VEVENT
DTSTART;TZID=America/New_York:20170914T200000
DTEND;TZID=America/New_York:20170914T220000
DTSTAMP:20260421T194449
CREATED:20170207T165319Z
LAST-MODIFIED:20170912T221540Z
UID:7842-1505419200-1505426400@www.richmondsymphony.com
SUMMARY:Opening Night with Joshua Bell and Yesong Sophie Lee
DESCRIPTION:The Richmond Symphony’s opening night concert will feature the extraordinary talents of violinists Joshua Bell and 13-year-old child prodigy Yesong Sophie Lee. The concert will feature Bell and Lee performing J.S. Bach’s Double Violin Concerto and Bell performing Lalo’s Symphonie espagnole for Violin and Orchestra. Join us an hour before the concert for a free pre-concert talk with the Richmond Symphony Music Director\, Steven Smith. These talks often feature guest artists and conductors and provide you with insights for the concert you are about to hear. Learn more about Steven Smith\, conductor Learn more about Joshua Bell Learn more about Yesong Sophie Lee **Tickets purchased previously for Lang Lang will be redeemed for the Joshua Bell and Yesong Sophie Lee concert.  \n\n\n\nSingle Ticket Pricing\nAdult\nChild*\n\n\nMezzanine\nn/a\nn/a\n\n\nFront Orchestra / Front First Dress\n$100.00\n$75.00\n\n\nRear Orchestra\n$80.00\n$45.00\n\n\nSide Orchestra / Rear First Dress\n$55.00\n$25.00\n\n\nFront Second Dress\n$30.00\n$15.00\n\n\n\nJoshua Bell appears by arrangement with Park Avenue Artists (www.parkavenueartists.com) and Primo Artists (www.primoartists.com)
URL:https://www.richmondsymphony.com/event/opening-night-with-joshua-bell-yesong-sophie-lee/2017-09-14/
LOCATION:Carpenter Theatre\, 612 East Grace Street\, Richmond \, VA\, 23219\, United States
CATEGORIES:Masterworks Series
ATTACH;FMTTYPE=image/jpeg:https://www.richmondsymphony.com/wp-content/uploads/2015/01/Bell-Lee-Hero-Image.jpg
GEO:37.5415432;-77.43695
X-APPLE-STRUCTURED-LOCATION;VALUE=URI;X-ADDRESS=Carpenter Theatre 612 East Grace Street Richmond  VA 23219 United States;X-APPLE-RADIUS=500;X-TITLE=612 East Grace Street:geo:-77.43695,37.5415432
END:VEVENT
BEGIN:VEVENT
DTSTART;TZID=America/New_York:20170915T183000
DTEND;TZID=America/New_York:20170915T193000
DTSTAMP:20260421T194449
CREATED:20170207T173146Z
LAST-MODIFIED:20170912T215231Z
UID:7769-1505500200-1505503800@www.richmondsymphony.com
SUMMARY:Ein Heldenleben (A Hero's Life)
DESCRIPTION:It’s the perfect start to your Friday night! Relax with a drink and let the evening’s host\, along with the conductor\, take you behind the scenes of the music. Afterward\, head to an exclusive happy hour with Symphony musicians at Champion Brewing Company\, right up the street. Learn more about Steven Smith\, conductor
URL:https://www.richmondsymphony.com/event/ein-heldenleben-a-heros-life/2017-09-15/
LOCATION:Carpenter Theatre\, 612 East Grace Street\, Richmond \, VA\, 23219\, United States
ATTACH;FMTTYPE=image/jpeg:https://www.richmondsymphony.com/wp-content/uploads/2017/02/DANC0418.jpg
GEO:37.5415432;-77.43695
X-APPLE-STRUCTURED-LOCATION;VALUE=URI;X-ADDRESS=Carpenter Theatre 612 East Grace Street Richmond  VA 23219 United States;X-APPLE-RADIUS=500;X-TITLE=612 East Grace Street:geo:-77.43695,37.5415432
END:VEVENT
BEGIN:VEVENT
DTSTART;TZID=America/New_York:20170923T200000
DTEND;TZID=America/New_York:20170923T223000
DTSTAMP:20260421T194449
CREATED:20170207T171554Z
LAST-MODIFIED:20170907T160322Z
UID:7888-1506196800-1506205800@www.richmondsymphony.com
SUMMARY:The Broadberry Presents: RVA Live!
DESCRIPTION:Mark your calendars! On Saturday\, September 23rd some of our favorite RVA musicians will be joining the Richmond Symphony for an evening of collaboration at the Carpenter Theatre. Tickets are on sale\, starting at $10.  \nRVA Live! is a showcase designed to incorporate the musical arts of all genres and styles that represent Richmond’s top talent; and for the first time\, bringing these acts together on one stage. From classical orchestra to rock and roll\, “RVA Live!” will demonstrate and highlight the beauty of Richmond’s historical and ever-rising music scene\, proving RVA to be a top music destination. \nOrchestrations and arrangements by Trey Pollard (Spacebomb Records) and Marlysse Simmons and Toby Whitaker (Bio Ritmo). \nRVA Live! Artist Information \nMatthew E. White – www.matthewewhite.com \nNatalie Prass – www.natalieprass.com \nTim Barry – www.timbarryrva.com \nBio Ritmo – www.bioritmo.com \nClair Morgan – www.clairmorgan.com \nThe Broadberry – www.thebroadberry.com \n“The idea of RVA Live! is something I’ve been contemplating for some time and I am excited that the right partnership has presented itself.” says The Broadberry’s Lucas Fritz.  “With the help and guidance from the good people at the Richmond Symphony\, it is finally happening. It is truly an honor to help curate such a special night of music with the talented artists involved. I had the pleasure of working on Matthew E. White and Natalie Prass’ debut albums here in town. All the other bands I hold near and dear to my heart as they’ve really helped make The Broadberry and The Camel the wonderful venues that they have become over the past eight years. Bringing together all the different genres on one stage\, especially Carpenter Theatre with the Richmond Symphony\, is going to be truly amazing.” \n 
URL:https://www.richmondsymphony.com/event/the-broadberry-presents-rva-live-2/
LOCATION:Carpenter Theatre\, 612 East Grace Street\, Richmond \, VA\, 23219\, United States
CATEGORIES:Pops
ATTACH;FMTTYPE=image/jpeg:https://www.richmondsymphony.com/wp-content/uploads/2017/02/nobs-serpa-clone-stamped-e1486068600152.jpg
GEO:37.5415432;-77.43695
X-APPLE-STRUCTURED-LOCATION;VALUE=URI;X-ADDRESS=Carpenter Theatre 612 East Grace Street Richmond  VA 23219 United States;X-APPLE-RADIUS=500;X-TITLE=612 East Grace Street:geo:-77.43695,37.5415432
END:VEVENT
BEGIN:VEVENT
DTSTART;TZID=America/New_York:20170928T183000
DTEND;TZID=America/New_York:20170928T193000
DTSTAMP:20260421T194449
CREATED:20170207T172902Z
LAST-MODIFIED:20170929T183903Z
UID:7763-1506623400-1506627000@www.richmondsymphony.com
SUMMARY:Rush Hour 1
DESCRIPTION:We’re teaming up with Hardywood again this season to continue the popular\, Thursday night Rush Hour concerts! Grab your favorite craft beer\, hit the food trucks and enjoy a laid back concert in Hardywood’s Tasting Room. Cover charge is $15 and seating is limited. \nThis concert features soloist\, Molly Sharp (viola) on Clarke’s Sonata for Viola and Piano. Additional works from Beethoven\, Davies\, and Haydn will be performed by an ensemble from the Richmond Symphony Orchestra. \nPLEASE NOTE: The date of this concert has been changed from October 5 to SEPTEMBER 28\, 2017.
URL:https://www.richmondsymphony.com/event/rush-hour-17-1/2017-09-28/
LOCATION:Hardywood Park Craft Brewery Richmond\, 2408-2410 Ownby Lane\, Richmond\, VA\, 23220\, United States
CATEGORIES:Hardywood
ATTACH;FMTTYPE=image/jpeg:https://www.richmondsymphony.com/wp-content/uploads/2015/02/Hardywood_21.jpg
END:VEVENT
BEGIN:VEVENT
DTSTART;TZID=America/New_York:20170930T193000
DTEND;TZID=America/New_York:20170930T210000
DTSTAMP:20260421T194449
CREATED:20170925T191145Z
LAST-MODIFIED:20170925T194027Z
UID:9906-1506799800-1506805200@www.richmondsymphony.com
SUMMARY:Bridgewater Concert - Metro Series
DESCRIPTION:Join us at Bridgewater College for an intimate\, chamber orchestra concert that allow you to get up close and personal with the musicians of the Richmond Symphony. The event takes place at Cole Hall at Bridgewater College and features soloist\, Molly Sharp (principal viola) on Clarke’s Sonata for Viola and Piano. Additional works from Beethoven\, Davies\, and Haydn will be performed by the Richmond Symphony Orchestra. \nLearn more about Steven Smith\, conductor \nLearn more about Molly Sharp\, viola
URL:https://www.richmondsymphony.com/event/bridgewater-concert-metro-1/
LOCATION:Bridgewater College\, 402 East College Street\, Bridgewater\, VA\, 22812\, United States
END:VEVENT
END:VCALENDAR