BEGIN:VCALENDAR
VERSION:2.0
PRODID:-//Richmond Symphony - ECPv6.15.1//NONSGML v1.0//EN
CALSCALE:GREGORIAN
METHOD:PUBLISH
X-ORIGINAL-URL:https://www.richmondsymphony.com
X-WR-CALDESC:Events for Richmond Symphony
REFRESH-INTERVAL;VALUE=DURATION:PT1H
X-Robots-Tag:noindex
X-PUBLISHED-TTL:PT1H
BEGIN:VTIMEZONE
TZID:America/New_York
BEGIN:DAYLIGHT
TZOFFSETFROM:-0500
TZOFFSETTO:-0400
TZNAME:EDT
DTSTART:20170312T070000
END:DAYLIGHT
BEGIN:STANDARD
TZOFFSETFROM:-0400
TZOFFSETTO:-0500
TZNAME:EST
DTSTART:20171105T060000
END:STANDARD
END:VTIMEZONE
BEGIN:VEVENT
DTSTART;TZID=America/New_York:20171001T150000
DTEND;TZID=America/New_York:20171001T170000
DTSTAMP:20260421T181028
CREATED:20170207T172144Z
LAST-MODIFIED:20170929T144902Z
UID:7788-1506870000-1506877200@www.richmondsymphony.com
SUMMARY:Metro Collection 1
DESCRIPTION:Join us at Randolph-Macon College for intimate\, chamber orchestra concerts that allow you to get up close and personal with the musicians of the Richmond Symphony. The series takes place at Blackwell Auditorium at Randolph-Macon College in Ashland and features free pre-concert talks at the Dollar Tree Room in Brock Commons one hour before the concert. This concert features soloist\, Molly Sharp (viola) on Clarke’s Concerto for Viola and Orchestra. Additional works from Beethoven\, Davies\, and Haydn will be performed by the Richmond Symphony. \nLearn more about Steven Smith\, conductor \nLearn more about Molly Sharp\, viola \nPLEASE NOTE: The date of this concert has been changed from October 8 to OCTOBER 1\, 2017.
URL:https://www.richmondsymphony.com/event/metro-collection-1/2017-10-01/
LOCATION:Blackwell Auditorium at Randolph-Macon College\, 	204 Henry Street\, Ashland\, VA\, 23005\, United States
CATEGORIES:Metro Series
ATTACH;FMTTYPE=image/jpeg:https://www.richmondsymphony.com/wp-content/uploads/2017/02/Sharp-Molly-photo-e1486133050991.jpg
END:VEVENT
BEGIN:VEVENT
DTSTART;TZID=America/New_York:20171007T160000
DTEND;TZID=America/New_York:20171007T180000
DTSTAMP:20260421T181028
CREATED:20170929T145456Z
LAST-MODIFIED:20170929T183457Z
UID:9961-1507392000-1507399200@www.richmondsymphony.com
SUMMARY:Magnificent Midlothian Food Festival
DESCRIPTION:Click here for tickets and more details: http://midlofoodfestival.com/ \nThe Richmond Symphony performs at 4:00pm. Festival is from 12:00 – 6:00pm. \nIn partnership with Bon Secours and Chesterfield County. \n\n\nWhat:\nMagnificent Midlothian Food Festival \nWhere:\nWestchester Commons – 15786 WC Main St.\, Midlothian\, VA 23113-7311 \nWhen:\nSaturday\, October 7 | 12 PM – 8 PM \n About:\nThe 29th annual MAGNIFICENT Midlothian Food Festival is bigger and better than ever\, with 20+ restaurants\, local craft beer\, Virginia Wines\, and more! And this year\, the event moves to Saturday\, and the Richmond Symphony brings their Big Tent to Westchester Commons.  All proceeds go to local charities through Rotary International. \nTicket Details:\nGeneral Admission Ticket – $25\n(Includes 5 food/beverage tickets to use as you wish.  Additional food/beverage tickets can be purchased on-site for $5 each) Purchase tickets here.
URL:https://www.richmondsymphony.com/event/magnificent-midlothian-food-festival/
LOCATION:Westchester Commons\, 201 Perimeter Dr.\, Midlothian\, VA\, 23113\, United States
CATEGORIES:Education & Community
END:VEVENT
BEGIN:VEVENT
DTSTART;TZID=America/New_York:20171008T190000
DTEND;TZID=America/New_York:20171008T210000
DTSTAMP:20260421T181028
CREATED:20170621T153835Z
LAST-MODIFIED:20170818T150808Z
UID:9009-1507489200-1507496400@www.richmondsymphony.com
SUMMARY:Pokémon: Symphonic Evolutions
DESCRIPTION:Brought to life by the Richmond Symphony Orchestra\, Pokémon: Symphonic Evolutions gives fans and newcomers of all ages the chance to experience the evolution of the Pokémon franchise like never before.  Meet up with friends of all ages to catch\, battle and trade Pokémon from your favorite games.  All-new orchestral arrangements and carefully timed visuals draw from recent and classic Pokémon video games.
URL:https://www.richmondsymphony.com/event/pokemon-symphonic-evolutions/
LOCATION:Altria Theater\, 6 North Laurel Street\, Richmond \, VA\, 23220\, United States
ATTACH;FMTTYPE=image/jpeg:https://www.richmondsymphony.com/wp-content/uploads/2017/06/600-wide-E-blast.jpg
END:VEVENT
BEGIN:VEVENT
DTSTART;TZID=America/New_York:20171021T110000
DTEND;TZID=America/New_York:20171021T120000
DTSTAMP:20260421T181028
CREATED:20170207T173056Z
LAST-MODIFIED:20170829T193213Z
UID:7838-1508583600-1508587200@www.richmondsymphony.com
SUMMARY:A Superhero Halloween
DESCRIPTION:Nominate Your Everyday Superhero Today! \nDress in your favorite heroic costume and get ready for high-powered fun with the Richmond Symphony and the music of superheroes. \nArrive early and join us for a free pre-concert festival\, featuring our instrument petting zoo and enjoy interactive activities for the whole family that will enhance your concert experience. Pre-concert festivities begin at 10am in Rhythm Hall. LolliPops concerts are ideal for children ages 5 and up\, but music lovers of all ages are welcome. \nLearn more about Chia-Hsuan Lin\, conductor \n**The Richmond Symphony will celebrate everyday superheroes at “A Superhero Halloween!” Dress in your favorite heroic costume and get ready for high-powered fun with the Richmond Symphony and the music of superheroes! Nominate your favorite everyday local superhero by emailing education@richmondsymphony.com or via the online form here: A Call for Everyday Superheroes! \nDeadline for nominations: Sunday\, October 1st. \n  \nSeries sponsor\n \n  \n  \n  \n\n\n\n  \nLolliPops Concerts are now Sensory-Friendly!\nClick here for more information.\n 
URL:https://www.richmondsymphony.com/event/a-superhero-halloween/
LOCATION:Carpenter Theatre\, 612 East Grace Street\, Richmond \, VA\, 23219\, United States
CATEGORIES:Atlantic Union Bank LolliPops
ATTACH;FMTTYPE=image/jpeg:https://www.richmondsymphony.com/wp-content/uploads/2017/02/SuperheroHalloween_Web.jpg
GEO:37.5415432;-77.43695
X-APPLE-STRUCTURED-LOCATION;VALUE=URI;X-ADDRESS=Carpenter Theatre 612 East Grace Street Richmond  VA 23219 United States;X-APPLE-RADIUS=500;X-TITLE=612 East Grace Street:geo:-77.43695,37.5415432
END:VEVENT
BEGIN:VEVENT
DTSTART;TZID=America/New_York:20171027T183000
DTEND;TZID=America/New_York:20171027T193000
DTSTAMP:20260421T181028
CREATED:20170207T173740Z
LAST-MODIFIED:20171025T205245Z
UID:7768-1509129000-1509132600@www.richmondsymphony.com
SUMMARY:An Evening with Time for Three
DESCRIPTION:Kick back\, relax\, and continue the celebration! Our Casual Fridays Concert during Richmond Symphony’s 60th Anniversary weekend features the groundbreaking\, category-shattering trio Time for Three! This brilliant trio transcends traditional classification\, with elements of classical\, country western\, gypsy and jazz idioms forming a blend all its own. The members — Nicolas (Nick) Kendall\, violin; Charles Yang violin; and Ranaan Meyer\, double bass — carry a passion for improvisation\, composing and arranging\, all prime elements of the ensemble’s playing. \nLearn more about Steven Smith\, conductor \nLearn more about Time for Three\, guest artist \nProgram Notes \nConcert sponsor
URL:https://www.richmondsymphony.com/event/an-evening-with-time-for-three/2017-10-27/
LOCATION:Carpenter Theatre\, 612 East Grace Street\, Richmond \, VA\, 23219\, United States
ATTACH;FMTTYPE=image/jpeg:https://www.richmondsymphony.com/wp-content/uploads/2017/02/Photo1LeAnnMueller-e1486064379215.jpg
GEO:37.5415432;-77.43695
X-APPLE-STRUCTURED-LOCATION;VALUE=URI;X-ADDRESS=Carpenter Theatre 612 East Grace Street Richmond  VA 23219 United States;X-APPLE-RADIUS=500;X-TITLE=612 East Grace Street:geo:-77.43695,37.5415432
END:VEVENT
BEGIN:VEVENT
DTSTART;TZID=America/New_York:20171028T200000
DTEND;TZID=America/New_York:20171028T220000
DTSTAMP:20260421T181028
CREATED:20170207T170811Z
LAST-MODIFIED:20171005T134331Z
UID:7843-1509220800-1509228000@www.richmondsymphony.com
SUMMARY:60th Anniversary with Time for Three
DESCRIPTION:The Richmond Symphony’s 60th Anniversary Celebration features the groundbreaking\, category-shattering trio Time for Three! This brilliant trio transcends traditional classification\, with elements of classical\, country western\, gypsy and jazz idioms forming a blend all its own. The members — Nicolas (Nick) Kendall\, violin; Charles Yang violin; and Ranaan Meyer\, double bass — carry a passion for improvisation\, composing and arranging\, all prime elements of the ensemble’s playing. Join us an hour before the concert for a free pre-concert talk with the Richmond Symphony Music Director\, Steven Smith. These talks often feature guest artists and conductors and provide you with insights for the concert you are about to hear. \nLearn more about Steven Smith\, conductor\nLearn more about Time for Three\, guest artist \nProgram Notes \n \n  \n 
URL:https://www.richmondsymphony.com/event/60th-anniversary-with-time-for-three/2017-10-28/
LOCATION:Carpenter Theatre\, 612 East Grace Street\, Richmond \, VA\, 23219\, United States
CATEGORIES:Masterworks Series
ATTACH;FMTTYPE=image/jpeg:https://www.richmondsymphony.com/wp-content/uploads/2017/02/Photo1LeAnnMueller-e1486064379215.jpg
GEO:37.5415432;-77.43695
X-APPLE-STRUCTURED-LOCATION;VALUE=URI;X-ADDRESS=Carpenter Theatre 612 East Grace Street Richmond  VA 23219 United States;X-APPLE-RADIUS=500;X-TITLE=612 East Grace Street:geo:-77.43695,37.5415432
END:VEVENT
END:VCALENDAR