BEGIN:VCALENDAR
VERSION:2.0
PRODID:-//Richmond Symphony - ECPv6.15.1//NONSGML v1.0//EN
CALSCALE:GREGORIAN
METHOD:PUBLISH
X-WR-CALNAME:Richmond Symphony
X-ORIGINAL-URL:https://www.richmondsymphony.com
X-WR-CALDESC:Events for Richmond Symphony
REFRESH-INTERVAL;VALUE=DURATION:PT1H
X-Robots-Tag:noindex
X-PUBLISHED-TTL:PT1H
BEGIN:VTIMEZONE
TZID:America/New_York
BEGIN:DAYLIGHT
TZOFFSETFROM:-0500
TZOFFSETTO:-0400
TZNAME:EDT
DTSTART:20170312T070000
END:DAYLIGHT
BEGIN:STANDARD
TZOFFSETFROM:-0400
TZOFFSETTO:-0500
TZNAME:EST
DTSTART:20171105T060000
END:STANDARD
END:VTIMEZONE
BEGIN:VEVENT
DTSTART;TZID=America/New_York:20171201T193000
DTEND;TZID=America/New_York:20171201T213000
DTSTAMP:20260421T145723
CREATED:20170207T172419Z
LAST-MODIFIED:20170728T172642Z
UID:7897-1512156600-1512163800@www.richmondsymphony.com
SUMMARY:Handel's Messiah
DESCRIPTION:Don’t miss the Richmond Symphony and Richmond Symphony Chorus performing Handel’s masterwork\, a holiday classic that has delighted Richmonders for generations. \nLearn more about Chia-Hsuan Lin\, conductor\nLearn more about Richmond Symphony Chorus \n  \nConcert sponsor\n \n  \n 
URL:https://www.richmondsymphony.com/event/handels-messiah-3/
LOCATION:Carpenter Theatre\, 612 East Grace Street\, Richmond \, VA\, 23219\, United States
ATTACH;FMTTYPE=image/jpeg:https://www.richmondsymphony.com/wp-content/uploads/2016/02/websiteheroimage2.jpg
GEO:37.5415432;-77.43695
X-APPLE-STRUCTURED-LOCATION;VALUE=URI;X-ADDRESS=Carpenter Theatre 612 East Grace Street Richmond  VA 23219 United States;X-APPLE-RADIUS=500;X-TITLE=612 East Grace Street:geo:-77.43695,37.5415432
END:VEVENT
BEGIN:VEVENT
DTSTART;TZID=America/New_York:20171202T200000
DTEND;TZID=America/New_York:20171202T220000
DTSTAMP:20260421T145723
CREATED:20170207T171825Z
LAST-MODIFIED:20231030T131440Z
UID:7889-1512244800-1512252000@www.richmondsymphony.com
SUMMARY:Let It Snow! 2017
DESCRIPTION:Celebrate the holidays with a concert featuring the sounds of the season! Join the Richmond Symphony and Richmond Symphony Chorus for this magical holiday tradition the whole family will love. \nLearn more about Erin R. Freeman\, director\nLearn more about Richmond Symphony Chorus\nLearn more about Susan Greenbaum\, soloist \nPurchase tickets to Sunday’s performance. \n  \n  \nConcert sponsor\n \n  \n  \n 
URL:https://www.richmondsymphony.com/event/let-it-snow-3/2017-12-02/
LOCATION:Carpenter Theatre\, 612 East Grace Street\, Richmond \, VA\, 23219\, United States
CATEGORIES:Pops
ATTACH;FMTTYPE=image/jpeg:https://www.richmondsymphony.com/wp-content/uploads/2017/02/POPS2graphic_LetItSnow_RGB-01-e1486132628503.jpg
GEO:37.5415432;-77.43695
X-APPLE-STRUCTURED-LOCATION;VALUE=URI;X-ADDRESS=Carpenter Theatre 612 East Grace Street Richmond  VA 23219 United States;X-APPLE-RADIUS=500;X-TITLE=612 East Grace Street:geo:-77.43695,37.5415432
END:VEVENT
BEGIN:VEVENT
DTSTART;TZID=America/New_York:20171203T150000
DTEND;TZID=America/New_York:20171203T170000
DTSTAMP:20260421T145723
CREATED:20170207T171812Z
LAST-MODIFIED:20231030T131451Z
UID:7890-1512313200-1512320400@www.richmondsymphony.com
SUMMARY:Let It Snow! 2017
DESCRIPTION:Celebrate the holidays with a concert featuring the sounds of the season! Join the Richmond Symphony and Richmond Symphony Chorus for this magical holiday tradition the whole family will love. \nLearn more about Erin R. Freeman\, director\nLearn more about Richmond Symphony Chorus\nLearn more about Susan Greenbaum\, soloist \nPurchase tickets to Sunday’s performance. \n  \nConcert sponsor\n \n  \n  \n  \n  \n  \n 
URL:https://www.richmondsymphony.com/event/let-it-snow-4/2017-12-03/
LOCATION:Carpenter Theatre\, 612 East Grace Street\, Richmond \, VA\, 23219\, United States
CATEGORIES:Pops
ATTACH;FMTTYPE=image/jpeg:https://www.richmondsymphony.com/wp-content/uploads/2017/02/POPS2graphic_LetItSnow_RGB-01-e1486132628503.jpg
GEO:37.5415432;-77.43695
X-APPLE-STRUCTURED-LOCATION;VALUE=URI;X-ADDRESS=Carpenter Theatre 612 East Grace Street Richmond  VA 23219 United States;X-APPLE-RADIUS=500;X-TITLE=612 East Grace Street:geo:-77.43695,37.5415432
END:VEVENT
BEGIN:VEVENT
DTSTART;TZID=America/New_York:20171203T190000
DTEND;TZID=America/New_York:20171203T200000
DTSTAMP:20260421T145723
CREATED:20170926T204711Z
LAST-MODIFIED:20170926T204807Z
UID:9925-1512327600-1512331200@www.richmondsymphony.com
SUMMARY:Youth Orchestra Program - Winter Concert
DESCRIPTION:Youth Orchestra Program Winter Concert\nSunday\, December 3rd at 7:00pm\nCarpenter Theatre\nChristie-Jo Adams\, Matt Wilson\, Rebecca Jilcott\, Christopher Moseley\, conductors \nTickets are free at the door! Come one\, come all.
URL:https://www.richmondsymphony.com/event/youth-orchestra-program-winter-concert/
LOCATION:Carpenter Theatre\, 612 East Grace Street\, Richmond \, VA\, 23219\, United States
CATEGORIES:Richmond Symphony Youth Orchestra
GEO:37.5415432;-77.43695
X-APPLE-STRUCTURED-LOCATION;VALUE=URI;X-ADDRESS=Carpenter Theatre 612 East Grace Street Richmond  VA 23219 United States;X-APPLE-RADIUS=500;X-TITLE=612 East Grace Street:geo:-77.43695,37.5415432
END:VEVENT
BEGIN:VEVENT
DTSTART;TZID=America/New_York:20171209T190000
DTEND;TZID=America/New_York:20171209T220000
DTSTAMP:20260421T145723
CREATED:20170829T212020Z
LAST-MODIFIED:20170829T212020Z
UID:9312-1512846000-1512856800@www.richmondsymphony.com
SUMMARY:The Nutcracker in Richmond
DESCRIPTION:The Nutcracker (Winslett/ Tchaikovsky)\nThe Nutcracker shines brighter than ever with redesigned costumes\, heavenly new scenery\, and brand new characters— including an elegant Swan Sleigh—all added to the 2015 production of the Richmond Ballet holiday classic. The wonder and magic of the season are set to come alive once again with sugarplums\, chocolates\, marzipan\, coffee and tea\, a dancing bear\, life-like dolls\, and sparkling flowers. From a battle beneath the branches of a mystical Christmas tree\, to a winter white forest\, and then off to a far-off kingdom of delectable sweets\, The Nutcracker has become a favorite tradition for Richmond audiences\, and with Tchaikovsky’s beloved score\, this dazzling production is sure to bring joy to everyone’s December. \n 
URL:https://www.richmondsymphony.com/event/the-nutcracker-in-richmond/
LOCATION:Carpenter Theatre\, 612 East Grace Street\, Richmond \, VA\, 23219\, United States
ATTACH;FMTTYPE=image/jpeg:https://www.richmondsymphony.com/wp-content/uploads/2017/08/nutcracker_image_iceblue.jpg
GEO:37.5415432;-77.43695
X-APPLE-STRUCTURED-LOCATION;VALUE=URI;X-ADDRESS=Carpenter Theatre 612 East Grace Street Richmond  VA 23219 United States;X-APPLE-RADIUS=500;X-TITLE=612 East Grace Street:geo:-77.43695,37.5415432
END:VEVENT
BEGIN:VEVENT
DTSTART;TZID=America/New_York:20171210T130000
DTEND;TZID=America/New_York:20171210T160000
DTSTAMP:20260421T145723
CREATED:20170829T212102Z
LAST-MODIFIED:20170829T212102Z
UID:9314-1512910800-1512921600@www.richmondsymphony.com
SUMMARY:The Nutcracker in Richmond
DESCRIPTION:The Nutcracker (Winslett/ Tchaikovsky)\nThe Nutcracker shines brighter than ever with redesigned costumes\, heavenly new scenery\, and brand new characters— including an elegant Swan Sleigh—all added to the 2015 production of the Richmond Ballet holiday classic. The wonder and magic of the season are set to come alive once again with sugarplums\, chocolates\, marzipan\, coffee and tea\, a dancing bear\, life-like dolls\, and sparkling flowers. From a battle beneath the branches of a mystical Christmas tree\, to a winter white forest\, and then off to a far-off kingdom of delectable sweets\, The Nutcracker has become a favorite tradition for Richmond audiences\, and with Tchaikovsky’s beloved score\, this dazzling production is sure to bring joy to everyone’s December. \n 
URL:https://www.richmondsymphony.com/event/the-nutcracker-in-richmond-2/
LOCATION:Carpenter Theatre\, 612 East Grace Street\, Richmond \, VA\, 23219\, United States
ATTACH;FMTTYPE=image/jpeg:https://www.richmondsymphony.com/wp-content/uploads/2017/08/nutcracker_image_iceblue.jpg
GEO:37.5415432;-77.43695
X-APPLE-STRUCTURED-LOCATION;VALUE=URI;X-ADDRESS=Carpenter Theatre 612 East Grace Street Richmond  VA 23219 United States;X-APPLE-RADIUS=500;X-TITLE=612 East Grace Street:geo:-77.43695,37.5415432
END:VEVENT
BEGIN:VEVENT
DTSTART;TZID=America/New_York:20171210T163000
DTEND;TZID=America/New_York:20171210T193000
DTSTAMP:20260421T145723
CREATED:20170829T212122Z
LAST-MODIFIED:20170829T212236Z
UID:9315-1512923400-1512934200@www.richmondsymphony.com
SUMMARY:The Nutcracker in Richmond
DESCRIPTION:The Nutcracker (Winslett/ Tchaikovsky)\nThe Nutcracker shines brighter than ever with redesigned costumes\, heavenly new scenery\, and brand new characters— including an elegant Swan Sleigh—all added to the 2015 production of the Richmond Ballet holiday classic. The wonder and magic of the season are set to come alive once again with sugarplums\, chocolates\, marzipan\, coffee and tea\, a dancing bear\, life-like dolls\, and sparkling flowers. From a battle beneath the branches of a mystical Christmas tree\, to a winter white forest\, and then off to a far-off kingdom of delectable sweets\, The Nutcracker has become a favorite tradition for Richmond audiences\, and with Tchaikovsky’s beloved score\, this dazzling production is sure to bring joy to everyone’s December. \n 
URL:https://www.richmondsymphony.com/event/the-nutcracker-in-richmond-3/
LOCATION:Carpenter Theatre\, 612 East Grace Street\, Richmond \, VA\, 23219\, United States
ATTACH;FMTTYPE=image/jpeg:https://www.richmondsymphony.com/wp-content/uploads/2017/08/nutcracker_image_iceblue.jpg
GEO:37.5415432;-77.43695
X-APPLE-STRUCTURED-LOCATION;VALUE=URI;X-ADDRESS=Carpenter Theatre 612 East Grace Street Richmond  VA 23219 United States;X-APPLE-RADIUS=500;X-TITLE=612 East Grace Street:geo:-77.43695,37.5415432
END:VEVENT
BEGIN:VEVENT
DTSTART;TZID=America/New_York:20171215T190000
DTEND;TZID=America/New_York:20171215T220000
DTSTAMP:20260421T145723
CREATED:20170829T212313Z
LAST-MODIFIED:20170829T212313Z
UID:9316-1513364400-1513375200@www.richmondsymphony.com
SUMMARY:The Nutcracker in Richmond
DESCRIPTION:The Nutcracker (Winslett/ Tchaikovsky)\nThe Nutcracker shines brighter than ever with redesigned costumes\, heavenly new scenery\, and brand new characters— including an elegant Swan Sleigh—all added to the 2015 production of the Richmond Ballet holiday classic. The wonder and magic of the season are set to come alive once again with sugarplums\, chocolates\, marzipan\, coffee and tea\, a dancing bear\, life-like dolls\, and sparkling flowers. From a battle beneath the branches of a mystical Christmas tree\, to a winter white forest\, and then off to a far-off kingdom of delectable sweets\, The Nutcracker has become a favorite tradition for Richmond audiences\, and with Tchaikovsky’s beloved score\, this dazzling production is sure to bring joy to everyone’s December. \n 
URL:https://www.richmondsymphony.com/event/the-nutcracker-in-richmond-4/
LOCATION:Carpenter Theatre\, 612 East Grace Street\, Richmond \, VA\, 23219\, United States
ATTACH;FMTTYPE=image/jpeg:https://www.richmondsymphony.com/wp-content/uploads/2017/08/nutcracker_image_iceblue.jpg
GEO:37.5415432;-77.43695
X-APPLE-STRUCTURED-LOCATION;VALUE=URI;X-ADDRESS=Carpenter Theatre 612 East Grace Street Richmond  VA 23219 United States;X-APPLE-RADIUS=500;X-TITLE=612 East Grace Street:geo:-77.43695,37.5415432
END:VEVENT
BEGIN:VEVENT
DTSTART;TZID=America/New_York:20171216T140000
DTEND;TZID=America/New_York:20171216T170000
DTSTAMP:20260421T145723
CREATED:20170829T212337Z
LAST-MODIFIED:20170829T212337Z
UID:9317-1513432800-1513443600@www.richmondsymphony.com
SUMMARY:The Nutcracker in Richmond
DESCRIPTION:The Nutcracker (Winslett/ Tchaikovsky)\nThe Nutcracker shines brighter than ever with redesigned costumes\, heavenly new scenery\, and brand new characters— including an elegant Swan Sleigh—all added to the 2015 production of the Richmond Ballet holiday classic. The wonder and magic of the season are set to come alive once again with sugarplums\, chocolates\, marzipan\, coffee and tea\, a dancing bear\, life-like dolls\, and sparkling flowers. From a battle beneath the branches of a mystical Christmas tree\, to a winter white forest\, and then off to a far-off kingdom of delectable sweets\, The Nutcracker has become a favorite tradition for Richmond audiences\, and with Tchaikovsky’s beloved score\, this dazzling production is sure to bring joy to everyone’s December. \n 
URL:https://www.richmondsymphony.com/event/the-nutcracker-in-richmond-5/
LOCATION:Carpenter Theatre\, 612 East Grace Street\, Richmond \, VA\, 23219\, United States
ATTACH;FMTTYPE=image/jpeg:https://www.richmondsymphony.com/wp-content/uploads/2017/08/nutcracker_image_iceblue.jpg
GEO:37.5415432;-77.43695
X-APPLE-STRUCTURED-LOCATION;VALUE=URI;X-ADDRESS=Carpenter Theatre 612 East Grace Street Richmond  VA 23219 United States;X-APPLE-RADIUS=500;X-TITLE=612 East Grace Street:geo:-77.43695,37.5415432
END:VEVENT
BEGIN:VEVENT
DTSTART;TZID=America/New_York:20171216T190000
DTEND;TZID=America/New_York:20171216T220000
DTSTAMP:20260421T145723
CREATED:20170829T212352Z
LAST-MODIFIED:20170829T212352Z
UID:9318-1513450800-1513461600@www.richmondsymphony.com
SUMMARY:The Nutcracker in Richmond
DESCRIPTION:The Nutcracker (Winslett/ Tchaikovsky)\nThe Nutcracker shines brighter than ever with redesigned costumes\, heavenly new scenery\, and brand new characters— including an elegant Swan Sleigh—all added to the 2015 production of the Richmond Ballet holiday classic. The wonder and magic of the season are set to come alive once again with sugarplums\, chocolates\, marzipan\, coffee and tea\, a dancing bear\, life-like dolls\, and sparkling flowers. From a battle beneath the branches of a mystical Christmas tree\, to a winter white forest\, and then off to a far-off kingdom of delectable sweets\, The Nutcracker has become a favorite tradition for Richmond audiences\, and with Tchaikovsky’s beloved score\, this dazzling production is sure to bring joy to everyone’s December. \n 
URL:https://www.richmondsymphony.com/event/the-nutcracker-in-richmond-6/
LOCATION:Carpenter Theatre\, 612 East Grace Street\, Richmond \, VA\, 23219\, United States
ATTACH;FMTTYPE=image/jpeg:https://www.richmondsymphony.com/wp-content/uploads/2017/08/nutcracker_image_iceblue.jpg
GEO:37.5415432;-77.43695
X-APPLE-STRUCTURED-LOCATION;VALUE=URI;X-ADDRESS=Carpenter Theatre 612 East Grace Street Richmond  VA 23219 United States;X-APPLE-RADIUS=500;X-TITLE=612 East Grace Street:geo:-77.43695,37.5415432
END:VEVENT
BEGIN:VEVENT
DTSTART;TZID=America/New_York:20171217T130000
DTEND;TZID=America/New_York:20171217T160000
DTSTAMP:20260421T145723
CREATED:20170829T212621Z
LAST-MODIFIED:20170829T212621Z
UID:9319-1513515600-1513526400@www.richmondsymphony.com
SUMMARY:The Nutcracker in Richmond
DESCRIPTION:The Nutcracker (Winslett/ Tchaikovsky)\nThe Nutcracker shines brighter than ever with redesigned costumes\, heavenly new scenery\, and brand new characters— including an elegant Swan Sleigh—all added to the 2015 production of the Richmond Ballet holiday classic. The wonder and magic of the season are set to come alive once again with sugarplums\, chocolates\, marzipan\, coffee and tea\, a dancing bear\, life-like dolls\, and sparkling flowers. From a battle beneath the branches of a mystical Christmas tree\, to a winter white forest\, and then off to a far-off kingdom of delectable sweets\, The Nutcracker has become a favorite tradition for Richmond audiences\, and with Tchaikovsky’s beloved score\, this dazzling production is sure to bring joy to everyone’s December. \n 
URL:https://www.richmondsymphony.com/event/the-nutcracker-in-richmond-7/
LOCATION:Carpenter Theatre\, 612 East Grace Street\, Richmond \, VA\, 23219\, United States
ATTACH;FMTTYPE=image/jpeg:https://www.richmondsymphony.com/wp-content/uploads/2017/08/nutcracker_image_iceblue.jpg
GEO:37.5415432;-77.43695
X-APPLE-STRUCTURED-LOCATION;VALUE=URI;X-ADDRESS=Carpenter Theatre 612 East Grace Street Richmond  VA 23219 United States;X-APPLE-RADIUS=500;X-TITLE=612 East Grace Street:geo:-77.43695,37.5415432
END:VEVENT
BEGIN:VEVENT
DTSTART;TZID=America/New_York:20171217T163000
DTEND;TZID=America/New_York:20171217T203000
DTSTAMP:20260421T145723
CREATED:20170829T212655Z
LAST-MODIFIED:20170829T212655Z
UID:9320-1513528200-1513542600@www.richmondsymphony.com
SUMMARY:The Nutcracker in Richmond
DESCRIPTION:The Nutcracker (Winslett/ Tchaikovsky)\nThe Nutcracker shines brighter than ever with redesigned costumes\, heavenly new scenery\, and brand new characters— including an elegant Swan Sleigh—all added to the 2015 production of the Richmond Ballet holiday classic. The wonder and magic of the season are set to come alive once again with sugarplums\, chocolates\, marzipan\, coffee and tea\, a dancing bear\, life-like dolls\, and sparkling flowers. From a battle beneath the branches of a mystical Christmas tree\, to a winter white forest\, and then off to a far-off kingdom of delectable sweets\, The Nutcracker has become a favorite tradition for Richmond audiences\, and with Tchaikovsky’s beloved score\, this dazzling production is sure to bring joy to everyone’s December. \n 
URL:https://www.richmondsymphony.com/event/the-nutcracker-in-richmond-8/
LOCATION:Carpenter Theatre\, 612 East Grace Street\, Richmond \, VA\, 23219\, United States
ATTACH;FMTTYPE=image/jpeg:https://www.richmondsymphony.com/wp-content/uploads/2017/08/nutcracker_image_iceblue.jpg
GEO:37.5415432;-77.43695
X-APPLE-STRUCTURED-LOCATION;VALUE=URI;X-ADDRESS=Carpenter Theatre 612 East Grace Street Richmond  VA 23219 United States;X-APPLE-RADIUS=500;X-TITLE=612 East Grace Street:geo:-77.43695,37.5415432
END:VEVENT
BEGIN:VEVENT
DTSTART;TZID=America/New_York:20171220T190000
DTEND;TZID=America/New_York:20171220T220000
DTSTAMP:20260421T145723
CREATED:20170829T212747Z
LAST-MODIFIED:20170829T212747Z
UID:9321-1513796400-1513807200@www.richmondsymphony.com
SUMMARY:The Nutcracker in Richmond
DESCRIPTION:The Nutcracker (Winslett/ Tchaikovsky)\nThe Nutcracker shines brighter than ever with redesigned costumes\, heavenly new scenery\, and brand new characters— including an elegant Swan Sleigh—all added to the 2015 production of the Richmond Ballet holiday classic. The wonder and magic of the season are set to come alive once again with sugarplums\, chocolates\, marzipan\, coffee and tea\, a dancing bear\, life-like dolls\, and sparkling flowers. From a battle beneath the branches of a mystical Christmas tree\, to a winter white forest\, and then off to a far-off kingdom of delectable sweets\, The Nutcracker has become a favorite tradition for Richmond audiences\, and with Tchaikovsky’s beloved score\, this dazzling production is sure to bring joy to everyone’s December. \n 
URL:https://www.richmondsymphony.com/event/the-nutcracker-in-richmond-9/
LOCATION:Carpenter Theatre\, 612 East Grace Street\, Richmond \, VA\, 23219\, United States
ATTACH;FMTTYPE=image/jpeg:https://www.richmondsymphony.com/wp-content/uploads/2017/08/nutcracker_image_iceblue.jpg
GEO:37.5415432;-77.43695
X-APPLE-STRUCTURED-LOCATION;VALUE=URI;X-ADDRESS=Carpenter Theatre 612 East Grace Street Richmond  VA 23219 United States;X-APPLE-RADIUS=500;X-TITLE=612 East Grace Street:geo:-77.43695,37.5415432
END:VEVENT
BEGIN:VEVENT
DTSTART;TZID=America/New_York:20171221T140000
DTEND;TZID=America/New_York:20171221T170000
DTSTAMP:20260421T145723
CREATED:20170829T212815Z
LAST-MODIFIED:20170829T212815Z
UID:9322-1513864800-1513875600@www.richmondsymphony.com
SUMMARY:The Nutcracker in Richmond
DESCRIPTION:The Nutcracker (Winslett/ Tchaikovsky)\nThe Nutcracker shines brighter than ever with redesigned costumes\, heavenly new scenery\, and brand new characters— including an elegant Swan Sleigh—all added to the 2015 production of the Richmond Ballet holiday classic. The wonder and magic of the season are set to come alive once again with sugarplums\, chocolates\, marzipan\, coffee and tea\, a dancing bear\, life-like dolls\, and sparkling flowers. From a battle beneath the branches of a mystical Christmas tree\, to a winter white forest\, and then off to a far-off kingdom of delectable sweets\, The Nutcracker has become a favorite tradition for Richmond audiences\, and with Tchaikovsky’s beloved score\, this dazzling production is sure to bring joy to everyone’s December. \n 
URL:https://www.richmondsymphony.com/event/the-nutcracker-in-richmond-10/
LOCATION:Carpenter Theatre\, 612 East Grace Street\, Richmond \, VA\, 23219\, United States
ATTACH;FMTTYPE=image/jpeg:https://www.richmondsymphony.com/wp-content/uploads/2017/08/nutcracker_image_iceblue.jpg
GEO:37.5415432;-77.43695
X-APPLE-STRUCTURED-LOCATION;VALUE=URI;X-ADDRESS=Carpenter Theatre 612 East Grace Street Richmond  VA 23219 United States;X-APPLE-RADIUS=500;X-TITLE=612 East Grace Street:geo:-77.43695,37.5415432
END:VEVENT
BEGIN:VEVENT
DTSTART;TZID=America/New_York:20171222T140000
DTEND;TZID=America/New_York:20171222T170000
DTSTAMP:20260421T145723
CREATED:20170829T212837Z
LAST-MODIFIED:20170829T212837Z
UID:9323-1513951200-1513962000@www.richmondsymphony.com
SUMMARY:The Nutcracker in Richmond
DESCRIPTION:The Nutcracker (Winslett/ Tchaikovsky)\nThe Nutcracker shines brighter than ever with redesigned costumes\, heavenly new scenery\, and brand new characters— including an elegant Swan Sleigh—all added to the 2015 production of the Richmond Ballet holiday classic. The wonder and magic of the season are set to come alive once again with sugarplums\, chocolates\, marzipan\, coffee and tea\, a dancing bear\, life-like dolls\, and sparkling flowers. From a battle beneath the branches of a mystical Christmas tree\, to a winter white forest\, and then off to a far-off kingdom of delectable sweets\, The Nutcracker has become a favorite tradition for Richmond audiences\, and with Tchaikovsky’s beloved score\, this dazzling production is sure to bring joy to everyone’s December. \n 
URL:https://www.richmondsymphony.com/event/the-nutcracker-in-richmond-11/
LOCATION:Carpenter Theatre\, 612 East Grace Street\, Richmond \, VA\, 23219\, United States
ATTACH;FMTTYPE=image/jpeg:https://www.richmondsymphony.com/wp-content/uploads/2017/08/nutcracker_image_iceblue.jpg
GEO:37.5415432;-77.43695
X-APPLE-STRUCTURED-LOCATION;VALUE=URI;X-ADDRESS=Carpenter Theatre 612 East Grace Street Richmond  VA 23219 United States;X-APPLE-RADIUS=500;X-TITLE=612 East Grace Street:geo:-77.43695,37.5415432
END:VEVENT
BEGIN:VEVENT
DTSTART;TZID=America/New_York:20171222T190000
DTEND;TZID=America/New_York:20171222T220000
DTSTAMP:20260421T145723
CREATED:20170829T212854Z
LAST-MODIFIED:20170829T212854Z
UID:9324-1513969200-1513980000@www.richmondsymphony.com
SUMMARY:The Nutcracker in Richmond
DESCRIPTION:The Nutcracker (Winslett/ Tchaikovsky)\nThe Nutcracker shines brighter than ever with redesigned costumes\, heavenly new scenery\, and brand new characters— including an elegant Swan Sleigh—all added to the 2015 production of the Richmond Ballet holiday classic. The wonder and magic of the season are set to come alive once again with sugarplums\, chocolates\, marzipan\, coffee and tea\, a dancing bear\, life-like dolls\, and sparkling flowers. From a battle beneath the branches of a mystical Christmas tree\, to a winter white forest\, and then off to a far-off kingdom of delectable sweets\, The Nutcracker has become a favorite tradition for Richmond audiences\, and with Tchaikovsky’s beloved score\, this dazzling production is sure to bring joy to everyone’s December. \n 
URL:https://www.richmondsymphony.com/event/the-nutcracker-in-richmond-12/
LOCATION:Carpenter Theatre\, 612 East Grace Street\, Richmond \, VA\, 23219\, United States
ATTACH;FMTTYPE=image/jpeg:https://www.richmondsymphony.com/wp-content/uploads/2017/08/nutcracker_image_iceblue.jpg
GEO:37.5415432;-77.43695
X-APPLE-STRUCTURED-LOCATION;VALUE=URI;X-ADDRESS=Carpenter Theatre 612 East Grace Street Richmond  VA 23219 United States;X-APPLE-RADIUS=500;X-TITLE=612 East Grace Street:geo:-77.43695,37.5415432
END:VEVENT
BEGIN:VEVENT
DTSTART;TZID=America/New_York:20171223T140000
DTEND;TZID=America/New_York:20171223T170000
DTSTAMP:20260421T145723
CREATED:20170829T212922Z
LAST-MODIFIED:20170829T212922Z
UID:9325-1514037600-1514048400@www.richmondsymphony.com
SUMMARY:The Nutcracker in Richmond
DESCRIPTION:The Nutcracker (Winslett/ Tchaikovsky)\nThe Nutcracker shines brighter than ever with redesigned costumes\, heavenly new scenery\, and brand new characters— including an elegant Swan Sleigh—all added to the 2015 production of the Richmond Ballet holiday classic. The wonder and magic of the season are set to come alive once again with sugarplums\, chocolates\, marzipan\, coffee and tea\, a dancing bear\, life-like dolls\, and sparkling flowers. From a battle beneath the branches of a mystical Christmas tree\, to a winter white forest\, and then off to a far-off kingdom of delectable sweets\, The Nutcracker has become a favorite tradition for Richmond audiences\, and with Tchaikovsky’s beloved score\, this dazzling production is sure to bring joy to everyone’s December. \n 
URL:https://www.richmondsymphony.com/event/the-nutcracker-in-richmond-13/
LOCATION:Carpenter Theatre\, 612 East Grace Street\, Richmond \, VA\, 23219\, United States
ATTACH;FMTTYPE=image/jpeg:https://www.richmondsymphony.com/wp-content/uploads/2017/08/nutcracker_image_iceblue.jpg
GEO:37.5415432;-77.43695
X-APPLE-STRUCTURED-LOCATION;VALUE=URI;X-ADDRESS=Carpenter Theatre 612 East Grace Street Richmond  VA 23219 United States;X-APPLE-RADIUS=500;X-TITLE=612 East Grace Street:geo:-77.43695,37.5415432
END:VEVENT
BEGIN:VEVENT
DTSTART;TZID=America/New_York:20171231T080000
DTEND;TZID=America/New_York:20171231T170000
DTSTAMP:20260421T145723
CREATED:20171201T221633Z
LAST-MODIFIED:20171201T231938Z
UID:10659-1514707200-1514739600@www.richmondsymphony.com
SUMMARY:Holiday Giving
DESCRIPTION:Please make a gift to support our work this holiday season! \nAll new and increased gifts will help us unlock the Cabell Challenge and multiply your impact! \nYou can make a one-time donation now\, commit to a monthly gift\, or make a pledge for future payment by calling our offices at 804-788-4717\, x113.
URL:https://www.richmondsymphony.com/event/holiday-giving/
ATTACH;FMTTYPE=image/jpeg:https://www.richmondsymphony.com/wp-content/uploads/2017/12/2014-07-13-04.47.32.jpg
END:VEVENT
END:VCALENDAR