BEGIN:VCALENDAR
VERSION:2.0
PRODID:-//Richmond Symphony - ECPv6.15.1//NONSGML v1.0//EN
CALSCALE:GREGORIAN
METHOD:PUBLISH
X-ORIGINAL-URL:https://www.richmondsymphony.com
X-WR-CALDESC:Events for Richmond Symphony
REFRESH-INTERVAL;VALUE=DURATION:PT1H
X-Robots-Tag:noindex
X-PUBLISHED-TTL:PT1H
BEGIN:VTIMEZONE
TZID:America/New_York
BEGIN:DAYLIGHT
TZOFFSETFROM:-0500
TZOFFSETTO:-0400
TZNAME:EDT
DTSTART:20180311T070000
END:DAYLIGHT
BEGIN:STANDARD
TZOFFSETFROM:-0400
TZOFFSETTO:-0500
TZNAME:EST
DTSTART:20181104T060000
END:STANDARD
END:VTIMEZONE
BEGIN:VEVENT
DTSTART;TZID=America/New_York:20180407T200000
DTEND;TZID=America/New_York:20180407T223000
DTSTAMP:20260421T084622
CREATED:20180319T193435Z
LAST-MODIFIED:20180319T193435Z
UID:11834-1523131200-1523140200@www.richmondsymphony.com
SUMMARY:Lucia di Lammermoor
DESCRIPTION:High drama – at its best. The most iconic of all bel canto operas\, Lucia di Lammermoor is the consummate tale of thwarted love and dashed expectations. This opera clearly paints a sensitive portrait of a woman at the breaking point\, fully expressed in the most haunting and well-known mad scene ever produced.
URL:https://www.richmondsymphony.com/event/lucia-di-lammermoor-4/
LOCATION:George Mason University Center for the Arts\, 4400 University Drive\, MS2F5\, Fairfax\, 22030\, United States
ATTACH;FMTTYPE=image/jpeg:https://www.richmondsymphony.com/wp-content/uploads/2018/03/Opera.jpg
END:VEVENT
BEGIN:VEVENT
DTSTART;TZID=America/New_York:20180408T140000
DTEND;TZID=America/New_York:20180408T163000
DTSTAMP:20260421T084622
CREATED:20180319T193640Z
LAST-MODIFIED:20180319T193640Z
UID:11836-1523196000-1523205000@www.richmondsymphony.com
SUMMARY:Lucia di Lammermoor
DESCRIPTION:High drama – at its best. The most iconic of all bel canto operas\, Lucia di Lammermoor is the consummate tale of thwarted love and dashed expectations. This opera clearly paints a sensitive portrait of a woman at the breaking point\, fully expressed in the most haunting and well-known mad scene ever produced.
URL:https://www.richmondsymphony.com/event/lucia-di-lammermoor-5/
LOCATION:George Mason University Center for the Arts\, 4400 University Drive\, MS2F5\, Fairfax\, 22030\, United States
ATTACH;FMTTYPE=image/jpeg:https://www.richmondsymphony.com/wp-content/uploads/2018/03/Opera.jpg
END:VEVENT
BEGIN:VEVENT
DTSTART;TZID=America/New_York:20180411T190000
DTEND;TZID=America/New_York:20180411T210000
DTSTAMP:20260421T084622
CREATED:20180319T183833Z
LAST-MODIFIED:20180319T183941Z
UID:11816-1523473200-1523480400@www.richmondsymphony.com
SUMMARY:Richmond's Finest: 3 Guys and a Symphony
DESCRIPTION:Come enjoy this “moving” experience as some of Richmond’s finest theatrical performers\, Richard Koch\, Jason Marks & Scott Wichmann\, join the Richmond Symphony to bring you an evening of song from Broadway to pop to standards and more. Come along for the ride\, we think you’ll have a swell time!
URL:https://www.richmondsymphony.com/event/richmonds-finest-3-guys-symphony/
LOCATION:The Cultural Arts Center at Glen Allen\, 2880 Mountain Road\, Glen Allen\, 23060 
ATTACH;FMTTYPE=image/jpeg:https://www.richmondsymphony.com/wp-content/uploads/2018/03/3-Guys.jpg
ORGANIZER;CN="Richmond Symphony":MAILTO:patronservices@richmondsymphony.com
END:VEVENT
BEGIN:VEVENT
DTSTART;TZID=America/New_York:20180413T200000
DTEND;TZID=America/New_York:20180413T223000
DTSTAMP:20260421T084622
CREATED:20180319T193900Z
LAST-MODIFIED:20180319T193900Z
UID:11838-1523649600-1523658600@www.richmondsymphony.com
SUMMARY:Lucia di Lammermoor
DESCRIPTION:High drama – at its best. The most iconic of all bel canto operas\, Lucia di Lammermoor is the consummate tale of thwarted love and dashed expectations. This opera clearly paints a sensitive portrait of a woman at the breaking point\, fully expressed in the most haunting and well-known mad scene ever produced.
URL:https://www.richmondsymphony.com/event/lucia-di-lammermoor-6/
LOCATION:Carpenter Theatre\, 612 East Grace Street\, Richmond \, VA\, 23219\, United States
ATTACH;FMTTYPE=image/jpeg:https://www.richmondsymphony.com/wp-content/uploads/2018/03/Opera.jpg
GEO:37.5415432;-77.43695
X-APPLE-STRUCTURED-LOCATION;VALUE=URI;X-ADDRESS=Carpenter Theatre 612 East Grace Street Richmond  VA 23219 United States;X-APPLE-RADIUS=500;X-TITLE=612 East Grace Street:geo:-77.43695,37.5415432
END:VEVENT
BEGIN:VEVENT
DTSTART;TZID=America/New_York:20180415T143000
DTEND;TZID=America/New_York:20180415T170000
DTSTAMP:20260421T084622
CREATED:20180319T194617Z
LAST-MODIFIED:20180319T194617Z
UID:11840-1523802600-1523811600@www.richmondsymphony.com
SUMMARY:Lucia di Lammermoor
DESCRIPTION:High drama – at its best. The most iconic of all bel canto operas\, Lucia di Lammermoor is the consummate tale of thwarted love and dashed expectations. This opera clearly paints a sensitive portrait of a woman at the breaking point\, fully expressed in the most haunting and well-known mad scene ever produced.
URL:https://www.richmondsymphony.com/event/lucia-di-lammermoor-7/
LOCATION:Carpenter Theatre\, 612 East Grace Street\, Richmond \, VA\, 23219\, United States
ATTACH;FMTTYPE=image/jpeg:https://www.richmondsymphony.com/wp-content/uploads/2018/03/Opera.jpg
GEO:37.5415432;-77.43695
X-APPLE-STRUCTURED-LOCATION;VALUE=URI;X-ADDRESS=Carpenter Theatre 612 East Grace Street Richmond  VA 23219 United States;X-APPLE-RADIUS=500;X-TITLE=612 East Grace Street:geo:-77.43695,37.5415432
END:VEVENT
BEGIN:VEVENT
DTSTART;TZID=America/New_York:20180419T190000
DTEND;TZID=America/New_York:20180419T210000
DTSTAMP:20260421T084622
CREATED:20180319T185854Z
LAST-MODIFIED:20180326T160558Z
UID:11819-1524164400-1524171600@www.richmondsymphony.com
SUMMARY:Israel’s 70th Birthday Celebration with the Richmond Symphony
DESCRIPTION:In celebration of Israel’s 70th year of independence\, the Weinstein JCC is proud to host the Richmond Symphony Orchestra for an evening of spectacular music. The community is invited to attend this Patron of the Arts finale event on Thursday\, April 19 at 7 p.m. in the Sara Belle November Theater to commemorate this historic milestone. The program will feature special guest and famed Israeli soprano\, Nofar Yacobi\, and will reflect a wide range of music to include classical\, musical theatre\, Hebrew and Jewish liturgical and more. \nA dessert reception will follow the program with an opportunity to learn more about the Weinstein JCC Patron of the Arts subscription series for the 2018-19 season and to renew or become a POA subscriber. \nFor tickets visit weinsteinjcc.org or for more information contact Leslie McGuigan at lmcguigan@weinsteinjcc.org
URL:https://www.richmondsymphony.com/event/israels-70th-birthday-celebration-richmond-symphony/
LOCATION:Sara Belle November Theater\, Weinstein JCC\, 5403 Monument Avenue\, Richmond\, VA\, 23226
ATTACH;FMTTYPE=image/jpeg:https://www.richmondsymphony.com/wp-content/uploads/2018/03/JCC.jpg
END:VEVENT
BEGIN:VEVENT
DTSTART;TZID=America/New_York:20180420T193000
DTEND;TZID=America/New_York:20180420T210000
DTSTAMP:20260421T084622
CREATED:20180420T184958Z
LAST-MODIFIED:20180420T185343Z
UID:12090-1524252600-1524258000@www.richmondsymphony.com
SUMMARY:Richmond Symphony at Longwood University
DESCRIPTION:Join us for a special Richmond Symphony concert at Longwood University on Friday\, April 20 at 7:30 pm. \nTickets are $20 and can be purchased through the Longwood Box Office. The first 200 Longwood students to reserve a ticket will be admitted free. To ensure availability\, students should reserve tickets online or by calling (434) 395-2474.
URL:https://www.richmondsymphony.com/event/richmond-symphony-longwood-university/
LOCATION:Longwood University\, 201 High St\, Farmville\, VA\, 23909\, United States
END:VEVENT
BEGIN:VEVENT
DTSTART;TZID=America/New_York:20180421T200000
DTEND;TZID=America/New_York:20180421T220000
DTSTAMP:20260421T084622
CREATED:20170207T172447Z
LAST-MODIFIED:20180413T205057Z
UID:7851-1524340800-1524348000@www.richmondsymphony.com
SUMMARY:New World Symphony
DESCRIPTION:New World Symphony is the seventh installment in our 2017/18 Altria Masterworks series. This program celebrates the string instruments through popular melodies and infectious rhythms. \nThis concert is a celebration of friendship\, mutual respect\, and exploring new lands. The compositions featured from Kapralova\, Brahms\, and Dvorak are upbeat\, dramatic\, and exciting. Be transported across the world to the Czech Republic\, explore Romani melodies\, and experience turn of the century America through the ears of a foreigner. \nJoin us an hour before each concert for a free pre-concert talk with Richmond Symphony Music Director\, Steven Smith. This talk will provide insight into the conductor’s unique connection to the pieces featured\, including a story of him seeing Dvorak’s handwritten composition in person. \nChildren 18 and under receive free tickets to Altria Masterworks concert (excludes Mezzanine seating\, Opening Night\, and Special Concerts). Click Buy Tickets to “purchase”. \nLearn more about Steven Smith\, conductor\nLearn more about Daisuke Yamamoto\, concertmaster\, violin\nLearn more about Neal Cary\, principal cello \nProgram Notes \nSeries sponsor
URL:https://www.richmondsymphony.com/event/new-world-symphony/2018-04-21/
LOCATION:Carpenter Theatre\, 612 East Grace Street\, Richmond \, VA\, 23219\, United States
CATEGORIES:Masterworks Series
ATTACH;FMTTYPE=image/jpeg:https://www.richmondsymphony.com/wp-content/uploads/2017/01/NewWorld_iStock-519760984.jpg
GEO:37.5415432;-77.43695
X-APPLE-STRUCTURED-LOCATION;VALUE=URI;X-ADDRESS=Carpenter Theatre 612 East Grace Street Richmond  VA 23219 United States;X-APPLE-RADIUS=500;X-TITLE=612 East Grace Street:geo:-77.43695,37.5415432
END:VEVENT
BEGIN:VEVENT
DTSTART;TZID=America/New_York:20180422T150000
DTEND;TZID=America/New_York:20180422T170000
DTSTAMP:20260421T084622
CREATED:20170207T172602Z
LAST-MODIFIED:20180323T205922Z
UID:7852-1524409200-1524416400@www.richmondsymphony.com
SUMMARY:New World Symphony
DESCRIPTION:New World Symphony is the seventh installment in our 2017/18 Altria Masterworks series. This program celebrates the string instruments through popular melodies and infectious rhythms. \nThis concert is a celebration of friendship\, mutual respect\, and exploring new lands. The compositions featured from Kapralova\, Brahms\, and Dvorak are upbeat\, dramatic\, and exciting. Be transported across the world to the Czech Republic\, explore gypsy melodies\, and experience turn of the century America through the ears of a foreigner. \nJoin us an hour before each concert for a free pre-concert talk with Richmond Symphony Music Director\, Steven Smith. This talk will provide insight into the conductor’s unique connection to the pieces featured\, including a story of him seeing Dvorak’s handwritten composition in person. \nChildren 18 and under receive free tickets to Altria Masterworks concert (excludes Mezzanine seating\, Opening Night\, and Special Concerts). Click Buy Tickets to “purchase”. \nLearn more about Steven Smith\, conductor\nLearn more about Daisuke Yamamoto\, concertmaster\, violin\nLearn more about Neal Cary\, principal cello \nProgram Notes \nSeries sponsor
URL:https://www.richmondsymphony.com/event/new-world-symphony-2/2018-04-22/
LOCATION:Carpenter Theatre\, 612 East Grace Street\, Richmond \, VA\, 23219\, United States
CATEGORIES:Masterworks Series
ATTACH;FMTTYPE=image/jpeg:https://www.richmondsymphony.com/wp-content/uploads/2017/01/NewWorld_iStock-519760984.jpg
GEO:37.5415432;-77.43695
X-APPLE-STRUCTURED-LOCATION;VALUE=URI;X-ADDRESS=Carpenter Theatre 612 East Grace Street Richmond  VA 23219 United States;X-APPLE-RADIUS=500;X-TITLE=612 East Grace Street:geo:-77.43695,37.5415432
END:VEVENT
END:VCALENDAR