BEGIN:VCALENDAR
VERSION:2.0
PRODID:-//Richmond Symphony - ECPv6.15.1//NONSGML v1.0//EN
CALSCALE:GREGORIAN
METHOD:PUBLISH
X-ORIGINAL-URL:https://www.richmondsymphony.com
X-WR-CALDESC:Events for Richmond Symphony
REFRESH-INTERVAL;VALUE=DURATION:PT1H
X-Robots-Tag:noindex
X-PUBLISHED-TTL:PT1H
BEGIN:VTIMEZONE
TZID:America/New_York
BEGIN:DAYLIGHT
TZOFFSETFROM:-0500
TZOFFSETTO:-0400
TZNAME:EDT
DTSTART:20180311T070000
END:DAYLIGHT
BEGIN:STANDARD
TZOFFSETFROM:-0400
TZOFFSETTO:-0500
TZNAME:EST
DTSTART:20181104T060000
END:STANDARD
END:VTIMEZONE
BEGIN:VEVENT
DTSTART;TZID=America/New_York:20180502T193000
DTEND;TZID=America/New_York:20180502T220000
DTSTAMP:20260421T071240
CREATED:20180323T152557Z
LAST-MODIFIED:20180419T151951Z
UID:11847-1525289400-1525298400@www.richmondsymphony.com
SUMMARY:Sweet Briar Concert
DESCRIPTION:Join us for a special Richmond Symphony concert at Sweet Briar College Memorial Chapel on Wednesday\, May 2\, 2018 at 7:30 pm. \nTickets will be on sale starting Monday\, April 16 at noon. Tickets can be purchased through the link on this page or by calling (434) 381-6120. \nTicket prices are as follows:\nAdults $10\nSeniors $7\nNon Sweet Briar College Students $5\nSweet Briar College Faculty\, Staff\, Students\, Alumnae\, Retirees FREE\nAll tickets include a service fee \n  \nLearn more about Chia-Hsuan Lin\, conductor
URL:https://www.richmondsymphony.com/event/sweet-briar-concert/
LOCATION:Sweet Briar Memorial Chapel\, 134 Chapel Road\, Sweet Briar\, 24594\, United States
ATTACH;FMTTYPE=image/jpeg:https://www.richmondsymphony.com/wp-content/uploads/2018/03/church.jpg
END:VEVENT
BEGIN:VEVENT
DTSTART;TZID=America/New_York:20180503T183000
DTEND;TZID=America/New_York:20180503T193000
DTSTAMP:20260421T071240
CREATED:20170207T172918Z
LAST-MODIFIED:20180501T164423Z
UID:7767-1525372200-1525375800@www.richmondsymphony.com
SUMMARY:Rush Hour 4
DESCRIPTION:We’re teaming up with Hardywood again this season to continue the popular\, Thursday night Rush Hour concerts! Grab your favorite craft beer\, hit the food trucks and enjoy a laid back concert in Hardywood’s Tasting Room. Cover charge is $15. \nConcert Sponsor: CapTech \n \n  \n  \n  \nWhat to expect: \nSeating — The cover charge grants you access to Hardywood’s space. There is a small number of chairs and plenty of standing room available in the barrel room where the orchestra sets up. If being seated is a high priority for you\, please arrive early to secure a seat (doors open at 5pm). There is additional seating in the adjacent rooms; the doors between the spaces are left open to allow the music to be heard throughout the space and the sound is reinforced with speakers. \nFood — Thursday is Food Truck night at Hardywood. The number of food trucks varies from one to eight\, depending on the season. Please note we can’t guarantee vegan/vegetarian or GF/DF options. You always have the option to bring in food from outside restaurants or from home to suit your needs. \nAtmosphere – Please note that you are enjoying the orchestra in a bar atmosphere. Feel free to move in and out of the space\, eat and drink\, or snap a photo (NO FLASH OR CLICK PLEASE). Like any bar\, there will be conversation as well. If you are looking for a more traditional concert experience\, we encourage you to check out the Classics section of our website or our Casual Fridays series.
URL:https://www.richmondsymphony.com/event/rush-hour-18-4/2018-05-03/
LOCATION:Hardywood Park Craft Brewery Richmond\, 2408-2410 Ownby Lane\, Richmond\, VA\, 23220\, United States
CATEGORIES:Hardywood
ATTACH;FMTTYPE=image/jpeg:https://www.richmondsymphony.com/wp-content/uploads/2015/02/Hardywood_21.jpg
END:VEVENT
BEGIN:VEVENT
DTSTART;TZID=America/New_York:20180506T150000
DTEND;TZID=America/New_York:20180506T170000
DTSTAMP:20260421T071240
CREATED:20170207T172032Z
LAST-MODIFIED:20180105T190549Z
UID:7790-1525618800-1525626000@www.richmondsymphony.com
SUMMARY:Metro Collection 4
DESCRIPTION:Join us at Randolph-Macon College for intimate\, chamber orchestra concerts that allow you to get up close and personal with the musicians of the Richmond Symphony. The series takes place at Blackwell Auditorium at Randolph-Macon College in Ashland and features free pre-concert talks at the Dollar Tree Room in Brock Commons one hour before the concert. \nLearn more about Chia-Hsuan Lin\, conductor \nProgram Notes
URL:https://www.richmondsymphony.com/event/metro-collection-4/2018-05-06/
LOCATION:Blackwell Auditorium at Randolph-Macon College\, 	204 Henry Street\, Ashland\, VA\, 23005\, United States
CATEGORIES:Metro Series
ATTACH;FMTTYPE=image/jpeg:https://www.richmondsymphony.com/wp-content/uploads/2017/02/Chia-Hsuan-Lin-Photo-1R2-e1486134539800.jpg
END:VEVENT
BEGIN:VEVENT
DTSTART;TZID=America/New_York:20180511T183000
DTEND;TZID=America/New_York:20180511T193000
DTSTAMP:20260421T071240
CREATED:20170207T173733Z
LAST-MODIFIED:20180426T190010Z
UID:7770-1526063400-1526067000@www.richmondsymphony.com
SUMMARY:Mason Bates: World Première
DESCRIPTION:A laid back evening with a world-renowned composer? Yes\, please! Recently named the most-performed composer of his generation\, Mason Bates serves as the first composer-in-residence of the Kennedy Center for the Performing Arts. His music enlivens imaginative narrative forms with novel orchestral writing\, the harmonies of jazz and the rhythms of techno\, and it has been the first symphonic music to receive widespread acceptance for its unique integration of electronic sounds. It’s the perfect start to your Friday night! Relax with a drink and let the evening’s host\, along with the conductor\, take you behind the scenes of the music. \nThis performance is in partnership with the 2019 Commemoration\, AMERICAN EVOLUTION™. \n \nPlease join us for an exclusive post-concert after party with Symphony musicians\, just across Broad Street at Vagabond! \n \nLearn more about Steven Smith\, conductor \nLearn more about Mason Bates\, composer \nGuest Artist Sponsor:
URL:https://www.richmondsymphony.com/event/mason-bates-world-premiere-2/2018-05-11/
LOCATION:Carpenter Theatre\, 612 East Grace Street\, Richmond \, VA\, 23219\, United States
ATTACH;FMTTYPE=image/jpeg:https://www.richmondsymphony.com/wp-content/uploads/2017/02/MasonBates-by-Todd-Rosenberg-54-e1486068370409.jpg
GEO:37.5415432;-77.43695
X-APPLE-STRUCTURED-LOCATION;VALUE=URI;X-ADDRESS=Carpenter Theatre 612 East Grace Street Richmond  VA 23219 United States;X-APPLE-RADIUS=500;X-TITLE=612 East Grace Street:geo:-77.43695,37.5415432
END:VEVENT
BEGIN:VEVENT
DTSTART;TZID=America/New_York:20180512T200000
DTEND;TZID=America/New_York:20180512T220000
DTSTAMP:20260421T071240
CREATED:20170207T172344Z
LAST-MODIFIED:20180426T190349Z
UID:7853-1526155200-1526162400@www.richmondsymphony.com
SUMMARY:Mason Bates: World Première
DESCRIPTION:Featuring orchestral classics and contemporary composers\, this series will inspire you. Recently named the most-performed composer of his generation\, Mason Bates serves as the first composer-in-residence of the Kennedy Center for the Performing Arts. His music enlivens imaginative narrative forms with novel orchestral writing\, the harmonies of jazz and the rhythms of techno\, and it has been the first symphonic music to receive widespread acceptance for its unique integration of electronic sounds. \nJoin us an hour before each concert for a free pre-concert talk with the Richmond Symphony Music Director\, Steven Smith. These talks often feature guest artists and conductors and provide you with insight into the concert you are about to hear. \nThis performance is in partnership with the 2019 Commemoration\, AMERICAN EVOLUTION™. \n \nChildren 18 and under receive free tickets to Altria Masterworks concert (excludes Mezzanine seating\, Opening Night\, and Special Concerts). Click Buy Tickets to “purchase”. \nLearn more about Steven Smith\, conductor\nLearn more about Richmond Symphony Chorus\nLearn more about Mason Bates\, composer \nProgram Notes \nSeries sponsor \n \n  \n  \n  \n  \nGuest Artist Sponsor
URL:https://www.richmondsymphony.com/event/mason-bates-world-premiere/
LOCATION:Carpenter Theatre\, 612 East Grace Street\, Richmond \, VA\, 23219\, United States
CATEGORIES:Masterworks Series
ATTACH;FMTTYPE=image/jpeg:https://www.richmondsymphony.com/wp-content/uploads/2017/02/MasonBates-by-Todd-Rosenberg-54-e1486068370409.jpg
GEO:37.5415432;-77.43695
X-APPLE-STRUCTURED-LOCATION;VALUE=URI;X-ADDRESS=Carpenter Theatre 612 East Grace Street Richmond  VA 23219 United States;X-APPLE-RADIUS=500;X-TITLE=612 East Grace Street:geo:-77.43695,37.5415432
END:VEVENT
BEGIN:VEVENT
DTSTART;TZID=America/New_York:20180519T120000
DTEND;TZID=America/New_York:20180519T200000
DTSTAMP:20260421T071240
CREATED:20180209T173248Z
LAST-MODIFIED:20180517T183440Z
UID:11348-1526731200-1526760000@www.richmondsymphony.com
SUMMARY:Southside Community Festival
DESCRIPTION:All programming for the Southside Big Tent Community Festival – United by Music will now take place on Saturday\, May 19\, 2018 at the Southside Community Center! The festival will start at noon and will include performances by: Legacy Band VA\, THE BUSH LEAGUE\, Salsa Guy’s Bomba y Plena\, and Reina Palencia. World-renowned Latin jazz band\, Bio Ritmo’s performance with the Richmond Symphony has moved to Saturday at 6:00pm in the Big Tent\, followed by a Dance Party with Dj Missing! \nThis festival will leave lasting benefit to the community in the form of funds for music education programs in the 8th and 9th district public schools. We hope that you all will join us at the Southside Community Center for this weekend-long party with a purpose!
URL:https://www.richmondsymphony.com/event/southside-community-festival/2018-05-19/
LOCATION:Southside Community Center\, 6255 Old Warwick Road\, Richmond\, 23224\, United States
ATTACH;FMTTYPE=image/jpeg:https://www.richmondsymphony.com/wp-content/uploads/2018/02/Artwork-Image-May-19-white-background.jpg
ORGANIZER;CN="Richmond Symphony":MAILTO:patronservices@richmondsymphony.com
END:VEVENT
BEGIN:VEVENT
DTSTART;TZID=America/New_York:20180520T160000
DTEND;TZID=America/New_York:20180520T170000
DTSTAMP:20260421T071240
CREATED:20170926T210435Z
LAST-MODIFIED:20240305T155247Z
UID:9936-1526832000-1526835600@www.richmondsymphony.com
SUMMARY:Youth Orchestra Program Spring Concert 2018
DESCRIPTION:Join our Richmond Symphony Youth Orchestra Program (YOP) musicians in the historic Carpenter Theatre for their Spring Concert. Tickets are free at the door! Come one\, come all! \nRichmond Symphony Youth Orchestra Program (YOP) is the Richmond Symphony’s flagship educational program. Founded in 1962\, YOP consists of four youth orchestras that provide beginning to advanced musical training. As the premier orchestral training program of central Virginia\, students participate in weekly rehearsals\, coaching and masterclasses by Richmond Symphony musicians\, chamber music performances\, mentoring and other musical and social activities. The Youth Orchestra Program is open to violin\, viola\, cello\, bass\, flute/piccolo\, oboe\, clarinet\, bassoon\, horn\, trumpet\, trombone\, tuba\, harp and percussion students in elementary through high school. Learn more about YOP by clicking here.
URL:https://www.richmondsymphony.com/event/youth-orchestra-program-spring-concert/
LOCATION:Carpenter Theatre\, 612 East Grace Street\, Richmond \, VA\, 23219\, United States
CATEGORIES:Richmond Symphony Youth Orchestra
ATTACH;FMTTYPE=image/jpeg:https://www.richmondsymphony.com/wp-content/uploads/2017/09/Richmond-Symphony-May-02-2017-45.jpg
ORGANIZER;CN="Richmond Symphony":MAILTO:patronservices@richmondsymphony.com
GEO:37.5415432;-77.43695
X-APPLE-STRUCTURED-LOCATION;VALUE=URI;X-ADDRESS=Carpenter Theatre 612 East Grace Street Richmond  VA 23219 United States;X-APPLE-RADIUS=500;X-TITLE=612 East Grace Street:geo:-77.43695,37.5415432
END:VEVENT
BEGIN:VEVENT
DTSTART;TZID=America/New_York:20180520T190000
DTEND;TZID=America/New_York:20180520T200000
DTSTAMP:20260421T071240
CREATED:20170926T210817Z
LAST-MODIFIED:20240305T155212Z
UID:9940-1526842800-1526846400@www.richmondsymphony.com
SUMMARY:Richmond Symphony Youth Orchestra Spring Concert 2018
DESCRIPTION:Join our Richmond Symphony Youth Orchestra musicians in the historic Carpenter Theatre for their Spring Concert. Tickets are free at the door! Come one\, come all! \nRichmond Symphony Youth Orchestra Program (YOP) is the Richmond Symphony’s flagship educational program. Founded in 1962\, YOP consists of four youth orchestras that provide beginning to advanced musical training. As the premier orchestral training program of central Virginia\, students participate in weekly rehearsals\, coaching and masterclasses by Richmond Symphony musicians\, chamber music performances\, mentoring and other musical and social activities. The Richmond Symphony Youth Orchestra (RSYO) is an advanced\, full level orchestra that offers a pre-college orchestra experience for the serious student musician. Nearly all members of RSYO study with private instructors and all are leaders in their school programs. RSYO performs masterworks of the orchestral repertoire. Students in RSYO hold themselves to a high level of discipline\, preparation and musicianship. Learn more about RSYO by clicking here. \n 
URL:https://www.richmondsymphony.com/event/youth-orchestra-program-spring-concert-evening/
LOCATION:Carpenter Theatre\, 612 East Grace Street\, Richmond \, VA\, 23219\, United States
CATEGORIES:Richmond Symphony Youth Orchestra
ATTACH;FMTTYPE=image/jpeg:https://www.richmondsymphony.com/wp-content/uploads/2017/09/IMG_2538-edit-e1523902560902.jpg
ORGANIZER;CN="Richmond Symphony":MAILTO:patronservices@richmondsymphony.com
GEO:37.5415432;-77.43695
X-APPLE-STRUCTURED-LOCATION;VALUE=URI;X-ADDRESS=Carpenter Theatre 612 East Grace Street Richmond  VA 23219 United States;X-APPLE-RADIUS=500;X-TITLE=612 East Grace Street:geo:-77.43695,37.5415432
END:VEVENT
END:VCALENDAR