BEGIN:VCALENDAR
VERSION:2.0
PRODID:-//Richmond Symphony - ECPv6.15.1//NONSGML v1.0//EN
CALSCALE:GREGORIAN
METHOD:PUBLISH
X-ORIGINAL-URL:https://www.richmondsymphony.com
X-WR-CALDESC:Events for Richmond Symphony
REFRESH-INTERVAL;VALUE=DURATION:PT1H
X-Robots-Tag:noindex
X-PUBLISHED-TTL:PT1H
BEGIN:VTIMEZONE
TZID:America/New_York
BEGIN:DAYLIGHT
TZOFFSETFROM:-0500
TZOFFSETTO:-0400
TZNAME:EDT
DTSTART:20180311T070000
END:DAYLIGHT
BEGIN:STANDARD
TZOFFSETFROM:-0400
TZOFFSETTO:-0500
TZNAME:EST
DTSTART:20181104T060000
END:STANDARD
END:VTIMEZONE
BEGIN:VEVENT
DTSTART;TZID=America/New_York:20180603T190000
DTEND;TZID=America/New_York:20180603T210000
DTSTAMP:20260421T054739
CREATED:20180209T174604Z
LAST-MODIFIED:20180601T153442Z
UID:11353-1528052400-1528059600@www.richmondsymphony.com
SUMMARY:James River High School
DESCRIPTION:The Richmond Symphony invites you to enjoy a FREE concert on Sunday\, June 3 at 7pm. Bring your family and friends to enjoy the sounds of a live orchestra at James River High School\, 3700 James River Rd\, Midlothian\, VA 23113 \nThis concert is FREE and open to the public (no ticket required). \n  \n 
URL:https://www.richmondsymphony.com/event/james-river-highschool/2018-06-03/
LOCATION:James River High School\, 3700 James River Road \, Midlothian\, VA\, 23113\, United States
ATTACH;FMTTYPE=image/jpeg:https://www.richmondsymphony.com/wp-content/uploads/2018/02/Edited_6N2A817960th.jpg
END:VEVENT
BEGIN:VEVENT
DTSTART;TZID=America/New_York:20180608T180000
DTEND;TZID=America/New_York:20180608T220000
DTSTAMP:20260421T054739
CREATED:20180215T181253Z
LAST-MODIFIED:20180607T132113Z
UID:11497-1528480800-1528495200@www.richmondsymphony.com
SUMMARY:Festival of the River
DESCRIPTION:A special three-day event\, The Festival of the River\, will take place on Brown’s Island June 8-10\, 2018. This one-time festival will showcase the very best of the James River\, Chesapeake Bay and the Richmond Region. Festival highlights will include contemporary art installations\, performances under the Richmond Symphony’s “Big Tent\,” cleanups along and around the River and family-friendly environmental education activities including Back to the Bay in celebration of Chesapeake Bay Awareness Week. \nVisit festivaloftheriver.org for a full schedule and more information!
URL:https://www.richmondsymphony.com/event/festival-of-the-river/2018-06-08/
LOCATION:Brown’s Island\, Brown's Island\, Downtown Richmond \, VA\, 23219\, United States
CATEGORIES:Education & Community
ATTACH;FMTTYPE=image/png:https://www.richmondsymphony.com/wp-content/uploads/2018/02/Festival-of-the-River-Logo-FINALFINAL.png
ORGANIZER;CN="Richmond Symphony":MAILTO:patronservices@richmondsymphony.com
END:VEVENT
BEGIN:VEVENT
DTSTART;TZID=America/New_York:20180609T120000
DTEND;TZID=America/New_York:20180609T210000
DTSTAMP:20260421T054739
CREATED:20180215T182151Z
LAST-MODIFIED:20180215T182634Z
UID:11523-1528545600-1528578000@www.richmondsymphony.com
SUMMARY:Festival of the River
DESCRIPTION:A special three-day event\, The Festival of the River\, will take place on Brown’s Island June 8-10\, 2018. This one-time festival will showcase the very best of the James River\, Chesapeake Bay and the Richmond Region. Festival highlights will include contemporary art installations\, performances under the Richmond Symphony’s “Big Tent\,” cleanups along and around the River and family-friendly environmental education activities including Back to the Bay in celebration of Chesapeake Bay Awareness Week. \nStay tuned to this space. More details to come!
URL:https://www.richmondsymphony.com/event/festival-of-the-river-2/
LOCATION:Brown’s Island\, Brown's Island\, Downtown Richmond \, VA\, 23219\, United States
CATEGORIES:Education & Community
ATTACH;FMTTYPE=image/png:https://www.richmondsymphony.com/wp-content/uploads/2018/02/Festival-of-the-River-Logo-FINALFINAL.png
ORGANIZER;CN="Richmond Symphony":MAILTO:patronservices@richmondsymphony.com
END:VEVENT
BEGIN:VEVENT
DTSTART;TZID=America/New_York:20180610T110000
DTEND;TZID=America/New_York:20180610T180000
DTSTAMP:20260421T054739
CREATED:20180215T182905Z
LAST-MODIFIED:20180215T182905Z
UID:11526-1528628400-1528653600@www.richmondsymphony.com
SUMMARY:Festival of the River
DESCRIPTION:A special three-day event\, The Festival of the River\, will take place on Brown’s Island June 8-10\, 2018. This one-time festival will showcase the very best of the James River\, Chesapeake Bay and the Richmond Region. Festival highlights will include contemporary art installations\, performances under the Richmond Symphony’s “Big Tent\,” cleanups along and around the River and family-friendly environmental education activities including Back to the Bay in celebration of Chesapeake Bay Awareness Week. \nStay tuned to this space. More details to come!
URL:https://www.richmondsymphony.com/event/festival-of-the-river-3/
LOCATION:Brown’s Island\, Brown's Island\, Downtown Richmond \, VA\, 23219\, United States
CATEGORIES:Education & Community
ATTACH;FMTTYPE=image/png:https://www.richmondsymphony.com/wp-content/uploads/2018/02/Festival-of-the-River-Logo-FINALFINAL.png
ORGANIZER;CN="Richmond Symphony":MAILTO:patronservices@richmondsymphony.com
END:VEVENT
END:VCALENDAR