BEGIN:VCALENDAR
VERSION:2.0
PRODID:-//Richmond Symphony - ECPv6.15.1//NONSGML v1.0//EN
CALSCALE:GREGORIAN
METHOD:PUBLISH
X-ORIGINAL-URL:https://www.richmondsymphony.com
X-WR-CALDESC:Events for Richmond Symphony
REFRESH-INTERVAL;VALUE=DURATION:PT1H
X-Robots-Tag:noindex
X-PUBLISHED-TTL:PT1H
BEGIN:VTIMEZONE
TZID:America/New_York
BEGIN:DAYLIGHT
TZOFFSETFROM:-0500
TZOFFSETTO:-0400
TZNAME:EDT
DTSTART:20180311T070000
END:DAYLIGHT
BEGIN:STANDARD
TZOFFSETFROM:-0400
TZOFFSETTO:-0500
TZNAME:EST
DTSTART:20181104T060000
END:STANDARD
END:VTIMEZONE
BEGIN:VEVENT
DTSTART;TZID=America/New_York:20180704T170000
DTEND;TZID=America/New_York:20180704T200000
DTSTAMP:20260421T041411
CREATED:20180608T180719Z
LAST-MODIFIED:20180702T183428Z
UID:12618-1530723600-1530734400@www.richmondsymphony.com
SUMMARY:Red\, White\, and Lights
DESCRIPTION:Join us for a free display of fireworks and live music during the 2018 Red\, White\, and Lights Fourth of July Celebration at Dorey Park presented by Henrico County. The celebration will include family fun\, food trucks\, live entertainment and a finale featuring the Richmond Symphony along with a fireworks and laser-light show. Guests are encouraged to arrive early and bring a blanket or chair. We hope to see you there! \n 
URL:https://www.richmondsymphony.com/event/red-white-lights/
LOCATION:Dorey Park\, 2999\, Richmond\, VA\, 23231\, United States
ATTACH;FMTTYPE=image/jpeg:https://www.richmondsymphony.com/wp-content/uploads/2018/06/11Henrico.jpg
GEO:37.439831;-77.3412016
X-APPLE-STRUCTURED-LOCATION;VALUE=URI;X-ADDRESS=Dorey Park 2999 Richmond VA 23231 United States;X-APPLE-RADIUS=500;X-TITLE=2999:geo:-77.3412016,37.439831
END:VEVENT
BEGIN:VEVENT
DTSTART;TZID=America/New_York:20180712T183000
DTEND;TZID=America/New_York:20180712T193000
DTSTAMP:20260421T041411
CREATED:20180501T202435Z
LAST-MODIFIED:20180711T175649Z
UID:11931-1531420200-1531423800@www.richmondsymphony.com
SUMMARY:Jason McComb & Joanne Kong - SOLD OUT
DESCRIPTION:The Summer Recital Series is a collaboration among the Richmond Symphony\, the University of Richmond Department of Music and VCU | School of the Arts | Department of Music. The series was created as a way to showcase the talents of the professional musicians associated with these institutions. This year’s theme\, Stories in Music: The World of Robert Schumann exposes the intrigue and complexity of German composer Robert Schumann. These six casual concerts take place on Thursday evenings at 6:30pm in the Dominion Energy Center’s Libby S. Gottwald Playhouse; each concert is approximately an hour long. A cash bar is available both before and after the performance.  These concerts often sell out\, so get your tickets early!
URL:https://www.richmondsymphony.com/event/jason-mccomb-joanne-kong/2018-07-12/
LOCATION:Libby S. Gottwald Playhouse\, 612 East Grace Street \, Richmond\, 23219
CATEGORIES:Currents,Summer Series
ATTACH;FMTTYPE=image/jpeg:https://www.richmondsymphony.com/wp-content/uploads/2018/05/Summer-Series-Mailchimp-100-1.jpg
ORGANIZER;CN="Richmond Symphony":MAILTO:patronservices@richmondsymphony.com
END:VEVENT
BEGIN:VEVENT
DTSTART;TZID=America/New_York:20180719T183000
DTEND;TZID=America/New_York:20180719T193000
DTSTAMP:20260421T041411
CREATED:20180501T202314Z
LAST-MODIFIED:20180613T152519Z
UID:11933-1532025000-1532028600@www.richmondsymphony.com
SUMMARY:HyoJoo Uh & Magdalena Adamek
DESCRIPTION:The Summer Recital Series is a collaboration among the Richmond Symphony\, the University of Richmond Department of Music and VCU | School of the Arts | Department of Music. The series was created as a way to showcase the talents of the professional musicians associated with these institutions. This year’s theme\, Stories in Music: The World of Robert Schumann exposes the intrigue and complexity of German composer Robert Schumann. These six casual concerts take place on Thursday evenings at 6:30pm in the Dominion Energy Center’s Libby S. Gottwald Playhouse; each concert is approximately an hour long. A cash bar is available both before and after the performance.  These concerts often sell out\, so get your tickets early!
URL:https://www.richmondsymphony.com/event/hyojoo-uh-magdalena-adamek/2018-07-19/
LOCATION:Libby S. Gottwald Playhouse\, 612 East Grace Street \, Richmond\, 23219
CATEGORIES:Currents,Summer Series
ATTACH;FMTTYPE=image/jpeg:https://www.richmondsymphony.com/wp-content/uploads/2018/05/Summer-Series-Mailchimp-100-1.jpg
ORGANIZER;CN="Richmond Symphony":MAILTO:patronservices@richmondsymphony.com
END:VEVENT
BEGIN:VEVENT
DTSTART;TZID=America/New_York:20180726T183000
DTEND;TZID=America/New_York:20180726T193000
DTSTAMP:20260421T041411
CREATED:20180501T202213Z
LAST-MODIFIED:20180613T152658Z
UID:11935-1532629800-1532633400@www.richmondsymphony.com
SUMMARY:Ellen Cockerham Riccio & David Fisk
DESCRIPTION:The Summer Recital Series is a collaboration among the Richmond Symphony\, the University of Richmond Department of Music and VCU | School of the Arts | Department of Music. The series was created as a way to showcase the talents of the professional musicians associated with these institutions. This year’s theme\, Stories in Music: The World of Robert Schumann exposes the intrigue and complexity of German composer Robert Schumann. These six casual concerts take place on Thursday evenings at 6:30pm in the Dominion Energy Center’s Libby S. Gottwald Playhouse; each concert is approximately an hour long. A cash bar is available both before and after the performance.  These concerts often sell out\, so get your tickets early!
URL:https://www.richmondsymphony.com/event/ellen-cockerham-riccio-david-fisk/2018-07-26/
LOCATION:Libby S. Gottwald Playhouse\, 612 East Grace Street \, Richmond\, 23219
CATEGORIES:Currents,Summer Series
ATTACH;FMTTYPE=image/jpeg:https://www.richmondsymphony.com/wp-content/uploads/2018/05/Summer-Series-Mailchimp-100-1.jpg
ORGANIZER;CN="Richmond Symphony":MAILTO:patronservices@richmondsymphony.com
END:VEVENT
END:VCALENDAR