BEGIN:VCALENDAR
VERSION:2.0
PRODID:-//Richmond Symphony - ECPv6.15.1//NONSGML v1.0//EN
CALSCALE:GREGORIAN
METHOD:PUBLISH
X-WR-CALNAME:Richmond Symphony
X-ORIGINAL-URL:https://www.richmondsymphony.com
X-WR-CALDESC:Events for Richmond Symphony
REFRESH-INTERVAL;VALUE=DURATION:PT1H
X-Robots-Tag:noindex
X-PUBLISHED-TTL:PT1H
BEGIN:VTIMEZONE
TZID:America/New_York
BEGIN:DAYLIGHT
TZOFFSETFROM:-0500
TZOFFSETTO:-0400
TZNAME:EDT
DTSTART:20180311T070000
END:DAYLIGHT
BEGIN:STANDARD
TZOFFSETFROM:-0400
TZOFFSETTO:-0500
TZNAME:EST
DTSTART:20181104T060000
END:STANDARD
END:VTIMEZONE
BEGIN:VEVENT
DTSTART;TZID=America/New_York:20181201T200000
DTEND;TZID=America/New_York:20181201T220000
DTSTAMP:20260420T194141
CREATED:20180126T184633Z
LAST-MODIFIED:20231030T131600Z
UID:11138-1543694400-1543701600@www.richmondsymphony.com
SUMMARY:Let it Snow! 2018
DESCRIPTION:Celebrate the holidays with a concert featuring the sounds of the season! Join the Richmond Symphony and the Richmond Symphony Chorus for this magical holiday tradition the whole family will love. \nLearn more about Desirée Roots\, guest vocalist. \nLearn more about Erin Freeman\, conductor. \n  \n  \n  \n  \n  \nConcert Sponsor \nMedia Sponsor
URL:https://www.richmondsymphony.com/event/let-it-snow-5/2018-12-01/
LOCATION:Carpenter Theatre\, 612 East Grace Street\, Richmond \, VA\, 23219\, United States
CATEGORIES:Pops
ATTACH;FMTTYPE=image/jpeg:https://www.richmondsymphony.com/wp-content/uploads/2018/01/POPS-05.jpg
GEO:37.5415432;-77.43695
X-APPLE-STRUCTURED-LOCATION;VALUE=URI;X-ADDRESS=Carpenter Theatre 612 East Grace Street Richmond  VA 23219 United States;X-APPLE-RADIUS=500;X-TITLE=612 East Grace Street:geo:-77.43695,37.5415432
END:VEVENT
BEGIN:VEVENT
DTSTART;TZID=America/New_York:20181202T150000
DTEND;TZID=America/New_York:20181202T170000
DTSTAMP:20260420T194141
CREATED:20180126T184846Z
LAST-MODIFIED:20231030T131417Z
UID:11141-1543762800-1543770000@www.richmondsymphony.com
SUMMARY:Let it Snow! 2018
DESCRIPTION:Celebrate the holidays with a concert featuring the sounds of the season! Join the Richmond Symphony and the Richmond Symphony Chorus for this magical holiday tradition the whole family will love.  \nLearn more about Desirée Roots\, guest vocalist. \nLearn more about Erin Freeman\, conductor. \n  \n  \n  \n  \n  \n  \n  \nConcert Sponsor \nMedia Sponsor \n  \n  \n 
URL:https://www.richmondsymphony.com/event/let-it-snow-6/
LOCATION:Carpenter Theatre\, 612 East Grace Street\, Richmond \, VA\, 23219\, United States
CATEGORIES:Pops
ATTACH;FMTTYPE=image/jpeg:https://www.richmondsymphony.com/wp-content/uploads/2018/01/POPS-05.jpg
GEO:37.5415432;-77.43695
X-APPLE-STRUCTURED-LOCATION;VALUE=URI;X-ADDRESS=Carpenter Theatre 612 East Grace Street Richmond  VA 23219 United States;X-APPLE-RADIUS=500;X-TITLE=612 East Grace Street:geo:-77.43695,37.5415432
END:VEVENT
BEGIN:VEVENT
DTSTART;TZID=America/New_York:20181208T193000
DTEND;TZID=America/New_York:20181208T193000
DTSTAMP:20260420T194141
CREATED:20180126T175003Z
LAST-MODIFIED:20181203T173218Z
UID:11108-1544297400-1544297400@www.richmondsymphony.com
SUMMARY:Handel's Messiah
DESCRIPTION:Don’t miss the Richmond Symphony and Richmond Symphony Chorus performing Handel’s masterwork\, a holiday classic that has delighted Richmonders for generations. \nChia-Hsuan Lin\, conductor  and Jack & Mary Ann Frable Associate Conductor Chair\nErin R. Freeman\, Director of the Richmond Symphony Chorus and James Erb Choral Chair\nClara Rottsolk\, soprano\nJessica Renfro\, mezzo-soprano\nCameo Humes\, tenor\nCalvin Griffin\, bass-baritone\nJonathan Moyer\, harpsichord \n  \n  \nConcert Sponsor \n  \n  \n 
URL:https://www.richmondsymphony.com/event/handels-messiah-4/2018-12-08/
LOCATION:Carpenter Theatre\, 612 East Grace Street\, Richmond \, VA\, 23219\, United States
CATEGORIES:Concerts & Events
ATTACH;FMTTYPE=image/jpeg:https://www.richmondsymphony.com/wp-content/uploads/2018/01/Handels_Messiah.jpg
GEO:37.5415432;-77.43695
X-APPLE-STRUCTURED-LOCATION;VALUE=URI;X-ADDRESS=Carpenter Theatre 612 East Grace Street Richmond  VA 23219 United States;X-APPLE-RADIUS=500;X-TITLE=612 East Grace Street:geo:-77.43695,37.5415432
END:VEVENT
BEGIN:VEVENT
DTSTART;TZID=America/New_York:20181211T193000
DTEND;TZID=America/New_York:20181211T213000
DTSTAMP:20260420T194141
CREATED:20181129T210245Z
LAST-MODIFIED:20181207T204902Z
UID:14725-1544556600-1544563800@www.richmondsymphony.com
SUMMARY:Cirque Musica Holiday presents Wonderland
DESCRIPTION:CIRQUE MUSICA HOLIDAY presents Wonderland is a fun-filled concert experience for the whole family featuring the talented cast of Cirque Musica accompanied by holiday songs performed by the Richmond Symphony. \nAudiences will journey into a visual world of “Wonderland” with amazing acrobats\, aerialists\, hilarious hijinks and holiday cheer. The show blends the spellbinding grace and daredevil athleticism of today’s greatest circus performers with the sensory majesty of a symphony orchestra performing the greatest holiday music of all time.
URL:https://www.richmondsymphony.com/event/cirque-musica-holiday-presents-wonderland/
LOCATION:Altria Theater\, 6 North Laurel Street\, Richmond \, VA\, 23220\, United States
ATTACH;FMTTYPE=image/jpeg:https://www.richmondsymphony.com/wp-content/uploads/2018/11/CMHW_1200x628.jpg
END:VEVENT
BEGIN:VEVENT
DTSTART;TZID=America/New_York:20181214T190000
DTEND;TZID=America/New_York:20181214T190000
DTSTAMP:20260420T194141
CREATED:20180910T173709Z
LAST-MODIFIED:20180917T171533Z
UID:13561-1544814000-1544814000@www.richmondsymphony.com
SUMMARY:The Nutcracker
DESCRIPTION:A timeless family classic\, The Nutcracker\, returns in December to enchant audiences with all of its splendor and beauty. Join Clara as she revels in the joy of Christmas Eve\, bravely witnesses a battle beneath the branches of a mystical Christmas tree\, and journeys through a winter white forest to the delectable Kingdom of Sweets. As the beloved characters of this dazzling production come to life to Tchaikovsky’s magnificent score\, children and adults alike will be swept away by the magic of the holidays.
URL:https://www.richmondsymphony.com/event/the-nutcracker-20/
LOCATION:Carpenter Theatre\, 612 East Grace Street\, Richmond \, VA\, 23219\, United States
ATTACH;FMTTYPE=image/jpeg:https://www.richmondsymphony.com/wp-content/uploads/2018/09/RB_Nutcracker_web_crop.jpg
GEO:37.5415432;-77.43695
X-APPLE-STRUCTURED-LOCATION;VALUE=URI;X-ADDRESS=Carpenter Theatre 612 East Grace Street Richmond  VA 23219 United States;X-APPLE-RADIUS=500;X-TITLE=612 East Grace Street:geo:-77.43695,37.5415432
END:VEVENT
BEGIN:VEVENT
DTSTART;TZID=America/New_York:20181215T140000
DTEND;TZID=America/New_York:20181215T140000
DTSTAMP:20260420T194141
CREATED:20180910T174033Z
LAST-MODIFIED:20180917T171643Z
UID:13566-1544882400-1544882400@www.richmondsymphony.com
SUMMARY:The Nutcracker
DESCRIPTION:A timeless family classic\, The Nutcracker\, returns in December to enchant audiences with all of its splendor and beauty. Join Clara as she revels in the joy of Christmas Eve\, bravely witnesses a battle beneath the branches of a mystical Christmas tree\, and journeys through a winter white forest to the delectable Kingdom of Sweets. As the beloved characters of this dazzling production come to life to Tchaikovsky’s magnificent score\, children and adults alike will be swept away by the magic of the holidays.
URL:https://www.richmondsymphony.com/event/nutcracker-richmond-ballet/
LOCATION:Carpenter Theatre\, 612 East Grace Street\, Richmond \, VA\, 23219\, United States
ATTACH;FMTTYPE=image/jpeg:https://www.richmondsymphony.com/wp-content/uploads/2018/09/RB_Nutcracker_web_crop.jpg
GEO:37.5415432;-77.43695
X-APPLE-STRUCTURED-LOCATION;VALUE=URI;X-ADDRESS=Carpenter Theatre 612 East Grace Street Richmond  VA 23219 United States;X-APPLE-RADIUS=500;X-TITLE=612 East Grace Street:geo:-77.43695,37.5415432
END:VEVENT
BEGIN:VEVENT
DTSTART;TZID=America/New_York:20181215T190000
DTEND;TZID=America/New_York:20181215T190000
DTSTAMP:20260420T194141
CREATED:20180910T174306Z
LAST-MODIFIED:20180917T171800Z
UID:13568-1544900400-1544900400@www.richmondsymphony.com
SUMMARY:The Nutcracker
DESCRIPTION:A timeless family classic\, The Nutcracker\, returns in December to enchant audiences with all of its splendor and beauty. Join Clara as she revels in the joy of Christmas Eve\, bravely witnesses a battle beneath the branches of a mystical Christmas tree\, and journeys through a winter white forest to the delectable Kingdom of Sweets. As the beloved characters of this dazzling production come to life to Tchaikovsky’s magnificent score\, children and adults alike will be swept away by the magic of the holidays.
URL:https://www.richmondsymphony.com/event/nutcracker-richmond-ballet-2/
LOCATION:Carpenter Theatre\, 612 East Grace Street\, Richmond \, VA\, 23219\, United States
ATTACH;FMTTYPE=image/jpeg:https://www.richmondsymphony.com/wp-content/uploads/2018/09/RB_Nutcracker_web_crop.jpg
GEO:37.5415432;-77.43695
X-APPLE-STRUCTURED-LOCATION;VALUE=URI;X-ADDRESS=Carpenter Theatre 612 East Grace Street Richmond  VA 23219 United States;X-APPLE-RADIUS=500;X-TITLE=612 East Grace Street:geo:-77.43695,37.5415432
END:VEVENT
BEGIN:VEVENT
DTSTART;TZID=America/New_York:20181216T130000
DTEND;TZID=America/New_York:20181216T130000
DTSTAMP:20260420T194141
CREATED:20180910T174535Z
LAST-MODIFIED:20180917T171907Z
UID:13570-1544965200-1544965200@www.richmondsymphony.com
SUMMARY:The Nutcracker
DESCRIPTION:A timeless family classic\, The Nutcracker\, returns in December to enchant audiences with all of its splendor and beauty. Join Clara as she revels in the joy of Christmas Eve\, bravely witnesses a battle beneath the branches of a mystical Christmas tree\, and journeys through a winter white forest to the delectable Kingdom of Sweets. As the beloved characters of this dazzling production come to life to Tchaikovsky’s magnificent score\, children and adults alike will be swept away by the magic of the holidays.
URL:https://www.richmondsymphony.com/event/nutcracker-richmond-ballet-3/
LOCATION:Carpenter Theatre\, 612 East Grace Street\, Richmond \, VA\, 23219\, United States
ATTACH;FMTTYPE=image/jpeg:https://www.richmondsymphony.com/wp-content/uploads/2018/09/RB_Nutcracker_web_crop.jpg
GEO:37.5415432;-77.43695
X-APPLE-STRUCTURED-LOCATION;VALUE=URI;X-ADDRESS=Carpenter Theatre 612 East Grace Street Richmond  VA 23219 United States;X-APPLE-RADIUS=500;X-TITLE=612 East Grace Street:geo:-77.43695,37.5415432
END:VEVENT
BEGIN:VEVENT
DTSTART;TZID=America/New_York:20181216T163000
DTEND;TZID=America/New_York:20181216T163000
DTSTAMP:20260420T194141
CREATED:20180910T174741Z
LAST-MODIFIED:20180917T172005Z
UID:13572-1544977800-1544977800@www.richmondsymphony.com
SUMMARY:The Nutcracker
DESCRIPTION:A timeless family classic\, The Nutcracker\, returns in December to enchant audiences with all of its splendor and beauty. Join Clara as she revels in the joy of Christmas Eve\, bravely witnesses a battle beneath the branches of a mystical Christmas tree\, and journeys through a winter white forest to the delectable Kingdom of Sweets. As the beloved characters of this dazzling production come to life to Tchaikovsky’s magnificent score\, children and adults alike will be swept away by the magic of the holidays.
URL:https://www.richmondsymphony.com/event/nutcracker-richmond-ballet-4/
LOCATION:Carpenter Theatre\, 612 East Grace Street\, Richmond \, VA\, 23219\, United States
ATTACH;FMTTYPE=image/jpeg:https://www.richmondsymphony.com/wp-content/uploads/2018/09/RB_Nutcracker_web_crop.jpg
GEO:37.5415432;-77.43695
X-APPLE-STRUCTURED-LOCATION;VALUE=URI;X-ADDRESS=Carpenter Theatre 612 East Grace Street Richmond  VA 23219 United States;X-APPLE-RADIUS=500;X-TITLE=612 East Grace Street:geo:-77.43695,37.5415432
END:VEVENT
BEGIN:VEVENT
DTSTART;TZID=America/New_York:20181219T190000
DTEND;TZID=America/New_York:20181219T190000
DTSTAMP:20260420T194141
CREATED:20180910T175012Z
LAST-MODIFIED:20180917T172051Z
UID:13574-1545246000-1545246000@www.richmondsymphony.com
SUMMARY:The Nutcracker
DESCRIPTION:A timeless family classic\, The Nutcracker\, returns in December to enchant audiences with all of its splendor and beauty. Join Clara as she revels in the joy of Christmas Eve\, bravely witnesses a battle beneath the branches of a mystical Christmas tree\, and journeys through a winter white forest to the delectable Kingdom of Sweets. As the beloved characters of this dazzling production come to life to Tchaikovsky’s magnificent score\, children and adults alike will be swept away by the magic of the holidays.
URL:https://www.richmondsymphony.com/event/nutcracker-richmond-ballet-5/
LOCATION:Carpenter Theatre\, 612 East Grace Street\, Richmond \, VA\, 23219\, United States
ATTACH;FMTTYPE=image/jpeg:https://www.richmondsymphony.com/wp-content/uploads/2018/09/RB_Nutcracker_web_crop.jpg
GEO:37.5415432;-77.43695
X-APPLE-STRUCTURED-LOCATION;VALUE=URI;X-ADDRESS=Carpenter Theatre 612 East Grace Street Richmond  VA 23219 United States;X-APPLE-RADIUS=500;X-TITLE=612 East Grace Street:geo:-77.43695,37.5415432
END:VEVENT
BEGIN:VEVENT
DTSTART;TZID=America/New_York:20181220T140000
DTEND;TZID=America/New_York:20181220T140000
DTSTAMP:20260420T194141
CREATED:20180910T175246Z
LAST-MODIFIED:20180917T172138Z
UID:13576-1545314400-1545314400@www.richmondsymphony.com
SUMMARY:The Nutcracker
DESCRIPTION:A timeless family classic\, The Nutcracker\, returns in December to enchant audiences with all of its splendor and beauty. Join Clara as she revels in the joy of Christmas Eve\, bravely witnesses a battle beneath the branches of a mystical Christmas tree\, and journeys through a winter white forest to the delectable Kingdom of Sweets. As the beloved characters of this dazzling production come to life to Tchaikovsky’s magnificent score\, children and adults alike will be swept away by the magic of the holidays.
URL:https://www.richmondsymphony.com/event/nutcracker-richmond-ballet-6/
LOCATION:Carpenter Theatre\, 612 East Grace Street\, Richmond \, VA\, 23219\, United States
ATTACH;FMTTYPE=image/jpeg:https://www.richmondsymphony.com/wp-content/uploads/2018/09/RB_Nutcracker_web_crop.jpg
GEO:37.5415432;-77.43695
X-APPLE-STRUCTURED-LOCATION;VALUE=URI;X-ADDRESS=Carpenter Theatre 612 East Grace Street Richmond  VA 23219 United States;X-APPLE-RADIUS=500;X-TITLE=612 East Grace Street:geo:-77.43695,37.5415432
END:VEVENT
BEGIN:VEVENT
DTSTART;TZID=America/New_York:20181220T190000
DTEND;TZID=America/New_York:20181220T190000
DTSTAMP:20260420T194141
CREATED:20180910T175435Z
LAST-MODIFIED:20180917T172228Z
UID:13578-1545332400-1545332400@www.richmondsymphony.com
SUMMARY:The Nutcracker
DESCRIPTION:A timeless family classic\, The Nutcracker\, returns in December to enchant audiences with all of its splendor and beauty. Join Clara as she revels in the joy of Christmas Eve\, bravely witnesses a battle beneath the branches of a mystical Christmas tree\, and journeys through a winter white forest to the delectable Kingdom of Sweets. As the beloved characters of this dazzling production come to life to Tchaikovsky’s magnificent score\, children and adults alike will be swept away by the magic of the holidays.
URL:https://www.richmondsymphony.com/event/nutcracker-richmond-ballet-7/
LOCATION:Carpenter Theatre\, 612 East Grace Street\, Richmond \, VA\, 23219\, United States
ATTACH;FMTTYPE=image/jpeg:https://www.richmondsymphony.com/wp-content/uploads/2018/09/RB_Nutcracker_web_crop.jpg
GEO:37.5415432;-77.43695
X-APPLE-STRUCTURED-LOCATION;VALUE=URI;X-ADDRESS=Carpenter Theatre 612 East Grace Street Richmond  VA 23219 United States;X-APPLE-RADIUS=500;X-TITLE=612 East Grace Street:geo:-77.43695,37.5415432
END:VEVENT
BEGIN:VEVENT
DTSTART;TZID=America/New_York:20181221T140000
DTEND;TZID=America/New_York:20181221T140000
DTSTAMP:20260420T194141
CREATED:20180910T175640Z
LAST-MODIFIED:20180917T172321Z
UID:13580-1545400800-1545400800@www.richmondsymphony.com
SUMMARY:The Nutcracker
DESCRIPTION:A timeless family classic\, The Nutcracker\, returns in December to enchant audiences with all of its splendor and beauty. Join Clara as she revels in the joy of Christmas Eve\, bravely witnesses a battle beneath the branches of a mystical Christmas tree\, and journeys through a winter white forest to the delectable Kingdom of Sweets. As the beloved characters of this dazzling production come to life to Tchaikovsky’s magnificent score\, children and adults alike will be swept away by the magic of the holidays.
URL:https://www.richmondsymphony.com/event/nutcracker-richmond-ballet-8/
LOCATION:Carpenter Theatre\, 612 East Grace Street\, Richmond \, VA\, 23219\, United States
ATTACH;FMTTYPE=image/jpeg:https://www.richmondsymphony.com/wp-content/uploads/2018/09/RB_Nutcracker_web_crop.jpg
GEO:37.5415432;-77.43695
X-APPLE-STRUCTURED-LOCATION;VALUE=URI;X-ADDRESS=Carpenter Theatre 612 East Grace Street Richmond  VA 23219 United States;X-APPLE-RADIUS=500;X-TITLE=612 East Grace Street:geo:-77.43695,37.5415432
END:VEVENT
BEGIN:VEVENT
DTSTART;TZID=America/New_York:20181221T190000
DTEND;TZID=America/New_York:20181221T190000
DTSTAMP:20260420T194141
CREATED:20180910T175817Z
LAST-MODIFIED:20180917T172407Z
UID:13583-1545418800-1545418800@www.richmondsymphony.com
SUMMARY:The Nutcracker
DESCRIPTION:A timeless family classic\, The Nutcracker\, returns in December to enchant audiences with all of its splendor and beauty. Join Clara as she revels in the joy of Christmas Eve\, bravely witnesses a battle beneath the branches of a mystical Christmas tree\, and journeys through a winter white forest to the delectable Kingdom of Sweets. As the beloved characters of this dazzling production come to life to Tchaikovsky’s magnificent score\, children and adults alike will be swept away by the magic of the holidays.
URL:https://www.richmondsymphony.com/event/nutcracker-richmond-ballet-9/
LOCATION:Carpenter Theatre\, 612 East Grace Street\, Richmond \, VA\, 23219\, United States
ATTACH;FMTTYPE=image/jpeg:https://www.richmondsymphony.com/wp-content/uploads/2018/09/RB_Nutcracker_web_crop.jpg
GEO:37.5415432;-77.43695
X-APPLE-STRUCTURED-LOCATION;VALUE=URI;X-ADDRESS=Carpenter Theatre 612 East Grace Street Richmond  VA 23219 United States;X-APPLE-RADIUS=500;X-TITLE=612 East Grace Street:geo:-77.43695,37.5415432
END:VEVENT
BEGIN:VEVENT
DTSTART;TZID=America/New_York:20181222T140000
DTEND;TZID=America/New_York:20181222T140000
DTSTAMP:20260420T194141
CREATED:20180910T180014Z
LAST-MODIFIED:20180917T172506Z
UID:13586-1545487200-1545487200@www.richmondsymphony.com
SUMMARY:The Nutcracker
DESCRIPTION:A timeless family classic\, The Nutcracker\, returns in December to enchant audiences with all of its splendor and beauty. Join Clara as she revels in the joy of Christmas Eve\, bravely witnesses a battle beneath the branches of a mystical Christmas tree\, and journeys through a winter white forest to the delectable Kingdom of Sweets. As the beloved characters of this dazzling production come to life to Tchaikovsky’s magnificent score\, children and adults alike will be swept away by the magic of the holidays.
URL:https://www.richmondsymphony.com/event/nutcracker-richmond-ballet-10/
LOCATION:Carpenter Theatre\, 612 East Grace Street\, Richmond \, VA\, 23219\, United States
ATTACH;FMTTYPE=image/jpeg:https://www.richmondsymphony.com/wp-content/uploads/2018/09/RB_Nutcracker_web_crop.jpg
GEO:37.5415432;-77.43695
X-APPLE-STRUCTURED-LOCATION;VALUE=URI;X-ADDRESS=Carpenter Theatre 612 East Grace Street Richmond  VA 23219 United States;X-APPLE-RADIUS=500;X-TITLE=612 East Grace Street:geo:-77.43695,37.5415432
END:VEVENT
BEGIN:VEVENT
DTSTART;TZID=America/New_York:20181222T190000
DTEND;TZID=America/New_York:20181222T190000
DTSTAMP:20260420T194141
CREATED:20180910T180354Z
LAST-MODIFIED:20180917T172602Z
UID:13588-1545505200-1545505200@www.richmondsymphony.com
SUMMARY:The Nutcracker
DESCRIPTION:A timeless family classic\, The Nutcracker\, returns in December to enchant audiences with all of its splendor and beauty. Join Clara as she revels in the joy of Christmas Eve\, bravely witnesses a battle beneath the branches of a mystical Christmas tree\, and journeys through a winter white forest to the delectable Kingdom of Sweets. As the beloved characters of this dazzling production come to life to Tchaikovsky’s magnificent score\, children and adults alike will be swept away by the magic of the holidays.
URL:https://www.richmondsymphony.com/event/nutcracker-richmond-ballet-11/
LOCATION:Carpenter Theatre\, 612 East Grace Street\, Richmond \, VA\, 23219\, United States
ATTACH;FMTTYPE=image/jpeg:https://www.richmondsymphony.com/wp-content/uploads/2018/09/RB_Nutcracker_web_crop.jpg
GEO:37.5415432;-77.43695
X-APPLE-STRUCTURED-LOCATION;VALUE=URI;X-ADDRESS=Carpenter Theatre 612 East Grace Street Richmond  VA 23219 United States;X-APPLE-RADIUS=500;X-TITLE=612 East Grace Street:geo:-77.43695,37.5415432
END:VEVENT
BEGIN:VEVENT
DTSTART;TZID=America/New_York:20181223T130000
DTEND;TZID=America/New_York:20181223T130000
DTSTAMP:20260420T194141
CREATED:20180910T180546Z
LAST-MODIFIED:20180917T172658Z
UID:13590-1545570000-1545570000@www.richmondsymphony.com
SUMMARY:The Nutcracker
DESCRIPTION:A timeless family classic\, The Nutcracker\, returns in December to enchant audiences with all of its splendor and beauty. Join Clara as she revels in the joy of Christmas Eve\, bravely witnesses a battle beneath the branches of a mystical Christmas tree\, and journeys through a winter white forest to the delectable Kingdom of Sweets. As the beloved characters of this dazzling production come to life to Tchaikovsky’s magnificent score\, children and adults alike will be swept away by the magic of the holidays.
URL:https://www.richmondsymphony.com/event/nutcracker-richmond-ballet-12/
LOCATION:Carpenter Theatre\, 612 East Grace Street\, Richmond \, VA\, 23219\, United States
ATTACH;FMTTYPE=image/jpeg:https://www.richmondsymphony.com/wp-content/uploads/2018/09/RB_Nutcracker_web_crop.jpg
GEO:37.5415432;-77.43695
X-APPLE-STRUCTURED-LOCATION;VALUE=URI;X-ADDRESS=Carpenter Theatre 612 East Grace Street Richmond  VA 23219 United States;X-APPLE-RADIUS=500;X-TITLE=612 East Grace Street:geo:-77.43695,37.5415432
END:VEVENT
BEGIN:VEVENT
DTSTART;TZID=America/New_York:20181223T163000
DTEND;TZID=America/New_York:20181223T163000
DTSTAMP:20260420T194141
CREATED:20180910T180735Z
LAST-MODIFIED:20180917T172800Z
UID:13592-1545582600-1545582600@www.richmondsymphony.com
SUMMARY:The Nutcracker
DESCRIPTION:A timeless family classic\, The Nutcracker\, returns in December to enchant audiences with all of its splendor and beauty. Join Clara as she revels in the joy of Christmas Eve\, bravely witnesses a battle beneath the branches of a mystical Christmas tree\, and journeys through a winter white forest to the delectable Kingdom of Sweets. As the beloved characters of this dazzling production come to life to Tchaikovsky’s magnificent score\, children and adults alike will be swept away by the magic of the holidays.
URL:https://www.richmondsymphony.com/event/nutcracker-richmond-ballet-13/
LOCATION:Carpenter Theatre\, 612 East Grace Street\, Richmond \, VA\, 23219\, United States
ATTACH;FMTTYPE=image/jpeg:https://www.richmondsymphony.com/wp-content/uploads/2018/09/RB_Nutcracker_web_crop.jpg
GEO:37.5415432;-77.43695
X-APPLE-STRUCTURED-LOCATION;VALUE=URI;X-ADDRESS=Carpenter Theatre 612 East Grace Street Richmond  VA 23219 United States;X-APPLE-RADIUS=500;X-TITLE=612 East Grace Street:geo:-77.43695,37.5415432
END:VEVENT
END:VCALENDAR