BEGIN:VCALENDAR
VERSION:2.0
PRODID:-//Richmond Symphony - ECPv6.15.1//NONSGML v1.0//EN
CALSCALE:GREGORIAN
METHOD:PUBLISH
X-ORIGINAL-URL:https://www.richmondsymphony.com
X-WR-CALDESC:Events for Richmond Symphony
REFRESH-INTERVAL;VALUE=DURATION:PT1H
X-Robots-Tag:noindex
X-PUBLISHED-TTL:PT1H
BEGIN:VTIMEZONE
TZID:America/New_York
BEGIN:DAYLIGHT
TZOFFSETFROM:-0500
TZOFFSETTO:-0400
TZNAME:EDT
DTSTART:20190310T070000
END:DAYLIGHT
BEGIN:STANDARD
TZOFFSETFROM:-0400
TZOFFSETTO:-0500
TZNAME:EST
DTSTART:20191103T060000
END:STANDARD
END:VTIMEZONE
BEGIN:VEVENT
DTSTART;TZID=America/New_York:20190504T193000
DTEND;TZID=America/New_York:20190504T193000
DTSTAMP:20260420T112652
CREATED:20181127T153921Z
LAST-MODIFIED:20190410T152409Z
UID:14693-1556998200-1556998200@www.richmondsymphony.com
SUMMARY:Star Wars: A New Hope
DESCRIPTION:The Richmond Symphony will present the Star Wars: A New Hope In Concert featuring screenings of the complete film with Oscar®-winning composer John Williams’ musical score performed live to the film. The concert will be led by acclaimed conductor Keitaro Harada. \nSince the release of the first Star Wars movie nearly 40 years ago\, the Star Wars saga has had a seismic impact on both cinema and culture\, inspiring audiences around the world with its mythic storytelling\, captivating characters\, groundbreaking special effects and iconic musical scores composed by Williams. \nFans will be able to experience the scope and grandeur of this beloved film in a live symphonic concert experience\, when the Star Wars: A New Hope debuts on May 4\, 2019. \nLearn more about Keitaro Harada\, Conductor. \n© 2018 & TM LUCASFILM LTD. ALL RIGHTS RESERVED © DISNEY.
URL:https://www.richmondsymphony.com/event/star-wars-new-hope/
LOCATION:Altria Theater\, 6 North Laurel Street\, Richmond \, VA\, 23220\, United States
CATEGORIES:Currents
ATTACH;FMTTYPE=image/jpeg:https://www.richmondsymphony.com/wp-content/uploads/2018/11/SW_NH_LOGO_banner-For-Website-1.jpg
END:VEVENT
BEGIN:VEVENT
DTSTART;TZID=America/New_York:20190511T160000
DTEND;TZID=America/New_York:20190511T200000
DTSTAMP:20260420T112652
CREATED:20180910T194846Z
LAST-MODIFIED:20190508T190125Z
UID:13685-1557590400-1557604800@www.richmondsymphony.com
SUMMARY:Hanover's Sounds Festival
DESCRIPTION:  \n  \nMain Stage Performers: The Hanover Concert Band\, The Remnants Rock-n-Soul\, Hanover All-County Jazz Band\, the Richmond Symphony featuring the No BS Brass Band\, & more. \nSide Stage Performers: Mako Music \nFamily Zone: Kids can make a gift for Mom with Art on Wheels. Try playing instruments yourself at the Music & Arts Instrument Petting Zoo. More activities to come! \nFood trucks and vendor information coming soon! \nFESTIVAL SCHEDULE: \n4:00     The Hanover Concert Band \n4:50     The Remnants Rock-n-Soul \n5:35     Hanover All-County Jazz Band \n6:30     The Richmond Symphony featuring No BS Brass Band \nFree event parking \n  \nThis event is brought to you by Hanover County Parks & Recreation\, Hanover County Public Schools\, and is a benefit for the Hanover Education Foundation. \n**Rain location – Hanover High School \n 
URL:https://www.richmondsymphony.com/event/richmond-symphony-performance-4/
LOCATION:Hanover High School\, 10307 Chamberlayne Rd\, Mechanicsville\, VA\, 23116\, United States
CATEGORIES:Education & Community
ATTACH;FMTTYPE=image/jpeg:https://www.richmondsymphony.com/wp-content/uploads/2018/09/Web-Image-01.jpg
GEO:37.6441361;-77.3082554
X-APPLE-STRUCTURED-LOCATION;VALUE=URI;X-ADDRESS=Hanover High School 10307 Chamberlayne Rd Mechanicsville VA 23116 United States;X-APPLE-RADIUS=500;X-TITLE=10307 Chamberlayne Rd:geo:-77.3082554,37.6441361
END:VEVENT
BEGIN:VEVENT
DTSTART;TZID=America/New_York:20190518T200000
DTEND;TZID=America/New_York:20190518T220000
DTSTAMP:20260420T112652
CREATED:20180126T173207Z
LAST-MODIFIED:20190501T162451Z
UID:11096-1558209600-1558216800@www.richmondsymphony.com
SUMMARY:Carmen in Concert with Denyce Graves
DESCRIPTION:Join the Richmond Symphony for a spectacular final event of their Altria Masterworks series\, featuring Mezzo-Soprano Denyce Graves in a concert performance of Bizet’s Carmen (un-staged)\, in partnership with Virginia Opera. \nRecognized worldwide as one of today’s most exciting vocal stars\, Denyce Graves continues to gather unparalleled popular and critical acclaim in performances on four continents. USA Today identifies her as “an operatic superstar of the 21st century\,” and the Atlanta Journal-Constitution exclaims\, “If the human voice has the power to move you\, you will be touched by Denyce Graves.” \nBizet’s Carmen was the most famous of the composer’s operas\, introducing an unfamiliar element of realism to the form. Audiences were taken aback by the female protagonist’s unscrupulous behavior. Displays of crude femininity are augmented by staged knife fights and choruses of smoking cigarette-factory girls. Set in 19th century Spain\, the opera presents themes of love\, jealousy\, and free will\, as Carmen operates on her own agenda: seductive and intimate on one note\, sardonic and hedonistic the next. Though she meets an untimely death at the hands of a discarded lover\, this powerful character is immortalized in the operatic cannon; defined by her passionate nature\, respected for strong will\, and remembered for the music that carries her story. \nLearn more about Denyce Graves\, Mezzo-Soprano. \nLearn more about Steven Smith\, Conductor. \nSlatten-MacDonald Fund of The Community Foundation Serving Richmond and Central Virginia \n  \n  \nSeries Sponsor \nMedia Sponsor \n  \n  \n  \n 
URL:https://www.richmondsymphony.com/event/carmen-concert-denyce-graves/
LOCATION:Carpenter Theatre\, 612 East Grace Street\, Richmond \, VA\, 23219\, United States
CATEGORIES:Masterworks Series
ATTACH;FMTTYPE=image/jpeg:https://www.richmondsymphony.com/wp-content/uploads/2018/01/DG_WEB-01.jpg
GEO:37.5415432;-77.43695
X-APPLE-STRUCTURED-LOCATION;VALUE=URI;X-ADDRESS=Carpenter Theatre 612 East Grace Street Richmond  VA 23219 United States;X-APPLE-RADIUS=500;X-TITLE=612 East Grace Street:geo:-77.43695,37.5415432
END:VEVENT
BEGIN:VEVENT
DTSTART;TZID=America/New_York:20190519T150000
DTEND;TZID=America/New_York:20190519T173000
DTSTAMP:20260420T112652
CREATED:20180712T142444Z
LAST-MODIFIED:20240305T155238Z
UID:12870-1558278000-1558287000@www.richmondsymphony.com
SUMMARY:Youth Orchestra Program Spring Concert 2019
DESCRIPTION:The Richmond Symphony’s flagship educational program\, founded in 1962\, consists of four youth orchestras and a wind ensemble providing beginning to advanced musical training. As the premier orchestral training program of central Virginia\, students participate in weekly rehearsals\, coaching and masterclasses by Richmond Symphony musicians\, chamber music performances\, mentoring and other musical and social activities.\n\n\n\nConcert is free and open to the public.
URL:https://www.richmondsymphony.com/event/youth-orchestra-program-spring-concert-2/
LOCATION:Carpenter Theatre\, 612 East Grace Street\, Richmond \, VA\, 23219\, United States
CATEGORIES:Richmond Symphony Youth Orchestra
ATTACH;FMTTYPE=image/jpeg:https://www.richmondsymphony.com/wp-content/uploads/2018/07/Richmond-Symphony-May-02-2017-29.jpg
GEO:37.5415432;-77.43695
X-APPLE-STRUCTURED-LOCATION;VALUE=URI;X-ADDRESS=Carpenter Theatre 612 East Grace Street Richmond  VA 23219 United States;X-APPLE-RADIUS=500;X-TITLE=612 East Grace Street:geo:-77.43695,37.5415432
END:VEVENT
BEGIN:VEVENT
DTSTART;TZID=America/New_York:20190519T190000
DTEND;TZID=America/New_York:20190519T203000
DTSTAMP:20260420T112652
CREATED:20180712T144010Z
LAST-MODIFIED:20190416T195959Z
UID:12875-1558292400-1558297800@www.richmondsymphony.com
SUMMARY:Richmond Symphony Youth Orchestra Spring Concert
DESCRIPTION:The Richmond Symphony Youth Orchestra performs masterworks of the orchestral repertoire\, as students hold themselves to a high level of discipline\, preparation and musicianship. Nearly all members of RSYO study with private instructors and all are leaders in their school programs. \nThis performance will include the first movement of Tchaikovsky’s Violin Concerto featuring violinist Kerson Leong\, Junior First Prize Winner of the Menuhin Competition Oslo 2010. This is a preview of what is to come when Richmond hosts the Menuhin Competition in 2020! \n  \n  \n  \nConcert is free and open to the public.
URL:https://www.richmondsymphony.com/event/richmond-symphony-youth-orchestra-spring-concert-3/
LOCATION:Carpenter Theatre\, 612 East Grace Street\, Richmond \, VA\, 23219\, United States
CATEGORIES:Richmond Symphony Youth Orchestra
ATTACH;FMTTYPE=image/jpeg:https://www.richmondsymphony.com/wp-content/uploads/2018/07/Richmond-Symphony-May-02-2017-45.jpg
GEO:37.5415432;-77.43695
X-APPLE-STRUCTURED-LOCATION;VALUE=URI;X-ADDRESS=Carpenter Theatre 612 East Grace Street Richmond  VA 23219 United States;X-APPLE-RADIUS=500;X-TITLE=612 East Grace Street:geo:-77.43695,37.5415432
END:VEVENT
BEGIN:VEVENT
DTSTART;TZID=America/New_York:20190525T150000
DTEND;TZID=America/New_York:20190525T210000
DTSTAMP:20260420T112652
CREATED:20190304T185125Z
LAST-MODIFIED:20190513T174434Z
UID:16515-1558796400-1558818000@www.richmondsymphony.com
SUMMARY:Chesterfield LIVE! Music Festival
DESCRIPTION:Main Stage Performers: \n3 pm       392nd Army Rock Band \n4 pm       RVA’s Dance Candy \n5:30 pm  The Richmond Symphony \n7:00 pm  The Deloreans \nInformation on Kids Zone activities\, food trucks\, and vendors coming soon!\n \nBecome at a volunteer! \nGates open at 2:30 pm \nFree event parking \n  \nThis event is brought to you by the Chesterfield Chamber of Commerce and the Chesterfield Parks and Recreation \n**Rain date – Sunday May 26th \nFor questions or more information\, please email Kristen Allegood\, \nCommunity Partnerships Manager at kallegood@richmondsymphony.com \n 
URL:https://www.richmondsymphony.com/event/chesterfield-live-big-tent-community-festival/
LOCATION:Chesterfield Fairgrounds\, 10300 Courthouse Rd\, Chesterfield\, VA\, 23832\, United States
CATEGORIES:Education & Community
ATTACH;FMTTYPE=image/jpeg:https://www.richmondsymphony.com/wp-content/uploads/2019/03/Web-Image-01.jpg
END:VEVENT
END:VCALENDAR