BEGIN:VCALENDAR
VERSION:2.0
PRODID:-//Richmond Symphony - ECPv6.15.1//NONSGML v1.0//EN
CALSCALE:GREGORIAN
METHOD:PUBLISH
X-ORIGINAL-URL:https://www.richmondsymphony.com
X-WR-CALDESC:Events for Richmond Symphony
REFRESH-INTERVAL;VALUE=DURATION:PT1H
X-Robots-Tag:noindex
X-PUBLISHED-TTL:PT1H
BEGIN:VTIMEZONE
TZID:America/New_York
BEGIN:DAYLIGHT
TZOFFSETFROM:-0500
TZOFFSETTO:-0400
TZNAME:EDT
DTSTART:20190310T070000
END:DAYLIGHT
BEGIN:STANDARD
TZOFFSETFROM:-0400
TZOFFSETTO:-0500
TZNAME:EST
DTSTART:20191103T060000
END:STANDARD
END:VTIMEZONE
BEGIN:VEVENT
DTSTART;TZID=America/New_York:20191005T200000
DTEND;TZID=America/New_York:20191005T223000
DTSTAMP:20260420T033656
CREATED:20190207T205759Z
LAST-MODIFIED:20190729T172316Z
UID:15536-1570305600-1570314600@www.richmondsymphony.com
SUMMARY:The Music of Elton John
DESCRIPTION:Grammy-and Tony-nominated Michael Cavanaugh returns to join the Orchestra to perform the music of Sir Elton John! Hear all the hits including  “Crocodile Rock\,” “Bennie and the Jets\,” “Rocket Man\,” and many others in this high-energy show that will have you getting out of your seat to dance and sing along. \nLearn more about Michael Cavanaugh.
URL:https://www.richmondsymphony.com/event/music-elton-john/
LOCATION:Carpenter Theatre\, 612 East Grace Street\, Richmond \, VA\, 23219\, United States
CATEGORIES:Currents,Pops
ATTACH;FMTTYPE=image/jpeg:https://www.richmondsymphony.com/wp-content/uploads/2019/02/19-20_Symphony-Pops-Promo-Images-01.jpg
GEO:37.5415432;-77.43695
X-APPLE-STRUCTURED-LOCATION;VALUE=URI;X-ADDRESS=Carpenter Theatre 612 East Grace Street Richmond  VA 23219 United States;X-APPLE-RADIUS=500;X-TITLE=612 East Grace Street:geo:-77.43695,37.5415432
END:VEVENT
BEGIN:VEVENT
DTSTART;TZID=America/New_York:20191017T183000
DTEND;TZID=America/New_York:20191017T193000
DTSTAMP:20260420T033656
CREATED:20190207T205327Z
LAST-MODIFIED:20191016T144052Z
UID:15526-1571337000-1571340600@www.richmondsymphony.com
SUMMARY:Rush Hour 1
DESCRIPTION:The Richmond Symphony’s popular Rush Hour concerts return to Hardywood Park Craft Brewery. These one-hour informal concerts feature fantastic orchestral and chamber music in the Hardywood tasting room. Grab a beer\, hit the food trucks and enjoy a great concert at 6:30 on a Thursday night. \nFeaturing Conductor & Music Director Candidate Roderick Cox!
URL:https://www.richmondsymphony.com/event/rush-hour-1-3/
LOCATION:Hardywood Park Craft Brewery Richmond\, 2408-2410 Ownby Lane\, Richmond\, VA\, 23220\, United States
CATEGORIES:Currents,Hardywood
ATTACH;FMTTYPE=image/jpeg:https://www.richmondsymphony.com/wp-content/uploads/2019/02/19-20-Rush-Hour-at-Hardywood-Promo-Images-01.jpg
END:VEVENT
BEGIN:VEVENT
DTSTART;TZID=America/New_York:20191020T150000
DTEND;TZID=America/New_York:20191020T170000
DTSTAMP:20260420T033656
CREATED:20190207T211022Z
LAST-MODIFIED:20200424T165709Z
UID:15514-1571583600-1571590800@www.richmondsymphony.com
SUMMARY:Metro 1
DESCRIPTION:Welcome our first Music Director Candidate\, Roderick Cox\, as he leads small-ensemble favorites in an intimate setting at Randolph-Macon College in Ashland. The program includes Copland’s Clarinet Concerto\, featuring the Richmond Symphony’s own David Lemelin; Dvořák’s Serenade in D Minor\, Opus 44\, for winds\, cello and double-bass; and Mozart’s beloved Symphony No. 39 in E-flat Major\, K. 543. \nExperience the majesty of the orchestral experience through symphonic masterpieces\, contemporary works\, and chamber concerts in traditional concert settings.  Whether enjoying the mainstays of the orchestra repertoire\, modern works for the full orchestra or chamber settings\, Richmond Symphony Classics offer everything you expect from a symphony orchestra. \n  \nLearn more about Roderick Cox\, Conductor.\nLearn more about David Lemelin\, Clarinet. \nProgram Notes \nSpecial thanks to our media sponsor:
URL:https://www.richmondsymphony.com/event/metro-1/
LOCATION:Blackwell Auditorium at Randolph-Macon College\, 	204 Henry Street\, Ashland\, VA\, 23005\, United States
CATEGORIES:Concerts & Events,Metro Series
ATTACH;FMTTYPE=image/jpeg:https://www.richmondsymphony.com/wp-content/uploads/2019/08/roderick_-20-Credit-Josh-Kohanek.jpg
END:VEVENT
BEGIN:VEVENT
DTSTART;TZID=America/New_York:20191025T120000
DTEND;TZID=America/New_York:20191025T133000
DTSTAMP:20260420T033656
CREATED:20191022T175803Z
LAST-MODIFIED:20191023T140010Z
UID:19455-1572004800-1572010200@www.richmondsymphony.com
SUMMARY:Masterclass with Brandie Sutton\, Soprano
DESCRIPTION:Soprano Brandie Sutton will be teaching a masterclass for student vocalists at Virginia Commonwealth University on Friday\, October 25 from noon – 1:15 pm at the James W. Black Music Center Recital Hall. Students\, parents\, teachers\, friends\, all are invited to attend! \nThis event is FREE and open to the public. \nBrandie Sutton will also be joining the Richmond Symphony under the baton of music director candidate Roderick Cox for performances of Samuel Barber’s Knoxville: Summer of 1915\, Op. 24\, and Depuis le jour from the opera Louise by Gustave Charpentier as part of our Altria Masterworks 2 on October 26! \nClick to learn more about Brandie Sutton.
URL:https://www.richmondsymphony.com/event/masterclass-with-brandie-sutton-soprano/
LOCATION:James W. Black Music Center\, 1015 Grove Ave\, Richmond\, VA\, 23220\, United States
ATTACH;FMTTYPE=image/jpeg:https://www.richmondsymphony.com/wp-content/uploads/2019/10/Brandie-Sutton-e1571766987381.jpg
ORGANIZER;CN="Richmond Symphony":MAILTO:patronservices@richmondsymphony.com
END:VEVENT
BEGIN:VEVENT
DTSTART;TZID=America/New_York:20191026T200000
DTEND;TZID=America/New_York:20191026T223000
DTSTAMP:20260420T033656
CREATED:20190118T172608Z
LAST-MODIFIED:20191023T135315Z
UID:15484-1572120000-1572129000@www.richmondsymphony.com
SUMMARY:Altria Masterworks 2: Roderick Cox
DESCRIPTION:Cheer on Music Director Candidate Roderick Cox as he leads the Symphony in an energizing program inspired by literature and dance.  Soprano sensation Brandie Sutton is sure to impress on Barber’s Knoxville: Summer of 1915\, Op. 24\, a work set on the prose poem by James Agee\, and Depuis le jour from Charpentier’s musical novel\, Louise.  Also on the program are Tchaikovsky’s Fantasy Overture from The Tempest\, inspired by Shakespeare’s revered play\, and Rachmaninoff’s Symphonic Dances\, Op. 45\, an ode to the composer’s Russian homeland. \nJoin us for a free pre-concert talk by the conductor one hour before the performance. \nLearn more about Roderick Cox\, Conductor. \nLearn more about Brandie Sutton\, Soprano. \nProgram Notes
URL:https://www.richmondsymphony.com/event/roderick-cox-conductor-brandie-sutton-soprano/
LOCATION:Carpenter Theatre\, 612 East Grace Street\, Richmond \, VA\, 23219\, United States
CATEGORIES:Concerts & Events,Masterworks Series
ATTACH;FMTTYPE=image/png:https://www.richmondsymphony.com/wp-content/uploads/2019/01/Roderick-Cox-Feature-Image-2.png
GEO:37.5415432;-77.43695
X-APPLE-STRUCTURED-LOCATION;VALUE=URI;X-ADDRESS=Carpenter Theatre 612 East Grace Street Richmond  VA 23219 United States;X-APPLE-RADIUS=500;X-TITLE=612 East Grace Street:geo:-77.43695,37.5415432
END:VEVENT
BEGIN:VEVENT
DTSTART;TZID=America/New_York:20191027T150000
DTEND;TZID=America/New_York:20191027T170000
DTSTAMP:20260420T033656
CREATED:20191008T171908Z
LAST-MODIFIED:20191008T171944Z
UID:19346-1572188400-1572195600@www.richmondsymphony.com
SUMMARY:Richmond Symphony Orchestra at Longwood University
DESCRIPTION:Experience an afternoon of Virginia’s finest classical music as The Richmond Symphony returns to Longwood University! \nThis RSO Masterworks program features guest conductor Roderick Cox and guest soprano vocalist Brandie Sutton with works by Rachmaninoff\, Tchaikovsky and Barber. \nTickets are on sale now for only $20\, and Longwood students are free with ID.
URL:https://www.richmondsymphony.com/event/richmond-symphony-orchestra-at-longwood-university/
LOCATION:Jarman Auditorium at Longwood University\, 201 High Street\, Farmville\, VA\, 23901\, United States
ATTACH;FMTTYPE=image/jpeg:https://www.richmondsymphony.com/wp-content/uploads/2019/10/pic-for-longwood-event-page.jpg
GEO:37.3011542;-78.3944433
X-APPLE-STRUCTURED-LOCATION;VALUE=URI;X-ADDRESS=Jarman Auditorium at Longwood University 201 High Street Farmville VA 23901 United States;X-APPLE-RADIUS=500;X-TITLE=201 High Street:geo:-78.3944433,37.3011542
END:VEVENT
END:VCALENDAR