BEGIN:VCALENDAR
VERSION:2.0
PRODID:-//Richmond Symphony - ECPv6.15.1//NONSGML v1.0//EN
CALSCALE:GREGORIAN
METHOD:PUBLISH
X-ORIGINAL-URL:https://www.richmondsymphony.com
X-WR-CALDESC:Events for Richmond Symphony
REFRESH-INTERVAL;VALUE=DURATION:PT1H
X-Robots-Tag:noindex
X-PUBLISHED-TTL:PT1H
BEGIN:VTIMEZONE
TZID:America/New_York
BEGIN:DAYLIGHT
TZOFFSETFROM:-0500
TZOFFSETTO:-0400
TZNAME:EDT
DTSTART:20200308T070000
END:DAYLIGHT
BEGIN:STANDARD
TZOFFSETFROM:-0400
TZOFFSETTO:-0500
TZNAME:EST
DTSTART:20201101T060000
END:STANDARD
END:VTIMEZONE
BEGIN:VEVENT
DTSTART;TZID=America/New_York:20200111T200000
DTEND;TZID=America/New_York:20200111T223000
DTSTAMP:20260419T230134
CREATED:20190207T211836Z
LAST-MODIFIED:20191008T203424Z
UID:15491-1578772800-1578781800@www.richmondsymphony.com
SUMMARY:Altria Masterworks 4: Ankush Kumar Bahl
DESCRIPTION:Learn more about Ankush Kumar Bahl\, Conductor. \n \nProgram Notes
URL:https://www.richmondsymphony.com/event/ankush-kumar-bahl-conductor-anthony-mcgill-clarinet/
LOCATION:Carpenter Theatre\, 612 East Grace Street\, Richmond \, VA\, 23219\, United States
CATEGORIES:Concerts & Events,Masterworks Series
ATTACH;FMTTYPE=image/png:https://www.richmondsymphony.com/wp-content/uploads/2019/02/Ankush-Kumar-Feature-Image-2.png
GEO:37.5415432;-77.43695
X-APPLE-STRUCTURED-LOCATION;VALUE=URI;X-ADDRESS=Carpenter Theatre 612 East Grace Street Richmond  VA 23219 United States;X-APPLE-RADIUS=500;X-TITLE=612 East Grace Street:geo:-77.43695,37.5415432
END:VEVENT
BEGIN:VEVENT
DTSTART;TZID=America/New_York:20200112T150000
DTEND;TZID=America/New_York:20200112T170000
DTSTAMP:20260419T230135
CREATED:20191101T171010Z
LAST-MODIFIED:20191112T141345Z
UID:19579-1578841200-1578848400@www.richmondsymphony.com
SUMMARY:Mozart & Bruckner in Glen Allen
DESCRIPTION:This concert will be held at: \nMount Vernon Baptist Church\n11220 Nuckols Road\nGlen Allen\, VA 23059\nwww.mvbcnow.org \n  \nLearn more about Anthony McGill\, Clarinent \nLearn more about Ankush Kumar Bahl\, Conductor & Music Director Candidate \nProgram Notes
URL:https://www.richmondsymphony.com/event/mozart-bruckner-in-glen-allen/
LOCATION:Mount Vernon Baptist Church\, 11220 Nuckols Road\, Glen Allen\, VA 23059
CATEGORIES:Concerts & Events
ATTACH;FMTTYPE=image/jpeg:https://www.richmondsymphony.com/wp-content/uploads/2019/04/Anthony-McGill.jpg
ORGANIZER;CN="Richmond Symphony":MAILTO:patronservices@richmondsymphony.com
GEO:37.6806233;-77.5849561
X-APPLE-STRUCTURED-LOCATION;VALUE=URI;X-ADDRESS=Mount Vernon Baptist Church 11220 Nuckols Road Glen Allen VA 23059;X-APPLE-RADIUS=500;X-TITLE=11220 Nuckols Road:geo:-77.5849561,37.6806233
END:VEVENT
BEGIN:VEVENT
DTSTART;TZID=America/New_York:20200118T200000
DTEND;TZID=America/New_York:20200118T223000
DTSTAMP:20260419T230135
CREATED:20190207T213056Z
LAST-MODIFIED:20200116T144839Z
UID:15729-1579377600-1579386600@www.richmondsymphony.com
SUMMARY:Pops 3: Journey Into the Cosmos
DESCRIPTION:Experience the sights and sounds of the final frontier on a journey with the Richmond Symphony! Hear music from Holst\, John Williams\, and many others as the orchestra explores outer space and celebrates NASA’s six-decade journey to connect humanity to the cosmos. \nLearn more about Ankush Kumar Bahl\, Conductor.
URL:https://www.richmondsymphony.com/event/journey-into-the-cosmos/
LOCATION:Carpenter Theatre\, 612 East Grace Street\, Richmond \, VA\, 23219\, United States
CATEGORIES:Currents,Pops
ATTACH;FMTTYPE=image/png:https://www.richmondsymphony.com/wp-content/uploads/2019/02/Promo-Image.png
GEO:37.5415432;-77.43695
X-APPLE-STRUCTURED-LOCATION;VALUE=URI;X-ADDRESS=Carpenter Theatre 612 East Grace Street Richmond  VA 23219 United States;X-APPLE-RADIUS=500;X-TITLE=612 East Grace Street:geo:-77.43695,37.5415432
END:VEVENT
BEGIN:VEVENT
DTSTART;TZID=America/New_York:20200125T110000
DTEND;TZID=America/New_York:20200125T130000
DTSTAMP:20260419T230135
CREATED:20190207T202340Z
LAST-MODIFIED:20191213T212510Z
UID:15553-1579950000-1579957200@www.richmondsymphony.com
SUMMARY:LolliPops 3: It’s a Symphony Sing-A-Long!
DESCRIPTION:You are the star of the show for a “karaoke style” concert featuring some of your child’s favorite music! \nJoin us at 10am for a free pre-concert festival\, featuring our Instrument Petting Zoo and enjoy interactive activities for the whole family that will enhance your concert experience. \nThe pre-concert festival for this performance will feature: \nThe Greater Richmond Children’s Choir for caroling\nPuppets Off Broad for crafting goat puppets from The Sound of Music\nActivities\, crafts\, face painting\, give-aways and more from Atlantic Union Bank\, Children’s Hospital of Richmond\, PBS Kids\, SOAR 365\, and Richmond Family Magazine! \nThis hour-long show starts at 11 AM. An ASL interpreter is available at each performance\, and these shows are now sensory-friendly! \nLearn more about Chia-Hsuan Lin\, Conductor.
URL:https://www.richmondsymphony.com/event/symphony-sing-long/
LOCATION:Carpenter Theatre\, 612 East Grace Street\, Richmond \, VA\, 23219\, United States
CATEGORIES:Atlantic Union Bank LolliPops,Education & Community
ATTACH;FMTTYPE=image/jpeg:https://www.richmondsymphony.com/wp-content/uploads/2019/02/LP3.jpg
GEO:37.5415432;-77.43695
X-APPLE-STRUCTURED-LOCATION;VALUE=URI;X-ADDRESS=Carpenter Theatre 612 East Grace Street Richmond  VA 23219 United States;X-APPLE-RADIUS=500;X-TITLE=612 East Grace Street:geo:-77.43695,37.5415432
END:VEVENT
BEGIN:VEVENT
DTSTART;TZID=America/New_York:20200126T150000
DTEND;TZID=America/New_York:20200126T173000
DTSTAMP:20260419T230135
CREATED:20200121T204650Z
LAST-MODIFIED:20200121T204738Z
UID:20116-1580050800-1580059800@www.richmondsymphony.com
SUMMARY:Special Concert: Fundraiser for Powhatan Education Foundation
DESCRIPTION:The Richmond Symphony Orchestra is coming back to Powhatan High School for a concert benefiting the Powhatan Education Foundation (PEF) and the music program in Powhatan County Public Schools. This is our fourth show and it has quickly become a community favorite. The 2018 performance received rave reviews and we are thrilled to have the Symphony return to perform a blend of classic as well as contemporary pieces. \nHighlights from the program include Allegro con brio from Symphony No. 5 by Beethoven\, Cowboys Overture by John Williams and selections from Oklahoma by Rodgers and Hammerstein. The Richmond Symphony will be performing a matinee show that is sure to appeal to music fans of all ages. \nAll proceeds from this event will support PEF’s mission of supporting innovation and creativity in Powhatan County Public Schools. This includes funding student scholarships\, teacher innovation grants\, and music education programs. \nCome join us for a wonderful afternoon of music and at the same time help further the education of students in Powhatan County!
URL:https://www.richmondsymphony.com/event/special-concert-fundraiser-for-powhatan-education-foundation/
LOCATION:Powhatan High School\, 1800 Judes Ferry Road\, Powhatan\, VA\, 23139\, United States
ATTACH;FMTTYPE=image/jpeg:https://www.richmondsymphony.com/wp-content/uploads/2020/01/blehh.jpg
END:VEVENT
BEGIN:VEVENT
DTSTART;TZID=America/New_York:20200131T190000
DTEND;TZID=America/New_York:20200131T210000
DTSTAMP:20260419T230135
CREATED:20191101T183303Z
LAST-MODIFIED:20200114T185417Z
UID:19586-1580497200-1580504400@www.richmondsymphony.com
SUMMARY:Tchaikovsky & Mahler in Midlothian
DESCRIPTION:Music Director Candidate Laura Jackson and the Richmond Symphony will travel to Midlothian for a special performance at the Midlothian High School. The program will include selections from Michael Gandolfi’s “The Garden of Cosmic Speculation\,” a work inspired by the eccentric\, physics-based garden in Scotland\, and Tchaikovsky’s Variations on a Rococo Theme featuring the talent of cellist Julian Schwarz. Closing the evening will be Mahler’s Symphony No. 1 in D Major\, “Titan\,” a glorious work echoing nature and song. \nThis concert will be held at*:\nMidlothian High School\n401 Charter Colony Parkway\nMidlothian\, VA 23114 \n*Please note the venue was recently changed. The concert will NOT be held at Kingsway. \n  \nLearn more about Laura Jackson\, Conductor & Music Director Candidate \nLearn more about Julian Schwarz\, Cello. \n  \nSponsored by:
URL:https://www.richmondsymphony.com/event/tchaikovsky-mahler-in-midlothian/
LOCATION:Midlothian High School\, 401 Charter Colony Parkway\, Midlothian\, 23114\, United States
CATEGORIES:Concerts & Events
ATTACH;FMTTYPE=image/jpeg:https://www.richmondsymphony.com/wp-content/uploads/2019/04/Julian-Schwarz-Headshot1.jpg
ORGANIZER;CN="Richmond Symphony":MAILTO:patronservices@richmondsymphony.com
END:VEVENT
END:VCALENDAR