BEGIN:VCALENDAR
VERSION:2.0
PRODID:-//Richmond Symphony - ECPv6.15.1//NONSGML v1.0//EN
CALSCALE:GREGORIAN
METHOD:PUBLISH
X-WR-CALNAME:Richmond Symphony
X-ORIGINAL-URL:https://www.richmondsymphony.com
X-WR-CALDESC:Events for Richmond Symphony
REFRESH-INTERVAL;VALUE=DURATION:PT1H
X-Robots-Tag:noindex
X-PUBLISHED-TTL:PT1H
BEGIN:VTIMEZONE
TZID:America/New_York
BEGIN:DAYLIGHT
TZOFFSETFROM:-0500
TZOFFSETTO:-0400
TZNAME:EDT
DTSTART:20200308T070000
END:DAYLIGHT
BEGIN:STANDARD
TZOFFSETFROM:-0400
TZOFFSETTO:-0500
TZNAME:EST
DTSTART:20201101T060000
END:STANDARD
END:VTIMEZONE
BEGIN:VEVENT
DTSTART;TZID=America/New_York:20200201T200000
DTEND;TZID=America/New_York:20200201T223000
DTSTAMP:20260419T213721
CREATED:20190207T211706Z
LAST-MODIFIED:20200129T161505Z
UID:15493-1580587200-1580596200@www.richmondsymphony.com
SUMMARY:Altria Masterworks 5: Laura Jackson
DESCRIPTION:Welcome Music Director Candidate Laura Jackson as she leads the Richmond Symphony in an electrifying program\, beginning with selections from Michael Gandolfi’s The Garden of Cosmic Speculation\, a work inspired by the eccentric\, physics-based garden in Scotland. Concert cellist Julian Schwarz\, who is also Assistant Professor of Cello at the Shenandoah Conservatory (Winchester\, VA)\, will bring his incredible talent to Tchaikovsky’s Variations on a Rococo Theme. Closing the evening will be Mahler’s Symphony No. 1 in D Major\, “Titan\,” a glorious work echoing nature and song. \nA pre-concert talk will take place by Laura Jackson at 7 p.m. in Carpenter Theatre. \nLearn more about Laura Jackson\, Conductor. \nFor more information about Julian Schwarz\, please visit: www.julianschwarz.com.  \n \n 
URL:https://www.richmondsymphony.com/event/laura-jackson-conductor-julian-schwarz-cello/
LOCATION:Carpenter Theatre\, 612 East Grace Street\, Richmond \, VA\, 23219\, United States
CATEGORIES:Concerts & Events,Masterworks Series
ATTACH;FMTTYPE=image/png:https://www.richmondsymphony.com/wp-content/uploads/2019/02/Laura-Jackson.png
GEO:37.5415432;-77.43695
X-APPLE-STRUCTURED-LOCATION;VALUE=URI;X-ADDRESS=Carpenter Theatre 612 East Grace Street Richmond  VA 23219 United States;X-APPLE-RADIUS=500;X-TITLE=612 East Grace Street:geo:-77.43695,37.5415432
END:VEVENT
BEGIN:VEVENT
DTSTART;TZID=America/New_York:20200206T183000
DTEND;TZID=America/New_York:20200206T193000
DTSTAMP:20260419T213721
CREATED:20190207T204911Z
LAST-MODIFIED:20200114T185822Z
UID:15530-1581013800-1581017400@www.richmondsymphony.com
SUMMARY:Rush Hour 3
DESCRIPTION:The Richmond Symphony continues its partnership with Hardywood Park Craft Brewery in its third Rush Hour concert of the season.  Unwind after work and enjoy craft beer\, food and great music\, as the Symphony performs in Hardywood’s tasting room. Led by Music Director Candidate Laura Jackson\, the program will feature Richmond Symphony’s own Concertmaster Daisuke Yamamoto and Principal Violist Molly Sharp on Mozart’s Sinfonia Concertante in E-flat Major\, K. 364\, in addition to works by Britten\, Bartók\, and Gabriela Lena Frank. \nCover charge is $20 and can be purchased by calling 804.788.1212; online at www.richmondsymphony.com; or onsite beginning 90 minutes before the program. \nFor more information on Laura Jackson\, please visit: www.laurajackson.net.
URL:https://www.richmondsymphony.com/event/rush-hour-3-3/
LOCATION:Hardywood Park Craft Brewery Richmond\, 2408-2410 Ownby Lane\, Richmond\, VA\, 23220\, United States
CATEGORIES:Currents,Hardywood
ATTACH;FMTTYPE=image/jpeg:https://www.richmondsymphony.com/wp-content/uploads/2019/02/IMG_0643.jpg
END:VEVENT
BEGIN:VEVENT
DTSTART;TZID=America/New_York:20200208T183000
DTEND;TZID=America/New_York:20200208T220000
DTSTAMP:20260419T213721
CREATED:20191101T201257Z
LAST-MODIFIED:20200115T215923Z
UID:19597-1581186600-1581199200@www.richmondsymphony.com
SUMMARY:For the Love of Music Gala 2020
DESCRIPTION:Join the Richmond Symphony in an elegant evening of cocktails\, dinner\, entertainment and silent and live auctions honoring Campaign 20×20 Co-Chairs Elizabeth Cabell Jennings and Jose Luis Murillo. All funds raised through the auctions will benefit the Symphony’s artistic\, educational and community engagement programs\, and help keep performances excellent\, affordable\, and even free. \n  \nIndividual tickets are $300\, and tables are $3\,000.  For more information or to purchase tickets\, please contact Holly Fleming at hfleming@richmondsymphony.com or 804-788-4717 ext. 146. \nEvent details:\n6:30 pm | Cocktails & Silent Auction\n7:30 pm | Dinner\, Remarks & Live Auction\n9:00 pm | Post-Dinner Entertainment \n  \n\n  \nThank you to our generous sponsors: \nPRESENTING SPONSOR: \n \nSUPPORTING SPONSORS: \nTroutman Sanders\nCovington Travel\nKPMG\nCowardin’s\nDeloitte\nM&T Bank\nNewmarket\nPatient First\nSpider Management\nTCV Trust & Wealth Management\nUniversity of Richmond \n  \nIN-KIND SPONSORS \nCharles Schwarzschild Jewelers\nHardywood Park Craft Brewery\nTommy’s Garden \n  \n  \nHONORARY HOSTS: \nDavenport & Company and Bucci Zeugner\nHunton Andrews Kurth LLP\, Mary Lloyd & Randy Parks\, and Watson Seaman\nThe Perry Family and VAMAC\nAnne Kenny-Urban & Bill Urban \n 
URL:https://www.richmondsymphony.com/event/legacyofmusic/
LOCATION:Science Museum of Virginia\, 2500 W Broad St\, Richmond \, VA\, 23220\, United States
ATTACH;FMTTYPE=image/png:https://www.richmondsymphony.com/wp-content/uploads/2019/11/Web.png
ORGANIZER;CN="Richmond Symphony":MAILTO:patronservices@richmondsymphony.com
END:VEVENT
BEGIN:VEVENT
DTSTART;TZID=America/New_York:20200209T150000
DTEND;TZID=America/New_York:20200209T170000
DTSTAMP:20260419T213721
CREATED:20190207T210439Z
LAST-MODIFIED:20200424T165444Z
UID:15521-1581260400-1581267600@www.richmondsymphony.com
SUMMARY:Metro 3
DESCRIPTION:Savor small-ensemble favorites in an intimate setting at Randolph-Macon College in Ashland\, Va. Led by Music Director Candidate Laura Johnson\, the program includes Mozart’s Sinfonia Concertante in E-flat Major\, K. 364\, featuring Richmond Symphony Concertmaster Daisuke Yamamoto and Principal Violist Molly Sharp. Also on the program are string orchestra works with an international flair by Gabriela Lena Frank\, Britten and Bartók. \nGeneral admission is $22 for adults; $20 for seniors and active military members; and $10 for children and college students.  For more information or to purchase tickets\, please visit www.richmondsymphony.com or call 804.788.1212.  Tickets can also be purchased onsite starting 90 minutes before the program. \n  \nA pre-concert talk will take place by Laura Jackson at 2 p.m. in Sun Trust Theater\, Brock Commons (304 Henry St). \n  \nLearn more about Laura Jackson\, Conductor.\nLearn more about Daisuke Yamamoto\, Violin.\nLearn more about Molly Sharp\, Viola. \nSpecial thanks to our media sponsor:
URL:https://www.richmondsymphony.com/event/metro-3/
LOCATION:Blackwell Auditorium at Randolph-Macon College\, 	204 Henry Street\, Ashland\, VA\, 23005\, United States
CATEGORIES:Concerts & Events,Metro Series
ATTACH;FMTTYPE=image/png:https://www.richmondsymphony.com/wp-content/uploads/2019/02/Laura-Jackson.png
END:VEVENT
BEGIN:VEVENT
DTSTART;TZID=America/New_York:20200209T193000
DTEND;TZID=America/New_York:20200209T210000
DTSTAMP:20260419T213721
CREATED:20190201T175312Z
LAST-MODIFIED:20200114T190123Z
UID:15863-1581276600-1581282000@www.richmondsymphony.com
SUMMARY:Richmond Symphony Youth Orchestra Side-By-Side With The Richmond Symphony
DESCRIPTION:The Richmond Symphony Youth Orchestra will partner up with the Richmond Symphony for a learning opportunity of a lifetime.  Join these up-and-coming and professional musicians as they play Berlioz’ Symphonie fantastique\, among other beloved works.  Admission is free\, and tickets are not required.\n\nConcert is free and open to the public. No ticket required. \nClick here to learn more about our Youth Orchestra program. \n \n 
URL:https://www.richmondsymphony.com/event/richmond-symphony-youth-orchestra-side-side-richmond-symphony-2/
LOCATION:Carpenter Theatre\, 612 East Grace Street\, Richmond \, VA\, 23219\, United States
CATEGORIES:Richmond Symphony Youth Orchestra
ATTACH;FMTTYPE=image/jpeg:https://www.richmondsymphony.com/wp-content/uploads/2019/02/19-20-Youth-Orchestra-Program-Promo-Images-02.jpg
GEO:37.5415432;-77.43695
X-APPLE-STRUCTURED-LOCATION;VALUE=URI;X-ADDRESS=Carpenter Theatre 612 East Grace Street Richmond  VA 23219 United States;X-APPLE-RADIUS=500;X-TITLE=612 East Grace Street:geo:-77.43695,37.5415432
END:VEVENT
BEGIN:VEVENT
DTSTART;TZID=America/New_York:20200214T190000
DTEND;TZID=America/New_York:20200214T210000
DTSTAMP:20260419T213721
CREATED:20191001T200412Z
LAST-MODIFIED:20191001T200412Z
UID:19282-1581706800-1581714000@www.richmondsymphony.com
SUMMARY:Swan Lake
DESCRIPTION:Regarded by many as the pinnacle of classical ballet\, Swan Lake opens on Valentine’s Day for four performances only. Xu Yan and Li Wentao\, guest artists from the National Ballet of China\, will share the stage with our incredible dancers\, furthering the connections forged on our 2015 tour to China. \nFeaturing a spirited prince\, beautiful swan queen\, and evil sorcerer\, this timeless tale of the struggle between good and evil has captivated ballet audiences for over 125 years. Tchaikovsky’s lush score and moonlit images of impossible grace weave together to create an unforgettable story of passion\, illusion\, and mystery.
URL:https://www.richmondsymphony.com/event/swan-lake/
LOCATION:Carpenter Theatre\, 612 East Grace Street\, Richmond \, VA\, 23219\, United States
ATTACH;FMTTYPE=image/jpeg:https://www.richmondsymphony.com/wp-content/uploads/2019/10/Swan-Lake.jpg
GEO:37.5415432;-77.43695
X-APPLE-STRUCTURED-LOCATION;VALUE=URI;X-ADDRESS=Carpenter Theatre 612 East Grace Street Richmond  VA 23219 United States;X-APPLE-RADIUS=500;X-TITLE=612 East Grace Street:geo:-77.43695,37.5415432
END:VEVENT
BEGIN:VEVENT
DTSTART;TZID=America/New_York:20200215T140000
DTEND;TZID=America/New_York:20200215T140000
DTSTAMP:20260419T213721
CREATED:20191001T200553Z
LAST-MODIFIED:20191001T200553Z
UID:19286-1581775200-1581775200@www.richmondsymphony.com
SUMMARY:Swan Lake
DESCRIPTION:Regarded by many as the pinnacle of classical ballet\, Swan Lake opens on Valentine’s Day for four performances only. Xu Yan and Li Wentao\, guest artists from the National Ballet of China\, will share the stage with our incredible dancers\, furthering the connections forged on our 2015 tour to China. \nFeaturing a spirited prince\, beautiful swan queen\, and evil sorcerer\, this timeless tale of the struggle between good and evil has captivated ballet audiences for over 125 years. Tchaikovsky’s lush score and moonlit images of impossible grace weave together to create an unforgettable story of passion\, illusion\, and mystery.
URL:https://www.richmondsymphony.com/event/swan-lake-2/
LOCATION:Carpenter Theatre\, 612 East Grace Street\, Richmond \, VA\, 23219\, United States
ATTACH;FMTTYPE=image/jpeg:https://www.richmondsymphony.com/wp-content/uploads/2019/10/Swan-Lake.jpg
GEO:37.5415432;-77.43695
X-APPLE-STRUCTURED-LOCATION;VALUE=URI;X-ADDRESS=Carpenter Theatre 612 East Grace Street Richmond  VA 23219 United States;X-APPLE-RADIUS=500;X-TITLE=612 East Grace Street:geo:-77.43695,37.5415432
END:VEVENT
BEGIN:VEVENT
DTSTART;TZID=America/New_York:20200215T140000
DTEND;TZID=America/New_York:20200215T163000
DTSTAMP:20260419T213721
CREATED:20191023T141201Z
LAST-MODIFIED:20200114T190227Z
UID:19472-1581775200-1581784200@www.richmondsymphony.com
SUMMARY:Harry Potter and the Prisoner of Azkaban™ in Concert
DESCRIPTION:The Richmond Symphony will present a full screening of “Harry Potter and the Prisoner of Azkaban™” live in concert. Fans can now experience the thrilling third installment of J.K. Rowling’s classic saga\, accompanied by the music of a live symphony orchestra as Harry soars across the big screen. \nTickets are $52.50-$82.50 and can be purchased by visiting www.altriatheater.com or by calling 804.592.3368. \nHARRY POTTER characters\, names and related indicia are © & ™ Warner Bros. Entertainment Inc. WIZARDING WORLD trademark and logo © & ™ Warner Bros. Entertainment Inc. Publishing Rights © JKR. (s19)
URL:https://www.richmondsymphony.com/event/harry-potter-and-the-prisoner-of-azkaban-in-concert/
LOCATION:Altria Theater\, 6 North Laurel Street\, Richmond \, VA\, 23220\, United States
ATTACH;FMTTYPE=image/jpeg:https://www.richmondsymphony.com/wp-content/uploads/2019/10/HP3_RICH_1200x628_2show.jpg
END:VEVENT
BEGIN:VEVENT
DTSTART;TZID=America/New_York:20200215T190000
DTEND;TZID=America/New_York:20200215T190000
DTSTAMP:20260419T213721
CREATED:20191001T200709Z
LAST-MODIFIED:20191001T200709Z
UID:19288-1581793200-1581793200@www.richmondsymphony.com
SUMMARY:Swan Lake
DESCRIPTION:Regarded by many as the pinnacle of classical ballet\, Swan Lake opens on Valentine’s Day for four performances only. Xu Yan and Li Wentao\, guest artists from the National Ballet of China\, will share the stage with our incredible dancers\, furthering the connections forged on our 2015 tour to China. \nFeaturing a spirited prince\, beautiful swan queen\, and evil sorcerer\, this timeless tale of the struggle between good and evil has captivated ballet audiences for over 125 years. Tchaikovsky’s lush score and moonlit images of impossible grace weave together to create an unforgettable story of passion\, illusion\, and mystery.
URL:https://www.richmondsymphony.com/event/swan-lake-3/
LOCATION:Carpenter Theatre\, 612 East Grace Street\, Richmond \, VA\, 23219\, United States
ATTACH;FMTTYPE=image/jpeg:https://www.richmondsymphony.com/wp-content/uploads/2019/10/Swan-Lake.jpg
GEO:37.5415432;-77.43695
X-APPLE-STRUCTURED-LOCATION;VALUE=URI;X-ADDRESS=Carpenter Theatre 612 East Grace Street Richmond  VA 23219 United States;X-APPLE-RADIUS=500;X-TITLE=612 East Grace Street:geo:-77.43695,37.5415432
END:VEVENT
BEGIN:VEVENT
DTSTART;TZID=America/New_York:20200215T200000
DTEND;TZID=America/New_York:20200215T223000
DTSTAMP:20260419T213721
CREATED:20191023T142320Z
LAST-MODIFIED:20200114T190201Z
UID:19476-1581796800-1581805800@www.richmondsymphony.com
SUMMARY:Harry Potter and the Prisoner of Azkaban™ in Concert
DESCRIPTION:The Richmond Symphony will present a full screening of “Harry Potter and the Prisoner of Azkaban™” live in concert. Fans can now experience the thrilling third installment of J.K. Rowling’s classic saga\, accompanied by the music of a live symphony orchestra as Harry soars across the big screen. \nTickets are $52.50-$82.50 and can be purchased by visiting www.altriatheater.com or by calling 804.592.3368. \nHARRY POTTER characters\, names and related indicia are © & ™ Warner Bros. Entertainment Inc. WIZARDING WORLD trademark and logo © & ™ Warner Bros. Entertainment Inc. Publishing Rights © JKR. (s19)
URL:https://www.richmondsymphony.com/event/harry-potter-and-the-prisoner-of-azkaban-in-concert-2/
LOCATION:Altria Theater\, 6 North Laurel Street\, Richmond \, VA\, 23220\, United States
ATTACH;FMTTYPE=image/jpeg:https://www.richmondsymphony.com/wp-content/uploads/2019/10/HP3_RICH_1200x628_2show.jpg
END:VEVENT
BEGIN:VEVENT
DTSTART;TZID=America/New_York:20200216T140000
DTEND;TZID=America/New_York:20200216T140000
DTSTAMP:20260419T213721
CREATED:20191001T200839Z
LAST-MODIFIED:20191001T200839Z
UID:19290-1581861600-1581861600@www.richmondsymphony.com
SUMMARY:Swan Lake
DESCRIPTION:Regarded by many as the pinnacle of classical ballet\, Swan Lake opens on Valentine’s Day for four performances only. Xu Yan and Li Wentao\, guest artists from the National Ballet of China\, will share the stage with our incredible dancers\, furthering the connections forged on our 2015 tour to China. \nFeaturing a spirited prince\, beautiful swan queen\, and evil sorcerer\, this timeless tale of the struggle between good and evil has captivated ballet audiences for over 125 years. Tchaikovsky’s lush score and moonlit images of impossible grace weave together to create an unforgettable story of passion\, illusion\, and mystery.
URL:https://www.richmondsymphony.com/event/swan-lake-4/
LOCATION:Carpenter Theatre\, 612 East Grace Street\, Richmond \, VA\, 23219\, United States
ATTACH;FMTTYPE=image/jpeg:https://www.richmondsymphony.com/wp-content/uploads/2019/10/Swan-Lake.jpg
GEO:37.5415432;-77.43695
X-APPLE-STRUCTURED-LOCATION;VALUE=URI;X-ADDRESS=Carpenter Theatre 612 East Grace Street Richmond  VA 23219 United States;X-APPLE-RADIUS=500;X-TITLE=612 East Grace Street:geo:-77.43695,37.5415432
END:VEVENT
BEGIN:VEVENT
DTSTART;TZID=America/New_York:20200221T200000
DTEND;TZID=America/New_York:20200221T230000
DTSTAMP:20260419T213721
CREATED:20200206T201632Z
LAST-MODIFIED:20200206T201632Z
UID:20954-1582315200-1582326000@www.richmondsymphony.com
SUMMARY:Cinderella
DESCRIPTION:Being a princess can be exhausting! At least becoming one can… You get a mean stepfather (yep)\, meaner stepsisters (check)\, and a whole lot of chores to do! Of course\, you also get a grand ball\, instant and undying love\, and a really great bracelet too (glass slippers are so yesterday and way too breakable). Break out your tiara and set a date with this ultimate Virginia Opera rags-to-riches tale\, and get ready for a larger-than-life operatic fairytale that’ll have you floating on air and home by midnight. \nApproximate Runtime: 2 hours\, 48 minutes \nSung in Italian with English Supertitles \nThe orchestra for this production is provided by the Richmond Symphony. \nJoin Dr. Glenn Winters for his “Opera Up Close” pre-curtain talk forty-five minutes before each performance for his informative and entertaining insights on each production.
URL:https://www.richmondsymphony.com/event/cinderella/
LOCATION:Dominion Energy Center\, 600 E Grace St\, Richmond\, VA\, 23219\, United States
ATTACH;FMTTYPE=image/jpeg:https://www.richmondsymphony.com/wp-content/uploads/2020/02/Cinderella-at-Opera-Tampa-1.jpg
END:VEVENT
BEGIN:VEVENT
DTSTART;TZID=America/New_York:20200223T143000
DTEND;TZID=America/New_York:20200223T173000
DTSTAMP:20260419T213721
CREATED:20200206T202042Z
LAST-MODIFIED:20200206T202042Z
UID:20957-1582468200-1582479000@www.richmondsymphony.com
SUMMARY:Cinderella
DESCRIPTION:Being a princess can be exhausting! At least becoming one can… You get a mean stepfather (yep)\, meaner stepsisters (check)\, and a whole lot of chores to do! Of course\, you also get a grand ball\, instant and undying love\, and a really great bracelet too (glass slippers are so yesterday and way too breakable). Break out your tiara and set a date with this ultimate Virginia Opera rags-to-riches tale\, and get ready for a larger-than-life operatic fairytale that’ll have you floating on air and home by midnight. \nApproximate Runtime: 2 hours\, 48 minutes \nSung in Italian with English Supertitles \nThe orchestra for this production is provided by the Richmond Symphony. \nJoin Dr. Glenn Winters for his “Opera Up Close” pre-curtain talk forty-five minutes before each performance for his informative and entertaining insights on each production.
URL:https://www.richmondsymphony.com/event/cinderella-7/
LOCATION:Dominion Energy Center\, 600 E Grace St\, Richmond\, VA\, 23219\, United States
ATTACH;FMTTYPE=image/jpeg:https://www.richmondsymphony.com/wp-content/uploads/2020/02/Cinderella-at-Opera-Tampa-1.jpg
END:VEVENT
BEGIN:VEVENT
DTSTART;TZID=America/New_York:20200229T200000
DTEND;TZID=America/New_York:20200229T223000
DTSTAMP:20260419T213721
CREATED:20190207T205531Z
LAST-MODIFIED:20200123T160711Z
UID:15541-1583006400-1583015400@www.richmondsymphony.com
SUMMARY:Pops 4: The Apollo Hall of Fame
DESCRIPTION:For forty years\, the Apollo Theater in Harlem showcased some of the finest black artists in American swing\, jazz\, R&B and pop. The lively and entertaining cover band Jeans n’ Classics will bring back these iconic sounds\, performing songs of Earth\, Wind & Fire\, Marvin Gaye\, Stevie Wonder\, Tina Turner and many more. \nFor more on Jeans n’ Classics\, please visit: www.jeansnclassics.com  \nTickets range from $10-$82 and can be purchased by calling 804.788.1212 or online at www.richmondsymphony.com. \n 
URL:https://www.richmondsymphony.com/event/apollo-hall-fame/
LOCATION:Carpenter Theatre\, 612 East Grace Street\, Richmond \, VA\, 23219\, United States
CATEGORIES:Currents,Pops
ATTACH;FMTTYPE=image/jpeg:https://www.richmondsymphony.com/wp-content/uploads/2019/02/19-20_Symphony-Pops-Promo-Images-04.jpg
GEO:37.5415432;-77.43695
X-APPLE-STRUCTURED-LOCATION;VALUE=URI;X-ADDRESS=Carpenter Theatre 612 East Grace Street Richmond  VA 23219 United States;X-APPLE-RADIUS=500;X-TITLE=612 East Grace Street:geo:-77.43695,37.5415432
END:VEVENT
END:VCALENDAR