BEGIN:VCALENDAR
VERSION:2.0
PRODID:-//Richmond Symphony - ECPv6.15.1//NONSGML v1.0//EN
CALSCALE:GREGORIAN
METHOD:PUBLISH
X-ORIGINAL-URL:https://www.richmondsymphony.com
X-WR-CALDESC:Events for Richmond Symphony
REFRESH-INTERVAL;VALUE=DURATION:PT1H
X-Robots-Tag:noindex
X-PUBLISHED-TTL:PT1H
BEGIN:VTIMEZONE
TZID:America/New_York
BEGIN:DAYLIGHT
TZOFFSETFROM:-0500
TZOFFSETTO:-0400
TZNAME:EDT
DTSTART:20200308T070000
END:DAYLIGHT
BEGIN:STANDARD
TZOFFSETFROM:-0400
TZOFFSETTO:-0500
TZNAME:EST
DTSTART:20201101T060000
END:STANDARD
END:VTIMEZONE
BEGIN:VEVENT
DTSTART;TZID=America/New_York:20200614T143000
DTEND;TZID=America/New_York:20200614T163000
DTSTAMP:20260419T155710
CREATED:20200207T145900Z
LAST-MODIFIED:20200323T191200Z
UID:20962-1592145000-1592152200@www.richmondsymphony.com
SUMMARY:Commonwealth Bluegrass with the Richmond Symphony
DESCRIPTION:Performance has been postponed until further notice. Please visit the Cultural Arts Center in Glen Allen’s website for more information:  \nhttps://www.artsglenallen.com/\nBluegrass and symphony fans unite! Join us this year as The Cultural Arts Center pairs local bluegrass sensation The Commonwealth Bluegrass Band and the Richmond Symphony on the Sara Belle November Stage in this popular annual concert series. Claim your seats today at 804-261-ARTS or www.artsglenallen.com. \nLearn more about Commonwealth Bluegrass
URL:https://www.richmondsymphony.com/event/commonwealth-bluegrass-with-the-richmond-symphony/
LOCATION:The Cultural Arts Center at Glen Allen\, 2880 Mountain Road\, Glen Allen\, 23060 
ATTACH;FMTTYPE=image/jpeg:https://www.richmondsymphony.com/wp-content/uploads/2020/02/Commonwealth-Bluegrass-Band.jpg
END:VEVENT
END:VCALENDAR