BEGIN:VCALENDAR
VERSION:2.0
PRODID:-//Richmond Symphony - ECPv6.15.1//NONSGML v1.0//EN
CALSCALE:GREGORIAN
METHOD:PUBLISH
X-WR-CALNAME:Richmond Symphony
X-ORIGINAL-URL:https://www.richmondsymphony.com
X-WR-CALDESC:Events for Richmond Symphony
REFRESH-INTERVAL;VALUE=DURATION:PT1H
X-Robots-Tag:noindex
X-PUBLISHED-TTL:PT1H
BEGIN:VTIMEZONE
TZID:America/New_York
BEGIN:DAYLIGHT
TZOFFSETFROM:-0500
TZOFFSETTO:-0400
TZNAME:EDT
DTSTART:20200308T070000
END:DAYLIGHT
BEGIN:STANDARD
TZOFFSETFROM:-0400
TZOFFSETTO:-0500
TZNAME:EST
DTSTART:20201101T060000
END:STANDARD
END:VTIMEZONE
BEGIN:VEVENT
DTSTART;TZID=America/New_York:20201113T190000
DTEND;TZID=America/New_York:20201113T203000
DTSTAMP:20260419T081745
CREATED:20200810T154250Z
LAST-MODIFIED:20201110T155603Z
UID:22673-1605294000-1605299400@www.richmondsymphony.com
SUMMARY:Metamorphosen
DESCRIPTION:In a befitting reflection of our shared human experience\, Music Director Valentina Peleggi leads the Richmond Symphony in a program reflecting on the pain and joy of transformation. Program includes works by Strauss and Schubert. \n  \nClick HERE to read more about Valentina Peleggi. \nClick HERE for information regarding our COVID-19 health & safety procedures. \n  \nPlease note that all artists\, programs\, and prices are subject to change without notice. \n  \nhttps://vimeo.com/476003246
URL:https://www.richmondsymphony.com/event/metamorphosen/
LOCATION:Dominion Energy Center\, 600 E Grace St\, Richmond\, VA\, 23219\, United States
CATEGORIES:Concerts & Events,Masterworks Series
ATTACH;FMTTYPE=image/jpeg:https://www.richmondsymphony.com/wp-content/uploads/2020/02/Valentina-Peleggi-©Bo-Lutoslawski.jpg
END:VEVENT
BEGIN:VEVENT
DTSTART;TZID=America/New_York:20201114T200000
DTEND;TZID=America/New_York:20201114T213000
DTSTAMP:20260419T081745
CREATED:20200903T042145Z
LAST-MODIFIED:20201110T152939Z
UID:22929-1605384000-1605389400@www.richmondsymphony.com
SUMMARY:Metamorphosen: Livestream or In-Person
DESCRIPTION:In a befitting reflection of our shared human experience\, Music Director Valentina Peleggi leads the Richmond Symphony in a program reflecting on the pain and joy of transformation. Program includes works by Strauss\, Schubert\, and Wagner. \n  \nClick HERE to read more about Valentina Peleggi. \nClick HERE for information regarding our COVID-19 health & safety procedures. \n  \nPlease note that all artists\, programs\, and prices are subject to change without notice. \n  \nLivestream presented by Altria \n \n  \n  \n  \nhttps://vimeo.com/476003246
URL:https://www.richmondsymphony.com/event/metamorphosen-livestream-or-in-person/
LOCATION:Dominion Energy Center\, 600 E Grace St\, Richmond\, VA\, 23219\, United States
CATEGORIES:Concerts & Events,Masterworks Series
ATTACH;FMTTYPE=image/jpeg:https://www.richmondsymphony.com/wp-content/uploads/2020/02/Valentina-Peleggi-©Bo-Lutoslawski.jpg
END:VEVENT
BEGIN:VEVENT
DTSTART;TZID=America/New_York:20201115T150000
DTEND;TZID=America/New_York:20201115T170000
DTSTAMP:20260419T081745
CREATED:20200810T154543Z
LAST-MODIFIED:20201110T155701Z
UID:22675-1605452400-1605459600@www.richmondsymphony.com
SUMMARY:Metamorphosen
DESCRIPTION:In a befitting reflection of our shared human experience\, Music Director Valentina Peleggi leads the Richmond Symphony in a program reflecting on the pain and joy of transformation. Program includes works by Strauss\, Wagner\, and Schubert. \n  \nClick HERE to read more about Valentina Peleggi. \nClick HERE for information regarding our COVID-19 health & safety procedures. \n  \nPlease note that all artists\, programs\, and prices are subject to change without notice. \n  \nhttps://vimeo.com/476003246
URL:https://www.richmondsymphony.com/event/metamorphosen-3/
LOCATION:Dominion Energy Center\, 600 E Grace St\, Richmond\, VA\, 23219\, United States
CATEGORIES:Concerts & Events,Masterworks Series
ATTACH;FMTTYPE=image/jpeg:https://www.richmondsymphony.com/wp-content/uploads/2020/02/Valentina-Peleggi-©Bo-Lutoslawski.jpg
END:VEVENT
BEGIN:VEVENT
DTSTART;TZID=America/New_York:20201128T110000
DTEND;TZID=America/New_York:20201128T200000
DTSTAMP:20260419T081745
CREATED:20201108T210353Z
LAST-MODIFIED:20201215T143524Z
UID:23639-1606561200-1606593600@www.richmondsymphony.com
SUMMARY:Home for the Holidays Subscription
DESCRIPTION:Bring home the Richmond Symphony this holiday season! Enjoy all three holiday concerts from the comfort of your own home via livestream. After each livestream\, the concerts will remain available on-demand through Jan 8. This special Holiday concert subscription costs $45 and includes: \n\n        The Snowman: Music with Narration\, Saturday\, November 28 @ 11am\n        Let It Snow! The Brass Edition\, Saturday\, December 5 @ 8pm\n        A Baroque Holiday\, Saturday\, December 12 @ 8pm\n\n  \nHOLIDAY CONCERT DETAILS \nThe Snowman: Music with Narration\nSaturday\, November 28 @ 11am\nChia-Hsuan Lin\, Conductor\nAnthony Smith\, Narrator\nJasmin Ward\, Soprano \nKick-off the holiday season with the Richmond Symphony! Hear the charming story of a young boy’s magical friendship with a snowman and other holiday favorites. The Snowman will be presented with narration alongside orchestral performance. Online digital festivities included! Both In-Person and Watch from Home attendees can enjoy the concert online through January. \nPresented by Atlantic Union Bank \n  \nLet It Snow! The Brass Edition\nSaturday\, December 5 @ 8pm\nChia-Hsuan Lin\, Conductor\nAnthony Smith\, Narrator \nJoin the Richmond Symphony for this magical annual holiday tradition the whole family will love. This year the Brass musicians polish their instruments and take center stage for a concert featuring the sounds of the season! Both In-Person and Watch from Home attendees can enjoy the concert online through January. The concert will be approximately 90 minutes long with no intermission. \nSponsored by Hunton Andrews Kurth and The London Company \n  \nA Baroque Holiday\nSaturday\, December 12 @ 8pm\nGeorge Manahan\, Conductor\nDaisuke Yamamoto\, Violin\nDaniel Stipe\, Harpsichord \nGeorge Manahan returns to Richmond for a unique holiday concert full of old-world charm. Experience Vivaldi’s Winter from The Four Seasons and your favorite orchestral movements from Handel’s Messiah. Both In-Person and Watch from Home attendees can enjoy the concert online through January. The concert will be approximately 90 minutes long with no intermission. \nSponsored by the Wauford Group
URL:https://www.richmondsymphony.com/event/home-for-the-holidays-subscription/2020-11-28/
LOCATION:Dominion Energy Center\, 600 E Grace St\, Richmond\, VA\, 23219\, United States
ATTACH;FMTTYPE=image/png:https://www.richmondsymphony.com/wp-content/uploads/2020/11/Holiday-Teaser-2-1-e1605218238938.png
END:VEVENT
END:VCALENDAR