BEGIN:VCALENDAR
VERSION:2.0
PRODID:-//Richmond Symphony - ECPv6.15.1//NONSGML v1.0//EN
CALSCALE:GREGORIAN
METHOD:PUBLISH
X-ORIGINAL-URL:https://www.richmondsymphony.com
X-WR-CALDESC:Events for Richmond Symphony
REFRESH-INTERVAL;VALUE=DURATION:PT1H
X-Robots-Tag:noindex
X-PUBLISHED-TTL:PT1H
BEGIN:VTIMEZONE
TZID:America/New_York
BEGIN:DAYLIGHT
TZOFFSETFROM:-0500
TZOFFSETTO:-0400
TZNAME:EDT
DTSTART:20170312T070000
END:DAYLIGHT
BEGIN:STANDARD
TZOFFSETFROM:-0400
TZOFFSETTO:-0500
TZNAME:EST
DTSTART:20171105T060000
END:STANDARD
END:VTIMEZONE
BEGIN:VEVENT
DTSTART;TZID=America/New_York:20170216T183000
DTEND;TZID=America/New_York:20170216T193000
DTSTAMP:20260419T133617
CREATED:20160216T200858Z
LAST-MODIFIED:20200129T043334Z
UID:4446-1487269800-1487273400@www.richmondsymphony.com
SUMMARY:Rush Hour 3 2017
DESCRIPTION:These one-hour informal concerts at Hardywood Park Craft Brewery return for another great season. Grab a beer\, hit the food trucks and enjoy a great concert in the Hardywood tasting room. \nCover fee is $15 and seating is limited.
URL:https://www.richmondsymphony.com/event/rush-hour-3/2017-02-16/
LOCATION:Hardywood Park Craft Brewery Richmond\, 2408-2410 Ownby Lane\, Richmond\, VA\, 23220\, United States
CATEGORIES:Hardywood
ATTACH;FMTTYPE=image/jpeg:https://www.richmondsymphony.com/wp-content/uploads/2015/02/Hardywood_21.jpg
END:VEVENT
END:VCALENDAR