BEGIN:VCALENDAR
VERSION:2.0
PRODID:-//Richmond Symphony - ECPv6.15.1//NONSGML v1.0//EN
CALSCALE:GREGORIAN
METHOD:PUBLISH
X-WR-CALNAME:Richmond Symphony
X-ORIGINAL-URL:https://www.richmondsymphony.com
X-WR-CALDESC:Events for Richmond Symphony
REFRESH-INTERVAL;VALUE=DURATION:PT1H
X-Robots-Tag:noindex
X-PUBLISHED-TTL:PT1H
BEGIN:VTIMEZONE
TZID:America/New_York
BEGIN:DAYLIGHT
TZOFFSETFROM:-0500
TZOFFSETTO:-0400
TZNAME:EDT
DTSTART:20150308T070000
END:DAYLIGHT
BEGIN:STANDARD
TZOFFSETFROM:-0400
TZOFFSETTO:-0500
TZNAME:EST
DTSTART:20151101T060000
END:STANDARD
BEGIN:DAYLIGHT
TZOFFSETFROM:-0500
TZOFFSETTO:-0400
TZNAME:EDT
DTSTART:20160313T070000
END:DAYLIGHT
BEGIN:STANDARD
TZOFFSETFROM:-0400
TZOFFSETTO:-0500
TZNAME:EST
DTSTART:20161106T060000
END:STANDARD
BEGIN:DAYLIGHT
TZOFFSETFROM:-0500
TZOFFSETTO:-0400
TZNAME:EDT
DTSTART:20170312T070000
END:DAYLIGHT
BEGIN:STANDARD
TZOFFSETFROM:-0400
TZOFFSETTO:-0500
TZNAME:EST
DTSTART:20171105T060000
END:STANDARD
BEGIN:DAYLIGHT
TZOFFSETFROM:-0500
TZOFFSETTO:-0400
TZNAME:EDT
DTSTART:20180311T070000
END:DAYLIGHT
BEGIN:STANDARD
TZOFFSETFROM:-0400
TZOFFSETTO:-0500
TZNAME:EST
DTSTART:20181104T060000
END:STANDARD
BEGIN:DAYLIGHT
TZOFFSETFROM:-0500
TZOFFSETTO:-0400
TZNAME:EDT
DTSTART:20190310T070000
END:DAYLIGHT
BEGIN:STANDARD
TZOFFSETFROM:-0400
TZOFFSETTO:-0500
TZNAME:EST
DTSTART:20191103T060000
END:STANDARD
BEGIN:DAYLIGHT
TZOFFSETFROM:-0500
TZOFFSETTO:-0400
TZNAME:EDT
DTSTART:20200308T070000
END:DAYLIGHT
BEGIN:STANDARD
TZOFFSETFROM:-0400
TZOFFSETTO:-0500
TZNAME:EST
DTSTART:20201101T060000
END:STANDARD
END:VTIMEZONE
BEGIN:VEVENT
DTSTART;TZID=America/New_York:20200215T140000
DTEND;TZID=America/New_York:20200215T163000
DTSTAMP:20260424T181127
CREATED:20191023T141201Z
LAST-MODIFIED:20200114T190227Z
UID:19472-1581775200-1581784200@www.richmondsymphony.com
SUMMARY:Harry Potter and the Prisoner of Azkaban™ in Concert
DESCRIPTION:The Richmond Symphony will present a full screening of “Harry Potter and the Prisoner of Azkaban™” live in concert. Fans can now experience the thrilling third installment of J.K. Rowling’s classic saga\, accompanied by the music of a live symphony orchestra as Harry soars across the big screen. \nTickets are $52.50-$82.50 and can be purchased by visiting www.altriatheater.com or by calling 804.592.3368. \nHARRY POTTER characters\, names and related indicia are © & ™ Warner Bros. Entertainment Inc. WIZARDING WORLD trademark and logo © & ™ Warner Bros. Entertainment Inc. Publishing Rights © JKR. (s19)
URL:https://www.richmondsymphony.com/event/harry-potter-and-the-prisoner-of-azkaban-in-concert/
LOCATION:Altria Theater\, 6 North Laurel Street\, Richmond \, VA\, 23220\, United States
ATTACH;FMTTYPE=image/jpeg:https://www.richmondsymphony.com/wp-content/uploads/2019/10/HP3_RICH_1200x628_2show.jpg
END:VEVENT
BEGIN:VEVENT
DTSTART;TZID=America/New_York:20190504T193000
DTEND;TZID=America/New_York:20190504T193000
DTSTAMP:20260424T181127
CREATED:20181127T153921Z
LAST-MODIFIED:20190410T152409Z
UID:14693-1556998200-1556998200@www.richmondsymphony.com
SUMMARY:Star Wars: A New Hope
DESCRIPTION:The Richmond Symphony will present the Star Wars: A New Hope In Concert featuring screenings of the complete film with Oscar®-winning composer John Williams’ musical score performed live to the film. The concert will be led by acclaimed conductor Keitaro Harada. \nSince the release of the first Star Wars movie nearly 40 years ago\, the Star Wars saga has had a seismic impact on both cinema and culture\, inspiring audiences around the world with its mythic storytelling\, captivating characters\, groundbreaking special effects and iconic musical scores composed by Williams. \nFans will be able to experience the scope and grandeur of this beloved film in a live symphonic concert experience\, when the Star Wars: A New Hope debuts on May 4\, 2019. \nLearn more about Keitaro Harada\, Conductor. \n© 2018 & TM LUCASFILM LTD. ALL RIGHTS RESERVED © DISNEY.
URL:https://www.richmondsymphony.com/event/star-wars-new-hope/
LOCATION:Altria Theater\, 6 North Laurel Street\, Richmond \, VA\, 23220\, United States
CATEGORIES:Currents
ATTACH;FMTTYPE=image/jpeg:https://www.richmondsymphony.com/wp-content/uploads/2018/11/SW_NH_LOGO_banner-For-Website-1.jpg
END:VEVENT
BEGIN:VEVENT
DTSTART;TZID=America/New_York:20190127T130000
DTEND;TZID=America/New_York:20190127T150000
DTSTAMP:20260424T181127
CREATED:20190104T143916Z
LAST-MODIFIED:20190109T210407Z
UID:15294-1548594000-1548601200@www.richmondsymphony.com
SUMMARY:HARRY POTTER AND THE CHAMBER OF SECRETS™
DESCRIPTION:Audiences will be able to relive the magical adventure of Harry Potter’s second year at school like never before. This concert features Harry Potter and the Chamber of Secrets™ in high-definition while the Richmond Symphony performs John Williams’ otherworldly score. Experience the wonder of talking spiders\, scolding letters\, and giant snakes all over again! \n\nHARRY POTTER characters\, names and related indicia are © & ™ Warner Bros. Entertainment Inc. J.K. ROWLING`S WIZARDING WORLD™ J.K. Rowling and Warner Bros. Entertainment Inc. Publishing Rights © JKR. (s18)
URL:https://www.richmondsymphony.com/event/harry-potter-chamber-secrets-3/
LOCATION:Altria Theater\, 6 North Laurel Street\, Richmond \, VA\, 23220\, United States
ATTACH;FMTTYPE=image/jpeg:https://www.richmondsymphony.com/wp-content/uploads/2019/01/Website-01-2.jpg
END:VEVENT
BEGIN:VEVENT
DTSTART;TZID=America/New_York:20190126T193000
DTEND;TZID=America/New_York:20190126T223000
DTSTAMP:20260424T181128
CREATED:20180910T182312Z
LAST-MODIFIED:20190109T210452Z
UID:13595-1548531000-1548541800@www.richmondsymphony.com
SUMMARY:HARRY POTTER AND THE CHAMBER OF SECRETS™
DESCRIPTION:Audiences will be able to relive the magical adventure of Harry Potter’s second year at school like never before. This concert features Harry Potter and the Chamber of Secrets™ in high-definition while the Richmond Symphony performs John Williams’ otherworldly score. Experience the wonder of talking spiders\, scolding letters\, and giant snakes all over again! \n\nHARRY POTTER characters\, names and related indicia are © & ™ Warner Bros. Entertainment Inc. J.K. ROWLING`S WIZARDING WORLD™ J.K. Rowling and Warner Bros. Entertainment Inc. Publishing Rights © JKR. (s18)
URL:https://www.richmondsymphony.com/event/harry-potter-chamber-secrets/
LOCATION:Altria Theater\, 6 North Laurel Street\, Richmond \, VA\, 23220\, United States
ATTACH;FMTTYPE=image/jpeg:https://www.richmondsymphony.com/wp-content/uploads/2019/01/Website-01-2.jpg
END:VEVENT
BEGIN:VEVENT
DTSTART;TZID=America/New_York:20181211T193000
DTEND;TZID=America/New_York:20181211T213000
DTSTAMP:20260424T181128
CREATED:20181129T210245Z
LAST-MODIFIED:20181207T204902Z
UID:14725-1544556600-1544563800@www.richmondsymphony.com
SUMMARY:Cirque Musica Holiday presents Wonderland
DESCRIPTION:CIRQUE MUSICA HOLIDAY presents Wonderland is a fun-filled concert experience for the whole family featuring the talented cast of Cirque Musica accompanied by holiday songs performed by the Richmond Symphony. \nAudiences will journey into a visual world of “Wonderland” with amazing acrobats\, aerialists\, hilarious hijinks and holiday cheer. The show blends the spellbinding grace and daredevil athleticism of today’s greatest circus performers with the sensory majesty of a symphony orchestra performing the greatest holiday music of all time.
URL:https://www.richmondsymphony.com/event/cirque-musica-holiday-presents-wonderland/
LOCATION:Altria Theater\, 6 North Laurel Street\, Richmond \, VA\, 23220\, United States
ATTACH;FMTTYPE=image/jpeg:https://www.richmondsymphony.com/wp-content/uploads/2018/11/CMHW_1200x628.jpg
END:VEVENT
BEGIN:VEVENT
DTSTART;TZID=America/New_York:20180909T190000
DTEND;TZID=America/New_York:20180909T210000
DTSTAMP:20260424T181128
CREATED:20180518T214743Z
LAST-MODIFIED:20180521T133307Z
UID:12445-1536519600-1536526800@www.richmondsymphony.com
SUMMARY:4U - A Symphonic Celebration of Prince
DESCRIPTION:April 21\, 2016 will live in infamy as the day we lost a genius\, an icon\, a legend. Prince is widely regarded as one of the best musicians ever to live\, and one of the greatest showmen of all time. His music makes up the soundtracks of our lives- from the parties of our youth to our weddings; and we share his music with our children who repeat the cycle. Great music lives on forever\, and\, it’s with this in mind that we introduce “4U: A Symphonic Celebration of Prince.”\n\nThe first and only estate-approved Prince celebration\, 4U will present the music of Prince like never before\, with a full symphony orchestra.  Throughout the course of the evening Prince’s extensive musical catalog will be represented\, we’ll hear his greatest hits as well as some of his lesser known gems in this musical celebration. Questlove\, an avid Prince fan\, has helped curate the music and arrangements that will be played by the Richmond Symphony.\n\n\nThis concert is being produced by the Altria Theater. Please call the Altria Theater Box Office at 804.592.3384×3 for more information.
URL:https://www.richmondsymphony.com/event/4u-symphonic-celebration-prince/
LOCATION:Altria Theater\, 6 North Laurel Street\, Richmond \, VA\, 23220\, United States
ATTACH;FMTTYPE=image/jpeg:https://www.richmondsymphony.com/wp-content/uploads/2018/05/Richmond-Prince_4U_620x620_edited.jpg
END:VEVENT
BEGIN:VEVENT
DTSTART;TZID=America/New_York:20180211T130000
DTEND;TZID=America/New_York:20180211T160000
DTSTAMP:20260424T181128
CREATED:20171218T154441Z
LAST-MODIFIED:20180208T171359Z
UID:9010-1518354000-1518364800@www.richmondsymphony.com
SUMMARY:HARRY POTTER AND THE SORCERER’S STONE™
DESCRIPTION:The Harry Potter™ film series is one of those once-in-a-lifetime cultural phenomena that continues to delight millions of fans around the world. The concert will feature The Richmond Symphony Orchestra performing every note from Harry Potter and the Sorcerer’s Stone™. Audiences will be able to relive the magic of the film in high-definition on a giant screen while hearing the orchestra perform John Williams’ unforgettable score. \nHARRY POTTER characters\, names and related indicia are © & ™ Warner Bros. Entertainment Inc. J.K. ROWLING`S WIZARDING WORLD™ J.K. Rowling and Warner Bros. Entertainment Inc. Publishing Rights © JKR. (s17)
URL:https://www.richmondsymphony.com/event/harry-potter-sorcerers-stone/2018-02-11/
LOCATION:Altria Theater\, 6 North Laurel Street\, Richmond \, VA\, 23220\, United States
ORGANIZER;CN="Richmond Symphony":MAILTO:patronservices@richmondsymphony.com
END:VEVENT
BEGIN:VEVENT
DTSTART;TZID=America/New_York:20180210T140000
DTEND;TZID=America/New_York:20180210T170000
DTSTAMP:20260424T181128
CREATED:20170725T205402Z
LAST-MODIFIED:20180212T142740Z
UID:9005-1518271200-1518282000@www.richmondsymphony.com
SUMMARY:HARRY POTTER AND THE SORCERER’S STONE™
DESCRIPTION:The Harry Potter™ film series is one of those once-in-a-lifetime cultural phenomena that continues to delight millions of fans around the world. The concert will feature The Richmond Symphony Orchestra performing every note from Harry Potter and the Sorcerer’s Stone™. Audiences will be able to relive the magic of the film in high-definition on a giant screen while hearing the orchestra perform John Williams’ unforgettable score. \nHARRY POTTER characters\, names and related indicia are © & ™ Warner Bros. Entertainment Inc. J.K. ROWLING`S WIZARDING WORLD™ J.K. Rowling and Warner Bros. Entertainment Inc. Publishing Rights © JKR. (s17)
URL:https://www.richmondsymphony.com/event/harry-potter-and-the-sorcerers-stone/2018-02-10/
LOCATION:Altria Theater\, 6 North Laurel Street\, Richmond \, VA\, 23220\, United States
ATTACH;FMTTYPE=image/jpeg:https://www.richmondsymphony.com/wp-content/uploads/2017/07/HP_RICH_600x400.jpg
END:VEVENT
BEGIN:VEVENT
DTSTART;TZID=America/New_York:20171008T190000
DTEND;TZID=America/New_York:20171008T210000
DTSTAMP:20260424T181128
CREATED:20170621T153835Z
LAST-MODIFIED:20170818T150808Z
UID:9009-1507489200-1507496400@www.richmondsymphony.com
SUMMARY:Pokémon: Symphonic Evolutions
DESCRIPTION:Brought to life by the Richmond Symphony Orchestra\, Pokémon: Symphonic Evolutions gives fans and newcomers of all ages the chance to experience the evolution of the Pokémon franchise like never before.  Meet up with friends of all ages to catch\, battle and trade Pokémon from your favorite games.  All-new orchestral arrangements and carefully timed visuals draw from recent and classic Pokémon video games.
URL:https://www.richmondsymphony.com/event/pokemon-symphonic-evolutions/
LOCATION:Altria Theater\, 6 North Laurel Street\, Richmond \, VA\, 23220\, United States
ATTACH;FMTTYPE=image/jpeg:https://www.richmondsymphony.com/wp-content/uploads/2017/06/600-wide-E-blast.jpg
END:VEVENT
BEGIN:VEVENT
DTSTART;TZID=America/New_York:20170225T200000
DTEND;TZID=America/New_York:20170225T223000
DTSTAMP:20260424T181128
CREATED:20160627T134332Z
LAST-MODIFIED:20170215T210355Z
UID:5801-1488052800-1488061800@www.richmondsymphony.com
SUMMARY:Music of David Bowie
DESCRIPTION:The genius of David Bowie’s innovative range of musical styles influenced multiple generations of groundbreaking music. Now\, hear his iconic music performed as never before with the Richmond Symphony featuring a guest conductor and a full rock band; taking you on a symphonic odyssey that pays tribute to the legendary musician and epic storyteller David Bowie. \n  \nBrent Havens\, guest conductor bio\nTony Vincent\, vocalist bio
URL:https://www.richmondsymphony.com/event/music-of-david-bowie/
LOCATION:Altria Theater\, 6 North Laurel Street\, Richmond \, VA\, 23220\, United States
ATTACH;FMTTYPE=image/jpeg:https://www.richmondsymphony.com/wp-content/uploads/2016/06/web_Dav.jpg
END:VEVENT
BEGIN:VEVENT
DTSTART;TZID=America/New_York:20161029T200000
DTEND;TZID=America/New_York:20161029T220000
DTSTAMP:20260424T181128
CREATED:20160216T200158Z
LAST-MODIFIED:20161020T154050Z
UID:4570-1477771200-1477778400@www.richmondsymphony.com
SUMMARY:Windborne's Music of Whitney Houston
DESCRIPTION:The Guinness World Records named Whitney Houston as the most-awarded female act of all time\, having sold over 170 million albums\, singles and videos worldwide—a true diva with a powerful voice that touched our hearts and souls. Join the Richmond Symphony and vocal sensation Rashidra Scott for an evening of Whitney’s biggest hits\, including “How Will I Know?\,” “Where Do Broken Hearts Go?” and of course “I Will Always Love You.” \nJoin us at the Altria Theater\, a special location! \nLearn more about Brent Havens\, conductor\nLearn more about Rashidra Scott\, vocalist \nA short message from vocalist Rashidra Scott:
URL:https://www.richmondsymphony.com/event/windbornes-music-of-whitney-houston/
LOCATION:Altria Theater\, 6 North Laurel Street\, Richmond \, VA\, 23220\, United States
CATEGORIES:Pops
ATTACH;FMTTYPE=image/jpeg:https://www.richmondsymphony.com/wp-content/uploads/2016/02/Whitney-Houston-Logo-RGB.jpg
END:VEVENT
BEGIN:VEVENT
DTSTART;TZID=America/New_York:20160220T200000
DTEND;TZID=America/New_York:20160220T223000
DTSTAMP:20260424T181128
CREATED:20150625T195347Z
LAST-MODIFIED:20160126T154659Z
UID:3219-1455998400-1456007400@www.richmondsymphony.com
SUMMARY:Video Games Live
DESCRIPTION:Video Games Live has been rescheduled to Saturday\, February 20 at 8pm. \nThe concert will still be held at the Altria Theater and current Video Games Live tickets will be accepted on the new date. For questions\, please call Richmond Symphony Patron Services at 804-788-1212 or email patronservices@richmondsymphony.com. \nVideo Games Live™ is an award winning immersive concert event featuring music from the most popular video games of all time. Picture the energy and excitement of a rock concert mixed with the power and emotion of a symphony orchestra combined together by the technology\, interactivity\, stunning visuals and fun that only video games can provide. Completely synchronized cutting-edge video screen visuals\, state-of-the-art lighting and special fx\, stage show production and special on-stage interactive segments dazzle crowds of all ages—gamers and non-gamers alike. Pre & Post-Show Activities include a costume contest**\, Guitar Hero competition\, prize give-a-ways\, interactive game demos and the very popular meet-and-greet with top game composers\, designers and industry talent.\n \nCome early and join us for a free pre-concert festival! Enjoy interactive game demos\, a costume contest\, prize give-a-ways and game competitions. \nWant to help choose the set list for Video Games Live? Join the Facebook event page and let us know what you want to hear. You’ll also receive concert updates and chances to win. \n **PATRONS IN COSTUME ARE SUBJECT TO SEARCH**\n\n&amp;amp;amp;amp;amp;amp;amp;amp;amp;lt;/p&amp;amp;amp;amp;amp;amp;amp;amp;amp;gt;&amp;amp;amp;amp;amp;amp;amp;amp;lt;br /&amp;amp;amp;amp;amp;amp;amp;amp;gt;&amp;amp;amp;amp;amp;amp;amp;lt;br /&amp;amp;amp;amp;amp;amp;amp;gt;&amp;amp;amp;amp;amp;amp;lt;br /&amp;amp;amp;amp;amp;amp;gt;&amp;amp;amp;amp;amp;lt;br /&amp;amp;amp;amp;amp;gt;&amp;amp;amp;amp;lt;br /&amp;amp;amp;amp;gt;&amp;amp;amp;lt;br /&amp;amp;amp;gt;&amp;amp;lt;br /&amp;amp;gt;&amp;lt;br /&amp;gt;&lt;br /&gt;<br />\n&amp;amp;amp;amp;amp;amp;amp;amp;amp;lt;div style=”display:inline;”&amp;amp;amp;amp;amp;amp;amp;amp;amp;gt;&amp;amp;amp;amp;amp;amp;amp;amp;lt;br /&amp;amp;amp;amp;amp;amp;amp;amp;gt;&amp;amp;amp;amp;amp;amp;amp;lt;br /&amp;amp;amp;amp;amp;amp;amp;gt;&amp;amp;amp;amp;amp;amp;lt;br /&amp;amp;amp;amp;amp;amp;gt;&amp;amp;amp;amp;amp;lt;br /&amp;amp;amp;amp;amp;gt;&amp;amp;amp;amp;lt;br /&amp;amp;amp;amp;gt;&amp;amp;amp;lt;br /&amp;amp;amp;gt;&amp;amp;lt;br /&amp;amp;gt;&amp;lt;br /&amp;gt;&lt;br /&gt;<br />\n&amp;amp;amp;amp;amp;amp;amp;amp;amp;lt;img height=”1″ width=”1″ style=”border-style:none;” alt=”” src=”//googleads.g.doubleclick.net/pagead/viewthroughconversion/956945834/?value=0&amp;amp;amp;amp;amp;amp;amp;amp;amp;amp;amp;guid=ON&amp;amp;amp;amp;amp;amp;amp;amp;amp;amp;amp;script=0″/&amp;amp;amp;amp;amp;amp;amp;amp;amp;gt;&amp;amp;amp;amp;amp;amp;amp;amp;amp;lt;/div&amp;amp;amp;amp;amp;amp;amp;amp;amp;gt;&amp;amp;amp;amp;amp;amp;amp;amp;lt;br /&amp;amp;amp;amp;amp;amp;amp;amp;gt;&amp;amp;amp;amp;amp;amp;amp;lt;br /&amp;amp;amp;amp;amp;amp;amp;gt;&amp;amp;amp;amp;amp;amp;lt;br /&amp;amp;amp;amp;amp;amp;gt;&amp;amp;amp;amp;amp;lt;br /&amp;amp;amp;amp;amp;gt;&amp;amp;amp;amp;lt;br /&amp;amp;amp;amp;gt;&amp;amp;amp;lt;br /&amp;amp;amp;gt;&amp;amp;lt;br /&amp;amp;gt;&amp;lt;br /&amp;gt;&lt;br /&gt;<br />\n&amp;amp;amp;amp;amp;amp;amp;amp;amp;lt;p&amp;amp;amp;amp;amp;amp;amp;amp;amp;gt;
URL:https://www.richmondsymphony.com/event/video-games-live/
LOCATION:Altria Theater\, 6 North Laurel Street\, Richmond \, VA\, 23220\, United States
ATTACH;FMTTYPE=image/jpeg:https://www.richmondsymphony.com/wp-content/uploads/2015/06/vglconductor.jpg
END:VEVENT
BEGIN:VEVENT
DTSTART;TZID=America/New_York:20150516T180000
DTEND;TZID=America/New_York:20150516T200000
DTSTAMP:20260424T181128
CREATED:20150203T001115Z
LAST-MODIFIED:20150501T141910Z
UID:981-1431799200-1431806400@www.richmondsymphony.com
SUMMARY:Warner Bros. Presents Bugs Bunny at the Symphony II
DESCRIPTION:Created by George Daugherty & David Ka Lik Wong\nBugs Bunny at the Symphony II celebrates the world’s favorite classic Looney Tunes\, projected on the big screen\, while the Richmond Symphony performs their exhilarating\, original Carl Stalling scores LIVE! Conducted by Erik Ochsner and created by George Daugherty and David Ka Lik Wong\, Bugs Bunny at the Symphony II spotlights such iconic classics as What’s Opera\, Doc?\, The Rabbit of Seville\, Rhapsody Rabbit\, Long-Haired Hare\, Show Biz Bugs\, Baton Bunny\, Duck Amuck\, and many others… plus two brand-new\, critically-acclaimed 3D cartoons from Warner Bros.­­—I Tawt I Taw A Puddy Tat and Coyote Falls. And capping it all off are special guest appearances by Tom & Jerry in the Hollywood Bowl. \nTM & © Warner Bros. Entertainment Inc.           (s15) \n  \nConcert Sponsors: \n \n \n \n\n\n\n\n&lt;/p&gt;<br />\n&lt;div style=”display:inline;”&gt;<br />\n&lt;img height=”1″ width=”1″ style=”border-style:none;” alt=”” src=”//googleads.g.doubleclick.net/pagead/viewthroughconversion/956945834/?value=0&amp;amp;guid=ON&amp;amp;script=0″/&gt;&lt;/div&gt;<br />\n&lt;p&gt;
URL:https://www.richmondsymphony.com/event/warner-bros-presents-bugs-bunny-at-the-symphony-ii/
LOCATION:Altria Theater\, 6 North Laurel Street\, Richmond \, VA\, 23220\, United States
END:VEVENT
END:VCALENDAR