BEGIN:VCALENDAR
VERSION:2.0
PRODID:-//Richmond Symphony - ECPv6.15.1//NONSGML v1.0//EN
CALSCALE:GREGORIAN
METHOD:PUBLISH
X-WR-CALNAME:Richmond Symphony
X-ORIGINAL-URL:https://www.richmondsymphony.com
X-WR-CALDESC:Events for Richmond Symphony
REFRESH-INTERVAL;VALUE=DURATION:PT1H
X-Robots-Tag:noindex
X-PUBLISHED-TTL:PT1H
BEGIN:VTIMEZONE
TZID:America/New_York
BEGIN:DAYLIGHT
TZOFFSETFROM:-0500
TZOFFSETTO:-0400
TZNAME:EDT
DTSTART:20150308T070000
END:DAYLIGHT
BEGIN:STANDARD
TZOFFSETFROM:-0400
TZOFFSETTO:-0500
TZNAME:EST
DTSTART:20151101T060000
END:STANDARD
BEGIN:DAYLIGHT
TZOFFSETFROM:-0500
TZOFFSETTO:-0400
TZNAME:EDT
DTSTART:20160313T070000
END:DAYLIGHT
BEGIN:STANDARD
TZOFFSETFROM:-0400
TZOFFSETTO:-0500
TZNAME:EST
DTSTART:20161106T060000
END:STANDARD
END:VTIMEZONE
BEGIN:VEVENT
DTSTART;TZID=America/New_York:20161029T200000
DTEND;TZID=America/New_York:20161029T220000
DTSTAMP:20260424T193511
CREATED:20160216T200158Z
LAST-MODIFIED:20161020T154050Z
UID:4570-1477771200-1477778400@www.richmondsymphony.com
SUMMARY:Windborne's Music of Whitney Houston
DESCRIPTION:The Guinness World Records named Whitney Houston as the most-awarded female act of all time\, having sold over 170 million albums\, singles and videos worldwide—a true diva with a powerful voice that touched our hearts and souls. Join the Richmond Symphony and vocal sensation Rashidra Scott for an evening of Whitney’s biggest hits\, including “How Will I Know?\,” “Where Do Broken Hearts Go?” and of course “I Will Always Love You.” \nJoin us at the Altria Theater\, a special location! \nLearn more about Brent Havens\, conductor\nLearn more about Rashidra Scott\, vocalist \nA short message from vocalist Rashidra Scott:
URL:https://www.richmondsymphony.com/event/windbornes-music-of-whitney-houston/
LOCATION:Altria Theater\, 6 North Laurel Street\, Richmond \, VA\, 23220\, United States
CATEGORIES:Pops
ATTACH;FMTTYPE=image/jpeg:https://www.richmondsymphony.com/wp-content/uploads/2016/02/Whitney-Houston-Logo-RGB.jpg
END:VEVENT
BEGIN:VEVENT
DTSTART;TZID=America/New_York:20160220T200000
DTEND;TZID=America/New_York:20160220T223000
DTSTAMP:20260424T193511
CREATED:20150625T195347Z
LAST-MODIFIED:20160126T154659Z
UID:3219-1455998400-1456007400@www.richmondsymphony.com
SUMMARY:Video Games Live
DESCRIPTION:Video Games Live has been rescheduled to Saturday\, February 20 at 8pm. \nThe concert will still be held at the Altria Theater and current Video Games Live tickets will be accepted on the new date. For questions\, please call Richmond Symphony Patron Services at 804-788-1212 or email patronservices@richmondsymphony.com. \nVideo Games Live™ is an award winning immersive concert event featuring music from the most popular video games of all time. Picture the energy and excitement of a rock concert mixed with the power and emotion of a symphony orchestra combined together by the technology\, interactivity\, stunning visuals and fun that only video games can provide. Completely synchronized cutting-edge video screen visuals\, state-of-the-art lighting and special fx\, stage show production and special on-stage interactive segments dazzle crowds of all ages—gamers and non-gamers alike. Pre & Post-Show Activities include a costume contest**\, Guitar Hero competition\, prize give-a-ways\, interactive game demos and the very popular meet-and-greet with top game composers\, designers and industry talent.\n \nCome early and join us for a free pre-concert festival! Enjoy interactive game demos\, a costume contest\, prize give-a-ways and game competitions. \nWant to help choose the set list for Video Games Live? Join the Facebook event page and let us know what you want to hear. You’ll also receive concert updates and chances to win. \n **PATRONS IN COSTUME ARE SUBJECT TO SEARCH**\n\n&amp;amp;amp;amp;amp;amp;amp;amp;amp;lt;/p&amp;amp;amp;amp;amp;amp;amp;amp;amp;gt;&amp;amp;amp;amp;amp;amp;amp;amp;lt;br /&amp;amp;amp;amp;amp;amp;amp;amp;gt;&amp;amp;amp;amp;amp;amp;amp;lt;br /&amp;amp;amp;amp;amp;amp;amp;gt;&amp;amp;amp;amp;amp;amp;lt;br /&amp;amp;amp;amp;amp;amp;gt;&amp;amp;amp;amp;amp;lt;br /&amp;amp;amp;amp;amp;gt;&amp;amp;amp;amp;lt;br /&amp;amp;amp;amp;gt;&amp;amp;amp;lt;br /&amp;amp;amp;gt;&amp;amp;lt;br /&amp;amp;gt;&amp;lt;br /&amp;gt;&lt;br /&gt;<br />\n&amp;amp;amp;amp;amp;amp;amp;amp;amp;lt;div style=”display:inline;”&amp;amp;amp;amp;amp;amp;amp;amp;amp;gt;&amp;amp;amp;amp;amp;amp;amp;amp;lt;br /&amp;amp;amp;amp;amp;amp;amp;amp;gt;&amp;amp;amp;amp;amp;amp;amp;lt;br /&amp;amp;amp;amp;amp;amp;amp;gt;&amp;amp;amp;amp;amp;amp;lt;br /&amp;amp;amp;amp;amp;amp;gt;&amp;amp;amp;amp;amp;lt;br /&amp;amp;amp;amp;amp;gt;&amp;amp;amp;amp;lt;br /&amp;amp;amp;amp;gt;&amp;amp;amp;lt;br /&amp;amp;amp;gt;&amp;amp;lt;br /&amp;amp;gt;&amp;lt;br /&amp;gt;&lt;br /&gt;<br />\n&amp;amp;amp;amp;amp;amp;amp;amp;amp;lt;img height=”1″ width=”1″ style=”border-style:none;” alt=”” src=”//googleads.g.doubleclick.net/pagead/viewthroughconversion/956945834/?value=0&amp;amp;amp;amp;amp;amp;amp;amp;amp;amp;amp;guid=ON&amp;amp;amp;amp;amp;amp;amp;amp;amp;amp;amp;script=0″/&amp;amp;amp;amp;amp;amp;amp;amp;amp;gt;&amp;amp;amp;amp;amp;amp;amp;amp;amp;lt;/div&amp;amp;amp;amp;amp;amp;amp;amp;amp;gt;&amp;amp;amp;amp;amp;amp;amp;amp;lt;br /&amp;amp;amp;amp;amp;amp;amp;amp;gt;&amp;amp;amp;amp;amp;amp;amp;lt;br /&amp;amp;amp;amp;amp;amp;amp;gt;&amp;amp;amp;amp;amp;amp;lt;br /&amp;amp;amp;amp;amp;amp;gt;&amp;amp;amp;amp;amp;lt;br /&amp;amp;amp;amp;amp;gt;&amp;amp;amp;amp;lt;br /&amp;amp;amp;amp;gt;&amp;amp;amp;lt;br /&amp;amp;amp;gt;&amp;amp;lt;br /&amp;amp;gt;&amp;lt;br /&amp;gt;&lt;br /&gt;<br />\n&amp;amp;amp;amp;amp;amp;amp;amp;amp;lt;p&amp;amp;amp;amp;amp;amp;amp;amp;amp;gt;
URL:https://www.richmondsymphony.com/event/video-games-live/
LOCATION:Altria Theater\, 6 North Laurel Street\, Richmond \, VA\, 23220\, United States
ATTACH;FMTTYPE=image/jpeg:https://www.richmondsymphony.com/wp-content/uploads/2015/06/vglconductor.jpg
END:VEVENT
BEGIN:VEVENT
DTSTART;TZID=America/New_York:20150516T180000
DTEND;TZID=America/New_York:20150516T200000
DTSTAMP:20260424T193511
CREATED:20150203T001115Z
LAST-MODIFIED:20150501T141910Z
UID:981-1431799200-1431806400@www.richmondsymphony.com
SUMMARY:Warner Bros. Presents Bugs Bunny at the Symphony II
DESCRIPTION:Created by George Daugherty & David Ka Lik Wong\nBugs Bunny at the Symphony II celebrates the world’s favorite classic Looney Tunes\, projected on the big screen\, while the Richmond Symphony performs their exhilarating\, original Carl Stalling scores LIVE! Conducted by Erik Ochsner and created by George Daugherty and David Ka Lik Wong\, Bugs Bunny at the Symphony II spotlights such iconic classics as What’s Opera\, Doc?\, The Rabbit of Seville\, Rhapsody Rabbit\, Long-Haired Hare\, Show Biz Bugs\, Baton Bunny\, Duck Amuck\, and many others… plus two brand-new\, critically-acclaimed 3D cartoons from Warner Bros.­­—I Tawt I Taw A Puddy Tat and Coyote Falls. And capping it all off are special guest appearances by Tom & Jerry in the Hollywood Bowl. \nTM & © Warner Bros. Entertainment Inc.           (s15) \n  \nConcert Sponsors: \n \n \n \n\n\n\n\n&lt;/p&gt;<br />\n&lt;div style=”display:inline;”&gt;<br />\n&lt;img height=”1″ width=”1″ style=”border-style:none;” alt=”” src=”//googleads.g.doubleclick.net/pagead/viewthroughconversion/956945834/?value=0&amp;amp;guid=ON&amp;amp;script=0″/&gt;&lt;/div&gt;<br />\n&lt;p&gt;
URL:https://www.richmondsymphony.com/event/warner-bros-presents-bugs-bunny-at-the-symphony-ii/
LOCATION:Altria Theater\, 6 North Laurel Street\, Richmond \, VA\, 23220\, United States
END:VEVENT
END:VCALENDAR